BEGIN:VCALENDAR
VERSION:2.0
PRODID:-//Ortsgemeinde Osburg - ECPv6.15.20//NONSGML v1.0//EN
CALSCALE:GREGORIAN
METHOD:PUBLISH
X-ORIGINAL-URL:https://gemeinde-osburg.de
X-WR-CALDESC:Veranstaltungen für Ortsgemeinde Osburg
REFRESH-INTERVAL;VALUE=DURATION:PT1H
X-Robots-Tag:noindex
X-PUBLISHED-TTL:PT1H
BEGIN:VTIMEZONE
TZID:Europe/Berlin
BEGIN:DAYLIGHT
TZOFFSETFROM:+0100
TZOFFSETTO:+0200
TZNAME:CEST
DTSTART:20180325T010000
END:DAYLIGHT
BEGIN:STANDARD
TZOFFSETFROM:+0200
TZOFFSETTO:+0100
TZNAME:CET
DTSTART:20181028T010000
END:STANDARD
BEGIN:DAYLIGHT
TZOFFSETFROM:+0100
TZOFFSETTO:+0200
TZNAME:CEST
DTSTART:20190331T010000
END:DAYLIGHT
BEGIN:STANDARD
TZOFFSETFROM:+0200
TZOFFSETTO:+0100
TZNAME:CET
DTSTART:20191027T010000
END:STANDARD
BEGIN:DAYLIGHT
TZOFFSETFROM:+0100
TZOFFSETTO:+0200
TZNAME:CEST
DTSTART:20200329T010000
END:DAYLIGHT
BEGIN:STANDARD
TZOFFSETFROM:+0200
TZOFFSETTO:+0100
TZNAME:CET
DTSTART:20201025T010000
END:STANDARD
END:VTIMEZONE
BEGIN:VEVENT
DTSTART;TZID=Europe/Berlin:20190901T093000
DTEND;TZID=Europe/Berlin:20190901T170000
DTSTAMP:20260421T192236
CREATED:20190806T180321Z
LAST-MODIFIED:20190806T180321Z
UID:1971-1567330200-1567357200@gemeinde-osburg.de
SUMMARY:Orientierungsritt vom Reit- und Fahrverein Osburger Hochwald e. V.
DESCRIPTION:Am 01.09.2019 lädt der Reit- und Fahrverein Osburger Hochwald e.V. zum Orientierungsritt ein. \nStart: Sonntag 09.30 Uhr\nGruppe oder Einzeln\nAnreise der Pferde ab Samstag 31.08.2019\, 15 Uhr möglich.\nStartgeld 10€ (Inkl. Verpflegung bei unserem Streckenposten)\nPaddock Anmeldung erforderlich!\, Paddockpreis 5€\nIm Voraus fällig per Banküberweisung! \nReiter im Flower Power Kostüm erhalten eine Überraschung!\nGewöhnlicherweise startest du als Team mit ein oder zwei Mitreitern. Geritten wird nach Hinweisen auf der Strecke. Während der gesamten Strecke bis zum Ziel sind Streckenposten aufgebaut\, bei denen du Aufgaben lösen musst: Geschicklichkeitsprüfungen für Pferd und Reiter oder nur für den Reiter\, dein Wissen rund um das Thema Pferd (beliebt sind Fragen rund um Giftpflanzen\, Zahnkunde etc.) wird getestet. Zwischen den einzelnen Aufgaben hast du die Möglichkeit\, dein Pferd im Gelände zu reiten.\nEs wird ausdrücklich ein Hufbeschlag/-Schutz empfohlen und für Minderjährige Teilnehmer besteht Helmpflicht. Wichtig ist\, dass du dich während und außerhalb des Ritts kameradschaftlich deinen Mitreitern gegenüber verhältst.\nWir freuen uns auf ein spaßig\, buntes Wochenende.
URL:https://gemeinde-osburg.de/event/orientierungsritt-vom-reit-und-fahrverein-osburger-hochwald-e-v/
LOCATION:Reitanlage\, Reitanlage beim Schornsteinwald\, Osburg\, 54317
ATTACH;FMTTYPE=image/jpeg:https://gemeinde-osburg.de/wp-content/uploads/2018/08/Logo_Reitverein.jpg
END:VEVENT
END:VCALENDAR