BEGIN:VCALENDAR
VERSION:2.0
PRODID:-//Ortsgemeinde Osburg - ECPv6.15.20//NONSGML v1.0//EN
CALSCALE:GREGORIAN
METHOD:PUBLISH
X-ORIGINAL-URL:https://gemeinde-osburg.de
X-WR-CALDESC:Veranstaltungen für Ortsgemeinde Osburg
REFRESH-INTERVAL;VALUE=DURATION:PT1H
X-Robots-Tag:noindex
X-PUBLISHED-TTL:PT1H
BEGIN:VTIMEZONE
TZID:Europe/Berlin
BEGIN:DAYLIGHT
TZOFFSETFROM:+0100
TZOFFSETTO:+0200
TZNAME:CEST
DTSTART:20180325T010000
END:DAYLIGHT
BEGIN:STANDARD
TZOFFSETFROM:+0200
TZOFFSETTO:+0100
TZNAME:CET
DTSTART:20181028T010000
END:STANDARD
BEGIN:DAYLIGHT
TZOFFSETFROM:+0100
TZOFFSETTO:+0200
TZNAME:CEST
DTSTART:20190331T010000
END:DAYLIGHT
BEGIN:STANDARD
TZOFFSETFROM:+0200
TZOFFSETTO:+0100
TZNAME:CET
DTSTART:20191027T010000
END:STANDARD
BEGIN:DAYLIGHT
TZOFFSETFROM:+0100
TZOFFSETTO:+0200
TZNAME:CEST
DTSTART:20200329T010000
END:DAYLIGHT
BEGIN:STANDARD
TZOFFSETFROM:+0200
TZOFFSETTO:+0100
TZNAME:CET
DTSTART:20201025T010000
END:STANDARD
END:VTIMEZONE
BEGIN:VEVENT
DTSTART;TZID=Europe/Berlin:20190908T150000
DTEND;TZID=Europe/Berlin:20190908T180000
DTSTAMP:20260421T192021
CREATED:20190820T041408Z
LAST-MODIFIED:20190820T041529Z
UID:2039-1567954800-1567965600@gemeinde-osburg.de
SUMMARY:Osburger Sonntagscafé
DESCRIPTION:Die Ortsgemeinde Osburg lädt ihre Bürgerinnen und Bürger ab 65 Jahren zu Kaffee & Kuchen ein. Der Osburger Sonntagscafé findet am 08.09.2019 ab 15 Uhr im Clubhaus des Tennisverein statt. \nWir freuen uns auf einen geselligen Nachmittag. Es gibt zum Thema Hausnotruf (DRK) Informationen\, Danke an Dieter. Danke auch an den Osburger Tennisclub für die Stellung der Räumlichkeiten sowie an die Helfer und Kuchenspender. \nAus organisatorischen Gründen und da die Teilnehmerzahl durch die Räumlichkeit begrenzt ist\, bitten wir um Anmeldung bei: Silvia Klemens\, Telefon 06500-7755 \nZum Vormerken: Der nächste Sonntagscafé findet am 27.10. im Clubhaus des FSV statt.
URL:https://gemeinde-osburg.de/event/osburger-sonntagscafe-am-08-09-19/
LOCATION:Clubhaus Tennisclub\, Unter Wiesloch 3\, Osburg\, 54317
ATTACH;FMTTYPE=image/jpeg:https://gemeinde-osburg.de/wp-content/uploads/2019/08/Einladung-Sonntagscafe-2019-09-08-e1566274328729.jpg
END:VEVENT
END:VCALENDAR