BEGIN:VCALENDAR
VERSION:2.0
PRODID:-//Ortsgemeinde Osburg - ECPv6.15.20//NONSGML v1.0//EN
CALSCALE:GREGORIAN
METHOD:PUBLISH
X-WR-CALNAME:Ortsgemeinde Osburg
X-ORIGINAL-URL:https://gemeinde-osburg.de
X-WR-CALDESC:Veranstaltungen für Ortsgemeinde Osburg
REFRESH-INTERVAL;VALUE=DURATION:PT1H
X-Robots-Tag:noindex
X-PUBLISHED-TTL:PT1H
BEGIN:VTIMEZONE
TZID:Europe/Berlin
BEGIN:DAYLIGHT
TZOFFSETFROM:+0100
TZOFFSETTO:+0200
TZNAME:CEST
DTSTART:20180325T010000
END:DAYLIGHT
BEGIN:STANDARD
TZOFFSETFROM:+0200
TZOFFSETTO:+0100
TZNAME:CET
DTSTART:20181028T010000
END:STANDARD
BEGIN:DAYLIGHT
TZOFFSETFROM:+0100
TZOFFSETTO:+0200
TZNAME:CEST
DTSTART:20190331T010000
END:DAYLIGHT
BEGIN:STANDARD
TZOFFSETFROM:+0200
TZOFFSETTO:+0100
TZNAME:CET
DTSTART:20191027T010000
END:STANDARD
BEGIN:DAYLIGHT
TZOFFSETFROM:+0100
TZOFFSETTO:+0200
TZNAME:CEST
DTSTART:20200329T010000
END:DAYLIGHT
BEGIN:STANDARD
TZOFFSETFROM:+0200
TZOFFSETTO:+0100
TZNAME:CET
DTSTART:20201025T010000
END:STANDARD
END:VTIMEZONE
BEGIN:VEVENT
DTSTART;TZID=Europe/Berlin:20191201T110000
DTEND;TZID=Europe/Berlin:20191201T150000
DTSTAMP:20260419T155424
CREATED:20190415T045339Z
LAST-MODIFIED:20191122T190125Z
UID:1733-1575198000-1575212400@gemeinde-osburg.de
SUMMARY:Winterwanderung rund um Osburg
DESCRIPTION:Geführte Rundwanderung durch den winterlichen Hochwald mit kleinen Leckereien aus der „Wilden Küche“ – Wanderung in Kooperation mit dem Naturpark Saar-Hunsrück.\nWanderungen im Osburger Hochwald haben zu jeder Jahreszeit ihren Reiz – und auch im Winter ist noch einiges los! Rehe\, Wildschweine\, Füchse und andere Tiere ziehen umher und hinterlassen ihre Spuren im Schnee oder auf feuchten Wegen. Im kahlen Geäst der Bäume lassen sich Vögel oder ihre Nester und Nisthöhlen nun sogar besser entdecken als im Sommer. Moose und Flechten sorgen bei genauem Hinsehen für kleine Farbtupfer. \nDie geführte Rundwanderung wird ca. 6 km lang sein\, sie führt über Waldwege und ist nicht für Kinderwägen oder Rollstühle geeignet. \nZum Abschluß gibt es kleine Leckereien aus der „Wilden Küche“ und heiße Getränke \nTermin 1. Dezember 2019\, 11.00 bis ca. 15.00 Uhr\nFür wen Alle Interessierten (Mindestalter 8 Jahre\, Teilnehmende unter 18 Jahren nur in Begleitung)\nGruppengröße max. 14 Teilnehmende\nMitzubringen sind Witterungsangepasste Kleidung\, festes Schuhwerk\, Getränke und Essen für unterwegs\nStartpunkt Osburg – genauer Treffpunkt wird bei Anmeldung mitgeteilt\nPreis 10 Euro pro Person incl. kleinen Leckereien aus der „Wilden Küche“\nErmäßigung Ermäßigung für Familien und Menschen mit geringem Einkommen\nAnmeldung\nBis 28. November beim Naturpark Saar-Hunsrück\, Telefon 06503/9214-0\, danach noch kurzfristig direkt Beate Stoff\, Link: https://www.silva-mirabilis.de/was-wann-wo/winterwanderung-in-osburg.html
URL:https://gemeinde-osburg.de/event/winterwanderung-rund-um-osburg/
ATTACH;FMTTYPE=image/jpeg:https://gemeinde-osburg.de/wp-content/uploads/2019/04/Fruehling2019-e1555303747371.jpg
ORGANIZER;CN="silva-mirabilis - Beate Stoff":MAILTO:info@silva-mirabilis.de
END:VEVENT
END:VCALENDAR