BEGIN:VCALENDAR
VERSION:2.0
PRODID:-//Ortsgemeinde Osburg - ECPv6.15.20//NONSGML v1.0//EN
CALSCALE:GREGORIAN
METHOD:PUBLISH
X-WR-CALNAME:Ortsgemeinde Osburg
X-ORIGINAL-URL:https://gemeinde-osburg.de
X-WR-CALDESC:Veranstaltungen für Ortsgemeinde Osburg
REFRESH-INTERVAL;VALUE=DURATION:PT1H
X-Robots-Tag:noindex
X-PUBLISHED-TTL:PT1H
BEGIN:VTIMEZONE
TZID:Europe/Berlin
BEGIN:DAYLIGHT
TZOFFSETFROM:+0100
TZOFFSETTO:+0200
TZNAME:CEST
DTSTART:20190331T010000
END:DAYLIGHT
BEGIN:STANDARD
TZOFFSETFROM:+0200
TZOFFSETTO:+0100
TZNAME:CET
DTSTART:20191027T010000
END:STANDARD
BEGIN:DAYLIGHT
TZOFFSETFROM:+0100
TZOFFSETTO:+0200
TZNAME:CEST
DTSTART:20200329T010000
END:DAYLIGHT
BEGIN:STANDARD
TZOFFSETFROM:+0200
TZOFFSETTO:+0100
TZNAME:CET
DTSTART:20201025T010000
END:STANDARD
BEGIN:DAYLIGHT
TZOFFSETFROM:+0100
TZOFFSETTO:+0200
TZNAME:CEST
DTSTART:20210328T010000
END:DAYLIGHT
BEGIN:STANDARD
TZOFFSETFROM:+0200
TZOFFSETTO:+0100
TZNAME:CET
DTSTART:20211031T010000
END:STANDARD
END:VTIMEZONE
BEGIN:VEVENT
DTSTART;TZID=Europe/Berlin:20200224T140000
DTEND;TZID=Europe/Berlin:20200224T140000
DTSTAMP:20260421T114328
CREATED:20191201T195017Z
LAST-MODIFIED:20200211T052841Z
UID:2352-1582552800-1582552800@gemeinde-osburg.de
SUMMARY:Rosenmontagsumzug mit anschließender Fastnachtsparty
DESCRIPTION:Der Rosenmontagsumzug startet am 24. Februar 2020 um 14.00 Uhr. Aufstellung ist ab 13.00 Uhr in der Kapellenstraße. Von da aus gehen wir den gewohnten Weg (Kapellenstraße\, Unterstraße\, Marktplatz\, Klemensstraße\, Steilstraße\, Bergstraße\, Marktplatz). \nIm Anschluss an den Fastnachtsumzug freuen wir uns auf eine stimmungsvolle Fastnachtsparty im Vereinshaus des MGV\, Eintritt frei. \nDie Interessengemeinschaft Osburger Besenbinder & Männergesangverein Osburg
URL:https://gemeinde-osburg.de/event/rosenmontagsumzug-mit-anschliessender-fastnachtsparty/
LOCATION:Vereinshaus des MGV\, Unterstr. 9a\, Osburg\, Rheinland-Pfalz\, 54317\, Deutschland
ATTACH;FMTTYPE=image/jpeg:https://gemeinde-osburg.de/wp-content/uploads/2020/01/Rosenmontag2020-e1580030722852.jpg
END:VEVENT
END:VCALENDAR