BEGIN:VCALENDAR
VERSION:2.0
PRODID:-//Ortsgemeinde Osburg - ECPv6.15.20//NONSGML v1.0//EN
CALSCALE:GREGORIAN
METHOD:PUBLISH
X-WR-CALNAME:Ortsgemeinde Osburg
X-ORIGINAL-URL:https://gemeinde-osburg.de
X-WR-CALDESC:Veranstaltungen für Ortsgemeinde Osburg
REFRESH-INTERVAL;VALUE=DURATION:PT1H
X-Robots-Tag:noindex
X-PUBLISHED-TTL:PT1H
BEGIN:VTIMEZONE
TZID:Europe/Berlin
BEGIN:DAYLIGHT
TZOFFSETFROM:+0100
TZOFFSETTO:+0200
TZNAME:CEST
DTSTART:20240331T010000
END:DAYLIGHT
BEGIN:STANDARD
TZOFFSETFROM:+0200
TZOFFSETTO:+0100
TZNAME:CET
DTSTART:20241027T010000
END:STANDARD
BEGIN:DAYLIGHT
TZOFFSETFROM:+0100
TZOFFSETTO:+0200
TZNAME:CEST
DTSTART:20250330T010000
END:DAYLIGHT
BEGIN:STANDARD
TZOFFSETFROM:+0200
TZOFFSETTO:+0100
TZNAME:CET
DTSTART:20251026T010000
END:STANDARD
BEGIN:DAYLIGHT
TZOFFSETFROM:+0100
TZOFFSETTO:+0200
TZNAME:CEST
DTSTART:20260329T010000
END:DAYLIGHT
BEGIN:STANDARD
TZOFFSETFROM:+0200
TZOFFSETTO:+0100
TZNAME:CET
DTSTART:20261025T010000
END:STANDARD
END:VTIMEZONE
BEGIN:VEVENT
DTSTART;TZID=Europe/Berlin:20250403T190000
DTEND;TZID=Europe/Berlin:20250403T190000
DTSTAMP:20260426T015829
CREATED:20241225T123143Z
LAST-MODIFIED:20241231T163918Z
UID:9493-1743706800-1743706800@gemeinde-osburg.de
SUMMARY:Tourneekonzert - Deborah Woodson und der Pop-Rock-Gospelchor "Blue Notes"
DESCRIPTION:Stand 31.12.2024: Kartenvorverkauf hat begonnen \nAm Donnerstag \, den 03.04.2025 \, findet ein Konzert der Extraklasse statt\, für das jetzt der Kartenvorverkauf begonnen hat. „BLACK & WHITE Gospel“ ist das Thema einer Tournee der Gospel-Legende Deborah Woodson. Gemeinsam mit dem Pop-Rock-Gospelchor „Blue Notes“ und ihren „Gospelmates“ wird sie ein gewaltiges musikalisches Feuerwerk abbrennen\, das moderne Rhythmen und Songs genauso streift wie den traditionellen „Black Gospel“. Das Konzert beginnt um 19.00 Uhr in der Kirche St. Clemens Osburg. \nKarten gibt es im Vorverkauf bei Bäckerei Blau in Osburg\, Bäckerei Blau in Reinsfeld\, Eleganza  in Osburg oder online hier und bei Ticket Regional\, natürlich auch an der Abendkasse\, sofern dann noch Karten vorhanden sind. \nDeborah Woodson ist Sängerin und Komponistin. Sie lebt heute in Köln und ist bekannt in diversen Musicalrollen. Sie war Jurymitglied und Solistin bei den „Gospelawards“ 2004 bis 2006\, zudem Vocal-Coach bei DSDS / RTL sowie kürzlich als Jurorin in der Show „All together now“. Sie hat eigene Alben veröffentlicht und ist Buchautorin (z. B. „Wendepunkte“ Brunnen Verlag). Ihr Statement: „Gospel ist meine Herzensmusik!“ \n„Die Tournee ist so konzipiert\, dass engagierte lokale Sängerinnen und Sänger im Gospelchor mit den Profis aus der Musikbranche zusammenkommen“\, beschreibt Chorleiter Frank Weilerswist vom Chor „Blue Notes“ das Konzept. „Als unser Chor für das gemeinsame Konzert angefragt wurde\, fanden wir das sehr interessant. Deborah Woodson\, ihre Gospelmates und unser Chor Blue Notes das wird ein Highlight für die Region Hochwald & Trier. Die musikalische Bandbreite unseres Chores ist groß.“\, so Weilerswist.
URL:https://gemeinde-osburg.de/event/chor-blue-notes-mit-deborah-woodson/
LOCATION:Osburg Kirche\, Klemensstr. 35\, Osburg\, Rheinland-Pfalz\, 54317\, Deutschland
ATTACH;FMTTYPE=image/jpeg:https://gemeinde-osburg.de/wp-content/uploads/2024/12/Gospelkonzert-Black-White-1-seitig-Plakat-_-2-seitig-Flyer-0001.jpg
END:VEVENT
END:VCALENDAR