BEGIN:VCALENDAR
VERSION:2.0
PRODID:-//Ortsgemeinde Osburg - ECPv6.15.20//NONSGML v1.0//EN
CALSCALE:GREGORIAN
METHOD:PUBLISH
X-ORIGINAL-URL:https://gemeinde-osburg.de
X-WR-CALDESC:Veranstaltungen für Ortsgemeinde Osburg
REFRESH-INTERVAL;VALUE=DURATION:PT1H
X-Robots-Tag:noindex
X-PUBLISHED-TTL:PT1H
BEGIN:VTIMEZONE
TZID:Europe/Berlin
BEGIN:DAYLIGHT
TZOFFSETFROM:+0100
TZOFFSETTO:+0200
TZNAME:CEST
DTSTART:20240331T010000
END:DAYLIGHT
BEGIN:STANDARD
TZOFFSETFROM:+0200
TZOFFSETTO:+0100
TZNAME:CET
DTSTART:20241027T010000
END:STANDARD
BEGIN:DAYLIGHT
TZOFFSETFROM:+0100
TZOFFSETTO:+0200
TZNAME:CEST
DTSTART:20250330T010000
END:DAYLIGHT
BEGIN:STANDARD
TZOFFSETFROM:+0200
TZOFFSETTO:+0100
TZNAME:CET
DTSTART:20251026T010000
END:STANDARD
BEGIN:DAYLIGHT
TZOFFSETFROM:+0100
TZOFFSETTO:+0200
TZNAME:CEST
DTSTART:20260329T010000
END:DAYLIGHT
BEGIN:STANDARD
TZOFFSETFROM:+0200
TZOFFSETTO:+0100
TZNAME:CET
DTSTART:20261025T010000
END:STANDARD
END:VTIMEZONE
BEGIN:VEVENT
DTSTART;TZID=Europe/Berlin:20250406T110000
DTEND;TZID=Europe/Berlin:20250406T180000
DTSTAMP:20260426T020024
CREATED:20241225T123707Z
LAST-MODIFIED:20250330T184653Z
UID:9498-1743937200-1743962400@gemeinde-osburg.de
SUMMARY:4. Osburger Frühlingsmarkt
DESCRIPTION:Der 4. Osburger Frühlingsmarkt präsentiert ein vielfältiges Sortiment mit 36 Ausstellern. Angeboten werden Kunst\, Geschenke\, Dekoration\, Leckereien\, Schmuck\, Holz-/Handarbeiten und Vieles mehr… lassen Sie sich überraschen. \nEs werden u. a. Dekorationen aus Gießmasse\, Kleinkinderbekleidung\, Taschen\, Filzschuhe\, Näharbeiten\, Osterdeko\, Bedruckte Textilien\, Personalisiertes\, Wein\, Sekt\, Liköre\, Brände\, ätherische therapeutische Öle\, handgemachte Seifen\, Edelsteinschmuck\, Imkerei- und Bienenprodukte\, Honig und Honigprodukte\, frisches Popcorn\, Ebbes-von-Hei-Produkte\, Holzdekorationen\, Deko- und Geschenkartikel\, Home-Deco\, Selbstgenähtes und Selbstgestricktes\, Bilder und Malerei\, Blumen\, Frühlingskörbchen\, Türkränze\, Kunst\, Tassen\, Häkeltiere\, Häkeleier\, Perlen/Achat/Schiefer/Kork\, Leckereien aus der Küche (Marmeladen\, Chutney\, Gewürze\, Essig etc.\, Bilder mit Kieselsteinen\, Grusskarten\, Stofftiere\, gravierte Dinge… \nUnter anderem könnt ihr probieren oder verkosten… Wein\, Likör und Brände\, Duftproben ätherischer Öle\, Honig- und Honig-Bonbons\, Personalisierungen bei verschiedenen Produkten\, Proben von Marmelade/Chutney/Sirup und Likören…\nFür die Kinder gibt es u. a. ein Bastelangebot der JuKi Osburg e.V. im oberen Eingangsbereich.\nZudem können die Kinder Kuscheltiere selber machen sowie werden zeitweise Luftballontiere angeboten. \nFür das leibliche Wohl ist Bestens gesorgt. Wir bieten Kaffee\, Kuchen und Getränke an. Für das Essen sorgt das Gasthaus Schornstein vor dem unteren Eingang. \nWir freuen uns über viele Besucher 🙂\nDanke für die Unterstützung Westenergie #Westenergie \nWir freuen uns auf Sie! \nFür das leibliche Wohl ist bestens gesorgt \nFragen etc. an Silvia Klemens (Organisation & Planung)\, email: osburg-aktiv@gmx.de
URL:https://gemeinde-osburg.de/event/4-osburger-fruehlingsmarkt/
LOCATION:Osburg Mehrzweckhalle\, Schulstraße\, Osburg\, 54317\, Deutschland
ATTACH;FMTTYPE=image/jpeg:https://gemeinde-osburg.de/wp-content/uploads/2024/12/Plakat-scaled.jpg
END:VEVENT
END:VCALENDAR