BEGIN:VCALENDAR
VERSION:2.0
PRODID:-//Ortsgemeinde Osburg - ECPv6.15.20//NONSGML v1.0//EN
CALSCALE:GREGORIAN
METHOD:PUBLISH
X-ORIGINAL-URL:https://gemeinde-osburg.de
X-WR-CALDESC:Veranstaltungen für Ortsgemeinde Osburg
REFRESH-INTERVAL;VALUE=DURATION:PT1H
X-Robots-Tag:noindex
X-PUBLISHED-TTL:PT1H
BEGIN:VTIMEZONE
TZID:Europe/Berlin
BEGIN:DAYLIGHT
TZOFFSETFROM:+0100
TZOFFSETTO:+0200
TZNAME:CEST
DTSTART:20240331T010000
END:DAYLIGHT
BEGIN:STANDARD
TZOFFSETFROM:+0200
TZOFFSETTO:+0100
TZNAME:CET
DTSTART:20241027T010000
END:STANDARD
BEGIN:DAYLIGHT
TZOFFSETFROM:+0100
TZOFFSETTO:+0200
TZNAME:CEST
DTSTART:20250330T010000
END:DAYLIGHT
BEGIN:STANDARD
TZOFFSETFROM:+0200
TZOFFSETTO:+0100
TZNAME:CET
DTSTART:20251026T010000
END:STANDARD
BEGIN:DAYLIGHT
TZOFFSETFROM:+0100
TZOFFSETTO:+0200
TZNAME:CEST
DTSTART:20260329T010000
END:DAYLIGHT
BEGIN:STANDARD
TZOFFSETFROM:+0200
TZOFFSETTO:+0100
TZNAME:CET
DTSTART:20261025T010000
END:STANDARD
END:VTIMEZONE
BEGIN:VEVENT
DTSTART;VALUE=DATE:20250516
DTEND;VALUE=DATE:20250520
DTSTAMP:20260425T225904
CREATED:20241013T133621Z
LAST-MODIFIED:20250505T195723Z
UID:9277-1747353600-1747699199@gemeinde-osburg.de
SUMMARY:37. Osburger Dorf- und Heimatfest
DESCRIPTION:Osburger Kirmes vom 16. – 19. Mai 2025 \n\n\nFreitag\, 16.05.2025 ab 19:30 Uhr\nWE ROCK QUEEN\nEintritt: Vorverkauf: € 12\,– / Abendkasse: € 15\,–\n\nSamstag\, 17.05.2025\n18.30 Uhr Platzkonzert Musikverein Harmonie Osburg e.V.\n20:30 Uhr Viva la Vida\nEintritt: FREI\n\nSonntag 18.05.2025 „Familientag“\n11 Uhr Frühschoppen mit Mittagstisch\nab 14 Uhr Tanzgruppen Kinder (Ballett\, Mini-Dancing Kids\, Dancing-Kids und HipHop)\nab 14 Uhr Kaffee & Kuchen\nab 15 Uhr Unterhaltungsprogramm mit Jörg\nab 18 Uhr 7-Meter-Schießen\nEintritt: FREI\n\nMontag\, 19.05.2025 „Seniorennachmittag und Ausklang“\nab 14 Uhr Kaffee & Kuchen\nab 16 Uhr Unterhaltungsprogramm mit Jörg\nab 19 Uhr Kirmesausklang mit Timeless Classic Rock Unplugged\nEintritt: FREI\n\n\nAn allen Tagen herrscht reges Kirmestreiben mit Autoscooter\, Kinderkarussell und anderen Attraktionen. \nFür Ihr leibliches Wohl ist bestens gesorgt! \n\n\nFreitag\, 16. Mai WE ROCK QUEEN \nVorverkauf: € 12\,– / Abendkasse: € 15\,– \nDer VORVERKAUF ist gestartet:\n• Bäckerei Blau Osburg & Reinsfeld\n• Bäckerei Scherer-Dewald\, Osburg\, Thomm & Trier-Olewig\n• Boxengasse Schweich \nWE ROCK QUEEN – BEST OF QUEEN – THE SHOW GOES ON! \nMit WE ROCK QUEEN hat sich eine außergewöhnliche Konzertproduktion etabliert\, die die Musik der britischen Rocklegende QUEEN in höchster Qualität und mit geradezu mitreißender Spielfreude interpretiert. Losgelöst von rein optischen Effekten setzt WE ROCK QUEEN den Schwerpunkt der Tribute-Show auf die authentische Wiedergabe der Songs. Musikalisch sehr nah am Original\, aber dennoch mit einem erkennbar eigenen Stil. \nWE ROCK QUEEN spielt in einem ca. 2\,5 bis 3-stündigen Konzert die bekanntesten Songs von QUEEN\, einer Band\, die damals\, wie heute die Musikwelt bewegt und sie bis heute geprägt hat. Freddie Mercury galt als einer der bedeutendsten Rocksänger seiner Zeit. Mit seiner Band QUEEN mischte er über 20 Jahre ganz oben in den Hitparaden mit und präsentierte uns eine Reihe unvergesslicher Welthits. Mit WE ROCK QUEEN können die Fans dieser Band das unglaublich breite musikalische Spektrum von Glamrock\, Rock bis hin zu opernhaft anmutenden Stücken noch einmal live erleben. \nHier bieten Musiker der Extraklasse eine ganz besondere Tribute-Show auf höchstem Niveau. Mit Hits wie \n„I Want To Break Free“\, „Radio GaGa“\, dem grandiosen „We Will Rock You“ und „We Are The Champions“ sowie „Bohemian Rhapsody“ (in voller Länge) wird das Konzert selbst für anspruchsvolle QUEEN-Anhänger zu einem ganz besonderen und unvergesslichen Erlebnis. \nBandleader und Gitarrist Frank Rohles gehörte zur Originalbesetzung des QUEEN-Musicals „We Will Rock You“ in Köln. Bassist Erhard Wollmann sorgt für den John Deacon-typischen Bass-Sound und bildet zusammen mit Schlagzeuger Henning Marien die rhythmische Basis für die komplexen QUEEN-Songs. Die Keyboards besetzt Lothar Boenke\, ein erfahrener Keyboarder\, der bereits in vielen Musikproduktionen aktiv war – u. a. in verschiedenen Tributeband-Projekten. Frontmann und Lead-Stimme von WE ROCK QUEEN ist Aaron Perry. Der sympathische Engländer arbeitet seit 2008 als Vocal-Coach und professioneller Sänger in diversen Bands in Deutschland. In seinem musikalischen Schaffen war und ist Freddie Mercury stets Maßstab und Leitbild. Mit seiner Interpretation macht Aaron den Facettenreichtum dieser Jahrhundertstimme für das Publikum live erlebbar. \nFrank Rohles wurde als Gitarrist in der Originalbesetzung von „We Will Rock You“ von Brian May und Roger Taylor persönlich ausgewählt! \nDer musikalische Leiter der Formation WE ROCK QUEEN ist als langjähriger Freund von QUEEN–Gitarrist Brian May und aufgrund seiner Tätigkeit als Supervisor und Gitarrist des Musicals „We Will Rock You“ geradezu prädestiniert dazu\, die Musik von QUEEN mit all ihren musikalischen Facetten in einer ausdrucksstarken Tributeshow auf die Bühne zu bringen. \nOfficial Website: www.werock-queen.de\nFacebook-Fanpage: www.facebook.com / we.rock.queen\nFotograf: Heiko Kapeller\nFotorechte: We Rock GbR \n\nSamstag\, 17. Mai – Viva La Vida Partyband \nViva La Vida rockt die Osburger Kirmes 2025 \nAm Samstag\, 17.05.2025 ab 20.00 Uhr steht die bekannte Band Viva La Vida auf der Bühne der Osburger Kirmes 2025 und sorgt für mitreißende Partystimmung. \nViva La Vida – die sieben Vollblutmusiker mit langjähriger Bühnen- Livemusik Erfahrung bieten mit ihrer dynamischen Bühnenpräsenz zeitlose Klassiker und aktuelle Hits\, die sie mit ihrer eigenen Note interpretieren und damit ihr Publikum begeistern. \nViva La Vida ist nicht nur der Name der Band\, es ist ihr Lebensgefühl\, das sie immer wieder spürbar an ihr Publikum vermittelt. Grund genug\, um die Band live zu erleben. \nWann: Samstag\, 17.05.2025 ab 20:00 Uhr\nWo: Festplatz Osburg\nEintritt frei! \n\nSonntag\, 18. Mai – Familientag \n\nMontag\, 19. Mai – TIMELESS \n\n\nTIMELESS – Osburger Kirmes 2025\n\n\nEs gibt diese Titel die Generationen überdauern\, die in mehr als 3 Jahrzehnten von jeder Generation gesungen worden und heute noch lebendig sind. Zeitlos und emotional immer wieder neu.\nTimeless ist die wohl einzige Band in der Großregion\, die sich genau dieser Musik widmet\, in einem Format das für jeden zugänglich ist – nie zu laut\, nie zu leise\, eben akustisch – unplugged.\n\n\nPurismus gibt den Rock Classics die Aufmerksamkeit die sie verdienen und macht jeden dieser Songs erlebbarer\, lebendiger und haut nah.\n\n\nSeit 17 Jahren stehen die Musiker von Timeless bereits gemeinsam auf der Bühne\, spielen bei öffentlichen sowie privaten Events und begeistern mit Songs von The Police\, Sting\, The Who\, Genesis und eben dieser Generation von Musikern\, die es geschafft haben zeitlos zu bleiben.\n\n\n\nWann: Montag\, 19.05.2025 ab 19 Uhr\nWo: Festplatz Osburg\nEintritt frei
URL:https://gemeinde-osburg.de/event/37-osburger-dorf-und-heimatfest/
LOCATION:Osburg Festplatz\, Unter Wiesloch 1\, Unter Wiesloch 1\, 54317 Osburg\, 54317\, Deutschland
ATTACH;FMTTYPE=image/jpeg:https://gemeinde-osburg.de/wp-content/uploads/2024/10/Osburger-Kirmes_Plakat_2025_A3.jpg
END:VEVENT
END:VCALENDAR