BEGIN:VCALENDAR
VERSION:2.0
PRODID:-//Ortsgemeinde Osburg - ECPv6.15.20//NONSGML v1.0//EN
CALSCALE:GREGORIAN
METHOD:PUBLISH
X-ORIGINAL-URL:https://gemeinde-osburg.de
X-WR-CALDESC:Veranstaltungen für Ortsgemeinde Osburg
REFRESH-INTERVAL;VALUE=DURATION:PT1H
X-Robots-Tag:noindex
X-PUBLISHED-TTL:PT1H
BEGIN:VTIMEZONE
TZID:Europe/Berlin
BEGIN:DAYLIGHT
TZOFFSETFROM:+0100
TZOFFSETTO:+0200
TZNAME:CEST
DTSTART:20240331T010000
END:DAYLIGHT
BEGIN:STANDARD
TZOFFSETFROM:+0200
TZOFFSETTO:+0100
TZNAME:CET
DTSTART:20241027T010000
END:STANDARD
BEGIN:DAYLIGHT
TZOFFSETFROM:+0100
TZOFFSETTO:+0200
TZNAME:CEST
DTSTART:20250330T010000
END:DAYLIGHT
BEGIN:STANDARD
TZOFFSETFROM:+0200
TZOFFSETTO:+0100
TZNAME:CET
DTSTART:20251026T010000
END:STANDARD
BEGIN:DAYLIGHT
TZOFFSETFROM:+0100
TZOFFSETTO:+0200
TZNAME:CEST
DTSTART:20260329T010000
END:DAYLIGHT
BEGIN:STANDARD
TZOFFSETFROM:+0200
TZOFFSETTO:+0100
TZNAME:CET
DTSTART:20261025T010000
END:STANDARD
END:VTIMEZONE
BEGIN:VEVENT
DTSTART;TZID=Europe/Berlin:20250605T183000
DTEND;TZID=Europe/Berlin:20250605T183000
DTSTAMP:20260425T230717
CREATED:20241225T122922Z
LAST-MODIFIED:20250602T074706Z
UID:9490-1749148200-1749148200@gemeinde-osburg.de
SUMMARY:** ABGESAGT ** Kochvorführung "Kochen für die Seele" mit den Landfrauen
DESCRIPTION:!! Die Veranstaltung musste leider kurzfristig ABGESAGT werden !!\nKochvorführung mit der Ernährungsexpertin Rose Bellersheim zum Thema „Kochen für die Seele“ \nEssen für die Seele – wie Essen unsere Stimmung und unser Wohlbefinden beeinflussen kann.\nErnährung und seelische Gesundheit hängen zusammen. Heiße Schokolade\, ein wärmender Eintopf oder ein süß-cremiger Nachtisch sind wahre Seelenwärmer\, wecken Glücksgefühle oder geben uns nach einem anstrengenden Tag ein bisschen Seelenheil zurück. Die qualifizierte Kursleitung überrascht mit Speisen mit „Glücksfaktor“ und ansprechenden Zusammenstellungen. Informationen über stimmungsaufhellende Inhaltsstoffe runden den Vortrag ab. Kostproben und Rezeptblätter verführen zum Nachkochen daheim. \nDer Preis in Höhe von 7 € für Mitglieder/10 € für Nichtmitglieder. Wird vor Ort eingesammelt. \nTermin Donnerstag\, 05.06.2025 um 18.30 Uhr\nOrt: Vereinshaus des MGV Osburg\, Unterstr. 9a\, 54317 Osburg \nAnmeldung an Silvia Klemens\, email: osburg-aktiv@gmx.de oder Handy/Whatsapp: 0177-7504694 oder Annette Schneider Tel. 0160-92725498\nDiese Veranstaltung findet in Kooperation mit der Gemeinde Osburg statt.
URL:https://gemeinde-osburg.de/event/kochvorfuehrung-kochen-fuer-die-seele-mit-den-landfrauen/
LOCATION:Vereinshaus des MGV\, Unterstr. 9a\, Osburg\, Rheinland-Pfalz\, 54317\, Deutschland
END:VEVENT
END:VCALENDAR