BEGIN:VCALENDAR
VERSION:2.0
PRODID:-//Ortsgemeinde Osburg - ECPv6.15.20//NONSGML v1.0//EN
CALSCALE:GREGORIAN
METHOD:PUBLISH
X-ORIGINAL-URL:https://gemeinde-osburg.de
X-WR-CALDESC:Veranstaltungen für Ortsgemeinde Osburg
REFRESH-INTERVAL;VALUE=DURATION:PT1H
X-Robots-Tag:noindex
X-PUBLISHED-TTL:PT1H
BEGIN:VTIMEZONE
TZID:Europe/Berlin
BEGIN:DAYLIGHT
TZOFFSETFROM:+0100
TZOFFSETTO:+0200
TZNAME:CEST
DTSTART:20240331T010000
END:DAYLIGHT
BEGIN:STANDARD
TZOFFSETFROM:+0200
TZOFFSETTO:+0100
TZNAME:CET
DTSTART:20241027T010000
END:STANDARD
BEGIN:DAYLIGHT
TZOFFSETFROM:+0100
TZOFFSETTO:+0200
TZNAME:CEST
DTSTART:20250330T010000
END:DAYLIGHT
BEGIN:STANDARD
TZOFFSETFROM:+0200
TZOFFSETTO:+0100
TZNAME:CET
DTSTART:20251026T010000
END:STANDARD
BEGIN:DAYLIGHT
TZOFFSETFROM:+0100
TZOFFSETTO:+0200
TZNAME:CEST
DTSTART:20260329T010000
END:DAYLIGHT
BEGIN:STANDARD
TZOFFSETFROM:+0200
TZOFFSETTO:+0100
TZNAME:CET
DTSTART:20261025T010000
END:STANDARD
END:VTIMEZONE
BEGIN:VEVENT
DTSTART;TZID=Europe/Berlin:20250906T110000
DTEND;TZID=Europe/Berlin:20250906T170000
DTSTAMP:20260425T150839
CREATED:20250404T165339Z
LAST-MODIFIED:20250809T073948Z
UID:9780-1757156400-1757178000@gemeinde-osburg.de
SUMMARY:Osburger Flohmarkt
DESCRIPTION:Am Samstag\, 06.09.2025\, findet von 11 bis 17 Uhr der 2. Osburger Flohmarkt veranstaltet vom Förderverein und Elternbeirat Kindergarten Osburg mit JuKi Osburg e.V. sowie der Ortsgemeinde Osburg auf dem Festplatz\, Unter Wiesloch 1\, statt. \nDie Anmeldung für einen Verkaufsstand ist per email: osburger-flohmarkt@gmx.de möglich. Bitte geben Sie bei Anmeldung Ihren Wunsch an (mit oder ohne Kuchenspende\, bitte auch welcher Kuchen) sowie Ihre vollständige Adresse und Kontaktdaten (Name\, Telefon\, Email-Adresse etc.). \nWir bieten folgende Verkaufsstand-Möglichkeiten an:\n° Stand 4 x 6 Meter (inkl. Fahrzeug)\, Standgebühr: 20 Euro\n° Stand 4 x 6 Meter (inkl. Fahrzeug)\, mit Kuchenspende Standgebühr: 15 Euro*\n(* Kuchenspenden-Annahme möglich bis Bedarf gedeckt) \nDer Standplatz von 4 x 6 Meter ist entsprechend groß berechnet\, damit Sie ihr Fahrzeug auf dem Standplatz parken können. Die Vergabe der Plätze erfolgt ab 8 Uhr nach Eintreffen vor Ort (keine Wunschplätze oder Platzreservierung). Bei Regen fällt der Flohmarkt aus! \nFür das leibliche Wohl ist mit Kaffee\, Kuchen\, Getränken und Würstchen sowie Popcorn gesorgt. \nWir freuen uns auf viele Besucher.
URL:https://gemeinde-osburg.de/event/osburger-flohmarkt-2/
LOCATION:Osburg Festplatz\, Unter Wiesloch 1\, Unter Wiesloch 1\, 54317 Osburg\, 54317\, Deutschland
ATTACH;FMTTYPE=image/jpeg:https://gemeinde-osburg.de/wp-content/uploads/2025/06/Osburger-Flohmarkt_Plakat_2025.jpeg
END:VEVENT
BEGIN:VEVENT
DTSTART;TZID=Europe/Berlin:20250906T200000
DTEND;TZID=Europe/Berlin:20250906T200000
DTSTAMP:20260425T150839
CREATED:20241225T125541Z
LAST-MODIFIED:20250809T072839Z
UID:9516-1757188800-1757188800@gemeinde-osburg.de
SUMMARY:Jahreskonzert Chor Blue Notes 2025
DESCRIPTION:Nach dem erfolgreichen „Black & White“ Gospelkonzert im April vor ausverkauftem Haus\, laden die „Blue Notes“ unter der Leitung von Frank Weilerswist herzlich zum nächsten Highlight in ihrem 18. Chorjahr ein : \nJahreskonzert 2025\nMotto     :    Black & White\nDatum    :    Samstag\, 6. Sept. 2025\nUhrzeit   :    20:00 Uhr\nOrt         :      Vereinshaus MGV Osburg \nGemeinsames Singen im Chor verbindet – das erleben unsere Akteure seit vielen Jahren. Ganz besonders eindrucksvoll war dies im April\, als wir gemeinsam mit Deborah Woodson und ihrer Band aus Köln auf der Bühne standen. Das dortige Motto „Black & White“ wollen wir mit unserem Jahreskonzert fortführen\, denn \nSingen überwindet Grenzen : Ob jung oder alt\, groß oder klein\, schwarz oder weiß\, arm oder reich – im Chor treffen ganz unterschiedliche Menschen aufeinander und werden eins durch die Musik. \nSingen sprengt Gegensätze : Vorurteile und Schwarz-Weiß-Denken haben bei uns keinen Platz – stattdessen verbinden wir Stimmen\, Kulturen und Geschichten. \nErlebt selbst\, wie sich diese Energie während des Konzertes entfaltet. Freut euch über bekannte Songs internationaler Interpreten\, stimmt bei euren Lieblingsstücken gerne selbst mit ein oder genießt einfach den Moment. Vielleicht nehmt ihr die Botschaft mit nach Hause – oder werdet selbst Teil unseres Chores. \nVor und nach dem Konzert trefft ihr außer unseren Sängerinnen und Sängern sicher noch viele nette Leute bei kühlen Getränken\, einem Aftershow-Spritz und Snacks. Wir freuen uns auf Euch ! \nWebsite      :    www.BlueNotes-Chor.de\nInstagram   :    @Chor_BlueNotes\nFacebook    :    BlueNotes Osburg Chor \nPlakat & Text       :     Ralf Bertges & Frank Weilerswist
URL:https://gemeinde-osburg.de/event/jahreskonzert-chor-blue-notes/
LOCATION:Vereinshaus des MGV\, Unterstr. 9a\, Osburg\, Rheinland-Pfalz\, 54317\, Deutschland
ATTACH;FMTTYPE=image/jpeg:https://gemeinde-osburg.de/wp-content/uploads/2024/12/Blue-Notes-Jahreskonzert-2025-Plakat-scaled.jpg
ORGANIZER;CN="Chor Blue Notes e. V.":MAILTO:BlueNotes-eV@gmx.de
END:VEVENT
END:VCALENDAR