BEGIN:VCALENDAR
VERSION:2.0
PRODID:-//Ortsgemeinde Osburg - ECPv6.15.20//NONSGML v1.0//EN
CALSCALE:GREGORIAN
METHOD:PUBLISH
X-WR-CALNAME:Ortsgemeinde Osburg
X-ORIGINAL-URL:https://gemeinde-osburg.de
X-WR-CALDESC:Veranstaltungen für Ortsgemeinde Osburg
REFRESH-INTERVAL;VALUE=DURATION:PT1H
X-Robots-Tag:noindex
X-PUBLISHED-TTL:PT1H
BEGIN:VTIMEZONE
TZID:Europe/Berlin
BEGIN:DAYLIGHT
TZOFFSETFROM:+0100
TZOFFSETTO:+0200
TZNAME:CEST
DTSTART:20240331T010000
END:DAYLIGHT
BEGIN:STANDARD
TZOFFSETFROM:+0200
TZOFFSETTO:+0100
TZNAME:CET
DTSTART:20241027T010000
END:STANDARD
BEGIN:DAYLIGHT
TZOFFSETFROM:+0100
TZOFFSETTO:+0200
TZNAME:CEST
DTSTART:20250330T010000
END:DAYLIGHT
BEGIN:STANDARD
TZOFFSETFROM:+0200
TZOFFSETTO:+0100
TZNAME:CET
DTSTART:20251026T010000
END:STANDARD
BEGIN:DAYLIGHT
TZOFFSETFROM:+0100
TZOFFSETTO:+0200
TZNAME:CEST
DTSTART:20260329T010000
END:DAYLIGHT
BEGIN:STANDARD
TZOFFSETFROM:+0200
TZOFFSETTO:+0100
TZNAME:CET
DTSTART:20261025T010000
END:STANDARD
END:VTIMEZONE
BEGIN:VEVENT
DTSTART;TZID=Europe/Berlin:20251203T150000
DTEND;TZID=Europe/Berlin:20251203T163000
DTSTAMP:20260423T191539
CREATED:20241225T115701Z
LAST-MODIFIED:20250921T104242Z
UID:9480-1764774000-1764779400@gemeinde-osburg.de
SUMMARY:Singkreis für Senioren
DESCRIPTION:Herzliche Einladung an die Osburger Senioren zum Singkreis\n\nAm 1. Mittwoch des Monats treffen sich um 15 Uhr die Osburger Senioren zum gemeinsamen Singen im Vereinshaus des MGV\, Unterstr. 9a. \nDas Angebot wird auf ehrenamtlicher Basis angeboten und ist kostenfrei. \nWer Spaß am Singen hat\, ist herzlich eingeladen mit zu singen. Wir freuen uns auf Dein Kommen! \n 
URL:https://gemeinde-osburg.de/event/singkreis-fuer-senioren-37/
LOCATION:Vereinshaus des MGV\, Unterstr. 9a\, Osburg\, Rheinland-Pfalz\, 54317\, Deutschland
ATTACH;FMTTYPE=image/jpeg:https://gemeinde-osburg.de/wp-content/uploads/2024/12/Singkreis-Senioren-2025-09.jpg
END:VEVENT
END:VCALENDAR