BEGIN:VCALENDAR
VERSION:2.0
PRODID:-//Ortsgemeinde Osburg - ECPv6.15.20//NONSGML v1.0//EN
CALSCALE:GREGORIAN
METHOD:PUBLISH
X-ORIGINAL-URL:https://gemeinde-osburg.de
X-WR-CALDESC:Veranstaltungen für Ortsgemeinde Osburg
REFRESH-INTERVAL;VALUE=DURATION:PT1H
X-Robots-Tag:noindex
X-PUBLISHED-TTL:PT1H
BEGIN:VTIMEZONE
TZID:Europe/Berlin
BEGIN:DAYLIGHT
TZOFFSETFROM:+0100
TZOFFSETTO:+0200
TZNAME:CEST
DTSTART:20240331T010000
END:DAYLIGHT
BEGIN:STANDARD
TZOFFSETFROM:+0200
TZOFFSETTO:+0100
TZNAME:CET
DTSTART:20241027T010000
END:STANDARD
BEGIN:DAYLIGHT
TZOFFSETFROM:+0100
TZOFFSETTO:+0200
TZNAME:CEST
DTSTART:20250330T010000
END:DAYLIGHT
BEGIN:STANDARD
TZOFFSETFROM:+0200
TZOFFSETTO:+0100
TZNAME:CET
DTSTART:20251026T010000
END:STANDARD
BEGIN:DAYLIGHT
TZOFFSETFROM:+0100
TZOFFSETTO:+0200
TZNAME:CEST
DTSTART:20260329T010000
END:DAYLIGHT
BEGIN:STANDARD
TZOFFSETFROM:+0200
TZOFFSETTO:+0100
TZNAME:CET
DTSTART:20261025T010000
END:STANDARD
END:VTIMEZONE
BEGIN:VEVENT
DTSTART;TZID=Europe/Berlin:20251207T110000
DTEND;TZID=Europe/Berlin:20251207T150000
DTSTAMP:20260423T203837
CREATED:20250302T061327Z
LAST-MODIFIED:20250302T061327Z
UID:9648-1765105200-1765119600@gemeinde-osburg.de
SUMMARY:Winterwanderung rund um Osburg
DESCRIPTION:Geführte Rundwanderung durch den winterlichen Hochwald – Wanderung in Kooperation mit dem Naturpark Saar-Hunsrück\n\n\n\n\n\nWanderungen im Osburger Hochwald haben zu jeder Jahreszeit ihren Reiz – und auch im Winter ist noch einiges los! Rehe\, Wildschweine\, Füchse und andere Tiere ziehen umher und hinterlassen ihre Spuren im Schnee oder auf feuchten Wegen. Im kahlen Geäst der Bäume lassen sich Vögel oder ihre Nester und Nisthöhlen nun sogar besser entdecken als im Sommer. Moose und Flechten sorgen bei genauem Hinsehen für kleine Farbtupfer. \nDie geführte Rundwanderung wird ca. 6 km lang sein\, sie führt über Waldwege und ist nicht für Kinderwägen oder Rollstühle geeignet. \n\n\n\n\n\n\n\nTermin\n7. Dezember 2025\, 11.00 bis ca. 15.00 Uhr\n\n\nFür wen\nAlle Interessierten (Mindestalter 8 Jahre\, Teilnehmende unter 18 Jahren nur in Begleitung)\n\n\nGruppengröße\nmax. 16 Teilnehmende\n\n\nMitzubringen sind\nWitterungsangepasste Kleidung\, festes Schuhwerk\, Getränke und Essen für unterwegs\n\n\nStartpunkt\nOsburg – genauer Treffpunkt wird bei Anmeldung mitgeteilt\n\n\nPreis\n10 Euro pro Person\n\n\nErmäßigung\nErmäßigung für Familien und Menschen mit geringem Einkommen\n\n\n\n\n\n\n\nAnmeldung: Bis 3. Dezember beim Naturpark Saar-Hunsrück\, Telefon 06503/9214-0\, danach noch kurzfristig direkt bei Beate Stoff\, weitere Infos hier.
URL:https://gemeinde-osburg.de/event/winterwanderung-rund-um-osburg-5/
ATTACH;FMTTYPE=image/jpeg:https://gemeinde-osburg.de/wp-content/uploads/2024/03/Winterwanderung.jpg
ORGANIZER;CN="silva-mirabilis - Beate Stoff":MAILTO:info@silva-mirabilis.de
END:VEVENT
END:VCALENDAR