BEGIN:VCALENDAR
VERSION:2.0
PRODID:-//Ortsgemeinde Osburg - ECPv6.15.20//NONSGML v1.0//EN
CALSCALE:GREGORIAN
METHOD:PUBLISH
X-WR-CALNAME:Ortsgemeinde Osburg
X-ORIGINAL-URL:https://gemeinde-osburg.de
X-WR-CALDESC:Veranstaltungen für Ortsgemeinde Osburg
REFRESH-INTERVAL;VALUE=DURATION:PT1H
X-Robots-Tag:noindex
X-PUBLISHED-TTL:PT1H
BEGIN:VTIMEZONE
TZID:Europe/Berlin
BEGIN:DAYLIGHT
TZOFFSETFROM:+0100
TZOFFSETTO:+0200
TZNAME:CEST
DTSTART:20240331T010000
END:DAYLIGHT
BEGIN:STANDARD
TZOFFSETFROM:+0200
TZOFFSETTO:+0100
TZNAME:CET
DTSTART:20241027T010000
END:STANDARD
BEGIN:DAYLIGHT
TZOFFSETFROM:+0100
TZOFFSETTO:+0200
TZNAME:CEST
DTSTART:20250330T010000
END:DAYLIGHT
BEGIN:STANDARD
TZOFFSETFROM:+0200
TZOFFSETTO:+0100
TZNAME:CET
DTSTART:20251026T010000
END:STANDARD
BEGIN:DAYLIGHT
TZOFFSETFROM:+0100
TZOFFSETTO:+0200
TZNAME:CEST
DTSTART:20260329T010000
END:DAYLIGHT
BEGIN:STANDARD
TZOFFSETFROM:+0200
TZOFFSETTO:+0100
TZNAME:CET
DTSTART:20261025T010000
END:STANDARD
END:VTIMEZONE
BEGIN:VEVENT
DTSTART;TZID=Europe/Berlin:20251221T090000
DTEND;TZID=Europe/Berlin:20251221T090000
DTSTAMP:20260423T191608
CREATED:20251210T061532Z
LAST-MODIFIED:20251210T061532Z
UID:10318-1766307600-1766307600@gemeinde-osburg.de
SUMMARY:Adventsfenster HochwaldTrailer e.V. und HVV Osburg
DESCRIPTION:Am Sonntag\, 21.12.2025 findet in der Grillhütte des HVV Osburg (Freizeitanlage Schornstein Wald) ein kleines Adventsfenster in Form eines Jahresabschlussfrühschoppens statt. \nWir treffen uns um 09:00 Uhr im Dorf am Place de Velars (Marktplatz) und spazieren gemeinsam in den Schornstein Wald\, wo uns Kaltgetränke sowie Glühwein und Punsch zu kleinen Preisen erwarten. Personen\, die den Weg nicht zu Fuß gehen können\, können natürlich gerne um 10:00 Uhr eigenständig zur Veranstaltung zur Freizeitanlage kommen.\nJede(r) ist herzlich Willkommen. \nSonntag\, 21.12.2025\, 09:00 Uhr (Fußmarsch ab Marktplatz) / 10:00 Uhr Schornstein Wald\n54317 Osburg\, Freizeitanlage Schornstein Wald \nÜber eine rege Beteiligung auch an der Wanderung zum Frühschoppen würden wir uns sehr freuen. \nStefan Petry\, 1. Vorsitzender HochwaldTrailer e.V.\nAlfons Scheuring\, 1. Vorsitzender Heimat- und Verkehrsverein Osburger Hochwald e. V.
URL:https://gemeinde-osburg.de/event/adventsfenster-hochwaldtrailer-e-v-und-hvv-osburg/
ORGANIZER;CN="Hochwaldtrailer e.V.":MAILTO:info@hochwaldtrailer.de
END:VEVENT
END:VCALENDAR