BEGIN:VCALENDAR
VERSION:2.0
PRODID:-//Ortsgemeinde Osburg - ECPv6.15.20//NONSGML v1.0//EN
CALSCALE:GREGORIAN
METHOD:PUBLISH
X-WR-CALNAME:Ortsgemeinde Osburg
X-ORIGINAL-URL:https://gemeinde-osburg.de
X-WR-CALDESC:Veranstaltungen für Ortsgemeinde Osburg
REFRESH-INTERVAL;VALUE=DURATION:PT1H
X-Robots-Tag:noindex
X-PUBLISHED-TTL:PT1H
BEGIN:VTIMEZONE
TZID:Europe/Berlin
BEGIN:DAYLIGHT
TZOFFSETFROM:+0100
TZOFFSETTO:+0200
TZNAME:CEST
DTSTART:20250330T010000
END:DAYLIGHT
BEGIN:STANDARD
TZOFFSETFROM:+0200
TZOFFSETTO:+0100
TZNAME:CET
DTSTART:20251026T010000
END:STANDARD
BEGIN:DAYLIGHT
TZOFFSETFROM:+0100
TZOFFSETTO:+0200
TZNAME:CEST
DTSTART:20260329T010000
END:DAYLIGHT
BEGIN:STANDARD
TZOFFSETFROM:+0200
TZOFFSETTO:+0100
TZNAME:CET
DTSTART:20261025T010000
END:STANDARD
BEGIN:DAYLIGHT
TZOFFSETFROM:+0100
TZOFFSETTO:+0200
TZNAME:CEST
DTSTART:20270328T010000
END:DAYLIGHT
BEGIN:STANDARD
TZOFFSETFROM:+0200
TZOFFSETTO:+0100
TZNAME:CET
DTSTART:20271031T010000
END:STANDARD
END:VTIMEZONE
BEGIN:VEVENT
DTSTART;TZID=Europe/Berlin:20260314T183000
DTEND;TZID=Europe/Berlin:20260314T183000
DTSTAMP:20260419T172925
CREATED:20251101T102411Z
LAST-MODIFIED:20251101T102411Z
UID:10168-1773513000-1773513000@gemeinde-osburg.de
SUMMARY:Rocknacht in Osburg
DESCRIPTION:Die Rocknacht eröffnen dieses mal die Jungs der Band: \n****** CRUSHER ****** \nCrusher sind Thrasher der bekannten Sorte\, welche Ihren abwechslungsreichen Stil zwischen harten Thrash Riffs und ohrwurmartigen\, melodiösen Gitarrenparts perfekt wiedergibt. \nDie Band präsentiert ihren Stil unverkennbar und dennoch abwechslungsreich. \n  \nAls nächste Band sind wir stolz darauf Euch mit \n***** FALLEN LIES ***** \neinen TopAct aus unserem Nachbarland präsentieren zu können. Als Alternative-Rock Band werden die Luxembourger ein markantes und intensives Klangerlebnis auf der Bühne bieten. \nIhre Musik verwebt nahtlos verschiedene Einflüsse wie Alternative-Rock\, Hardrock & Heavy Metal und bietet dabei eine Mischung aus klaren\, weiblichem Gesang\, schweren Riffs und mitreißenden Gitarrensoli. \nDer Sound von Fallen Lies ist kraftvoll\, melodisch und mitreißend. \n  \nIm Anschluß präsentieren wir die Luxemburger Thrash-Metal-Institution \n***** SCARLET ANGER ***** \nals Headliner des Abends auf der Osburger Bühne. \nDie Band serviert uns Thrash Metal in seiner modernen Form. Ihr Sound verbindet modernen\, melodischen Thrash mit Old-School-Vibes der 90er. \nIhr charakteristischer Stil besteht aus sägenden Riffs\, treibendem Bass\, präzises Drumming\, gepaart mit der rauen Stimme von Sänger Joe Block. \nIhre Songs sind heftig\, deftig und haben eine angenehm düstere Nuance\, haben Groove und Schwung\, alles was dazu gehört\, um heftigst die Nacken zu strapazieren. \nVerpass nicht die Rocknacht in Osburg! \nÜber EventFrog gibt es ab sofort wieder die Online-Tickets im VVK. \nEinfach den QR Code im Flyer scannen. \nWann: 14. März 2026\nOrt: Vereinshaus MGV in Osburg\, Engweg 9\nVVK: 10\,-€ incl. Gebühren\nAKK: 15\,-€\nEinlass ab 18:30\nStart: 19:30
URL:https://gemeinde-osburg.de/event/rocknacht-in-osburg-4/
LOCATION:Vereinshaus des MGV\, Unterstr. 9a\, Osburg\, Rheinland-Pfalz\, 54317\, Deutschland
ATTACH;FMTTYPE=image/jpeg:https://gemeinde-osburg.de/wp-content/uploads/2025/11/FlyerA3-5te-Rocknacht_Ralle-scaled.jpg
ORGANIZER;CN="HMC Heidenecken - Heavy Metal Club Heidenecken e.V.":MAILTO:info@hmc-heidenecken.de
END:VEVENT
END:VCALENDAR