BEGIN:VCALENDAR
VERSION:2.0
PRODID:-//Ortsgemeinde Osburg - ECPv6.15.20//NONSGML v1.0//EN
CALSCALE:GREGORIAN
METHOD:PUBLISH
X-WR-CALNAME:Ortsgemeinde Osburg
X-ORIGINAL-URL:https://gemeinde-osburg.de
X-WR-CALDESC:Veranstaltungen für Ortsgemeinde Osburg
REFRESH-INTERVAL;VALUE=DURATION:PT1H
X-Robots-Tag:noindex
X-PUBLISHED-TTL:PT1H
BEGIN:VTIMEZONE
TZID:Europe/Berlin
BEGIN:DAYLIGHT
TZOFFSETFROM:+0100
TZOFFSETTO:+0200
TZNAME:CEST
DTSTART:20250330T010000
END:DAYLIGHT
BEGIN:STANDARD
TZOFFSETFROM:+0200
TZOFFSETTO:+0100
TZNAME:CET
DTSTART:20251026T010000
END:STANDARD
BEGIN:DAYLIGHT
TZOFFSETFROM:+0100
TZOFFSETTO:+0200
TZNAME:CEST
DTSTART:20260329T010000
END:DAYLIGHT
BEGIN:STANDARD
TZOFFSETFROM:+0200
TZOFFSETTO:+0100
TZNAME:CET
DTSTART:20261025T010000
END:STANDARD
BEGIN:DAYLIGHT
TZOFFSETFROM:+0100
TZOFFSETTO:+0200
TZNAME:CEST
DTSTART:20270328T010000
END:DAYLIGHT
BEGIN:STANDARD
TZOFFSETFROM:+0200
TZOFFSETTO:+0100
TZNAME:CET
DTSTART:20271031T010000
END:STANDARD
END:VTIMEZONE
BEGIN:VEVENT
DTSTART;TZID=Europe/Berlin:20260315T190000
DTEND;TZID=Europe/Berlin:20260315T190000
DTSTAMP:20260421T162128
CREATED:20251229T181339Z
LAST-MODIFIED:20260126T124632Z
UID:10358-1773601200-1773601200@gemeinde-osburg.de
SUMMARY:Y. E. S. - Das neue ökumenische Gospelprojekt 2025/26
DESCRIPTION:Y.E.S. – ein Chorprojekt\, das Menschen über Konfessionsgrenzen hinweg durch Musik verbindet. Eine Kooperation der beiden Pastoralen Räume Hermeskeil und Wittlich\, des Evangelischen Kirchenkreises Simmern-Trarbach sowie des Christlichen Vereins Junger Menschen (CVJM) Traben-Trarbach. \nY.E.S. – Das ist Gottes ‚Ja‘ zu uns und eine Aufforderung\, in unseren unsicheren Zeiten ein ‚Ja‘ zu Hoffnung und Liebe zu sagen! Seit über 15 Jahren laden Rafael Klar und Bernhard Rörich zu dem alle zwei Jahre stattfindenden ökumenischen Gospelprojekt ein. Ein großer Chor\, eine super Band\, motivierte Chorleiter\, gute Stimmung und eine einzigartige Botschaft. \nY.E.S. – Das Gospelprojekt 2026 \nMit einem stimmgewaltigen Chor aus über 100 Stimmen\, einer druckvollen Band\, glänzenden Solisten und einer bewegenden Geschichte geht das neue ökumenische Gospelprojekt Y.E.S. an den Start! In den Liedern aus der Feder von Bernhard Rörich gehen die Sängerinnen und Sänger der Frage nach\, was ist der Mensch\, dass Du (Gott) seiner gedenkst? \nGroßen Jubel wird man hören\, leises Staunen\, lockere Psalmen und tiefe Abgründe – das alles ist Y.E.S.! \nIn sieben Proben wurde aus den vielen Individuen ein großer Chor\, der mit den Solisten und der Band unter der Leitung von Rafael Klar und dem Vocal-Coach Judith Klar zu einem großen Klang verschmilzt. \nUnd natürlich ist das Publikum wieder eingeladen mitzusingen. Hier kann man positive Energie tanken und gestärkt zurück in den Alltag gehen. Das Ganze wird moderiert durch den Komponisten selbst. \nVeranstalter: CVJM Traben-Trarbach e.V. \nVeranstaltungsort: Osburg\, Pfarrkirche St. Clemens\, Klemensstraße 35\, 54317 Osburg \n15.03.2026\, 19.00 Uhr (Sonntag) \nEinlass: 18.00 Uhr \nBesucher bis 18 Jahre erhalten freien Eintritt. Bitte das entsprechende Freiticket buchen. \nTickets sind erhältlich bei www.ticket-regional.de/cvjm-gospel
URL:https://gemeinde-osburg.de/event/y-e-s-das-neue-oekumenische-gospelprojekt-2025-26/
LOCATION:Osburg Kirche\, Klemensstr. 35\, Osburg\, Rheinland-Pfalz\, 54317\, Deutschland
ATTACH;FMTTYPE=image/png:https://gemeinde-osburg.de/wp-content/uploads/2025/12/YES-Gospel-2026.png
END:VEVENT
END:VCALENDAR