BEGIN:VCALENDAR
VERSION:2.0
PRODID:-//Ortsgemeinde Osburg - ECPv6.15.20//NONSGML v1.0//EN
CALSCALE:GREGORIAN
METHOD:PUBLISH
X-WR-CALNAME:Ortsgemeinde Osburg
X-ORIGINAL-URL:https://gemeinde-osburg.de
X-WR-CALDESC:Veranstaltungen für Ortsgemeinde Osburg
REFRESH-INTERVAL;VALUE=DURATION:PT1H
X-Robots-Tag:noindex
X-PUBLISHED-TTL:PT1H
BEGIN:VTIMEZONE
TZID:Europe/Berlin
BEGIN:DAYLIGHT
TZOFFSETFROM:+0100
TZOFFSETTO:+0200
TZNAME:CEST
DTSTART:20250330T010000
END:DAYLIGHT
BEGIN:STANDARD
TZOFFSETFROM:+0200
TZOFFSETTO:+0100
TZNAME:CET
DTSTART:20251026T010000
END:STANDARD
BEGIN:DAYLIGHT
TZOFFSETFROM:+0100
TZOFFSETTO:+0200
TZNAME:CEST
DTSTART:20260329T010000
END:DAYLIGHT
BEGIN:STANDARD
TZOFFSETFROM:+0200
TZOFFSETTO:+0100
TZNAME:CET
DTSTART:20261025T010000
END:STANDARD
BEGIN:DAYLIGHT
TZOFFSETFROM:+0100
TZOFFSETTO:+0200
TZNAME:CEST
DTSTART:20270328T010000
END:DAYLIGHT
BEGIN:STANDARD
TZOFFSETFROM:+0200
TZOFFSETTO:+0100
TZNAME:CET
DTSTART:20271031T010000
END:STANDARD
END:VTIMEZONE
BEGIN:VEVENT
DTSTART;TZID=Europe/Berlin:20260327T064500
DTEND;TZID=Europe/Berlin:20260327T064500
DTSTAMP:20260421T102914
CREATED:20260219T112614Z
LAST-MODIFIED:20260219T112614Z
UID:10425-1774593900-1774593900@gemeinde-osburg.de
SUMMARY:Frühschichten für Grundschulkinder in der Fastenzeit
DESCRIPTION:Frühschichten in der Fastenzeit – Und wieder heißt es: Frühes Aufstehen macht Spaß! \nFreitags\, am 20.02.\, 27.02. und 27.03. um 6.45 Uhr in der Kirche (Seitenkapelle) in Osburg. \nZusammen mit den Grundschulkindern wollen wir die Fastenzeit besonders gestalten und gemeinsam in den Frühschichten erleben. Wer an diesen Tagen früher aufsteht\, startet in Gemeinschaft mit Gott und Gleichaltrigen in den Tag\, kann singen\, Geschichten hören und gemeinsam frühstücken. So fängt der Tag gut an. \nDas Frühstück findet in der Grundschule statt und die Kinder gehen anschließend in Ihre Klassen.
URL:https://gemeinde-osburg.de/event/fruehschichten-fuer-grundschulkinder-in-der-fastenzeit-11/
LOCATION:Kirche (Kapelle) Osburg u. Grundschule Osburg
ATTACH;FMTTYPE=image/jpeg:https://gemeinde-osburg.de/wp-content/uploads/2026/02/Fruehschichten-Ostern-2026.jpeg
END:VEVENT
END:VCALENDAR