BEGIN:VCALENDAR
VERSION:2.0
PRODID:-//Ortsgemeinde Osburg - ECPv6.15.20//NONSGML v1.0//EN
CALSCALE:GREGORIAN
METHOD:PUBLISH
X-ORIGINAL-URL:https://gemeinde-osburg.de
X-WR-CALDESC:Veranstaltungen für Ortsgemeinde Osburg
REFRESH-INTERVAL;VALUE=DURATION:PT1H
X-Robots-Tag:noindex
X-PUBLISHED-TTL:PT1H
BEGIN:VTIMEZONE
TZID:Europe/Berlin
BEGIN:DAYLIGHT
TZOFFSETFROM:+0100
TZOFFSETTO:+0200
TZNAME:CEST
DTSTART:20250330T010000
END:DAYLIGHT
BEGIN:STANDARD
TZOFFSETFROM:+0200
TZOFFSETTO:+0100
TZNAME:CET
DTSTART:20251026T010000
END:STANDARD
BEGIN:DAYLIGHT
TZOFFSETFROM:+0100
TZOFFSETTO:+0200
TZNAME:CEST
DTSTART:20260329T010000
END:DAYLIGHT
BEGIN:STANDARD
TZOFFSETFROM:+0200
TZOFFSETTO:+0100
TZNAME:CET
DTSTART:20261025T010000
END:STANDARD
BEGIN:DAYLIGHT
TZOFFSETFROM:+0100
TZOFFSETTO:+0200
TZNAME:CEST
DTSTART:20270328T010000
END:DAYLIGHT
BEGIN:STANDARD
TZOFFSETFROM:+0200
TZOFFSETTO:+0100
TZNAME:CET
DTSTART:20271031T010000
END:STANDARD
END:VTIMEZONE
BEGIN:VEVENT
DTSTART;VALUE=DATE:20260515
DTEND;VALUE=DATE:20260519
DTSTAMP:20260419T185741
CREATED:20251202T200902Z
LAST-MODIFIED:20260419T095329Z
UID:10285-1778803200-1779148799@gemeinde-osburg.de
SUMMARY:38. Dorf- und Heimatfest - Osburger Kirmes
DESCRIPTION:Freitag\, 15.05.2026 ab 19:00 Uhr\n19:30 Uhr Einlass\n20:30 Uhr Demon´s Eye\nEintritt: VVK 15 Euro\, Abendkasse 20 Euro \nVORVERKAUF:\n• Bäckerei Blau Osburg & Reinsfeld\n• Bäckerei Scherer-Dewald\, Osburg\, Thomm & Trier-Olewig\n• Boxengasse Schweich \nSamstag\, 16.05.2026\n18:30 Uhr Platzkonzert Musikverein Osburg\n20:30 Uhr Soul & More\nEintritt: FREI \nSonntag 17.05.2026 „Familientag“\nab 11 Uhr Frühschoppen\nab 12 Uhr Mittagstisch\nab 14 Uhr Tanzgruppen Kinder\nab 14 Uhr Kaffee & Kuchen\nab 15 Uhr Unterhaltungsprogramm mit Jörg\nab 18 Uhr 7-Meter-Schießen\nEintritt: FREI \nMontag\, 18.05.2026 „Seniorennachmittag und Ausklang“\nab 14 Uhr Kaffee & Kuchen\nab 16 Uhr Unterhaltungsprogramm mit Jörg\nab 19 Uhr Kirmesausklang mit Timeless\nEintritt: FREI \nAn allen Tagen herrscht reges Kirmestreiben mit Autoscooter\, Kinderkarussell und anderen Attraktionen. \nFür Ihr leibliches Wohl ist bestens gesorgt!
URL:https://gemeinde-osburg.de/event/38-dorf-und-heimatfest-osburger-kirmes/
LOCATION:Osburg Festplatz\, Unter Wiesloch 1\, Unter Wiesloch 1\, 54317 Osburg\, 54317\, Deutschland
ATTACH;FMTTYPE=image/jpeg:https://gemeinde-osburg.de/wp-content/uploads/2026/04/Plakat-Kirmes-Osburg-2026.jpg
END:VEVENT
END:VCALENDAR