BEGIN:VCALENDAR
VERSION:2.0
PRODID:-//Ortsgemeinde Osburg - ECPv6.15.20//NONSGML v1.0//EN
CALSCALE:GREGORIAN
METHOD:PUBLISH
X-ORIGINAL-URL:https://gemeinde-osburg.de
X-WR-CALDESC:Veranstaltungen für Ortsgemeinde Osburg
REFRESH-INTERVAL;VALUE=DURATION:PT1H
X-Robots-Tag:noindex
X-PUBLISHED-TTL:PT1H
BEGIN:VTIMEZONE
TZID:Europe/Berlin
BEGIN:DAYLIGHT
TZOFFSETFROM:+0100
TZOFFSETTO:+0200
TZNAME:CEST
DTSTART:20250330T010000
END:DAYLIGHT
BEGIN:STANDARD
TZOFFSETFROM:+0200
TZOFFSETTO:+0100
TZNAME:CET
DTSTART:20251026T010000
END:STANDARD
BEGIN:DAYLIGHT
TZOFFSETFROM:+0100
TZOFFSETTO:+0200
TZNAME:CEST
DTSTART:20260329T010000
END:DAYLIGHT
BEGIN:STANDARD
TZOFFSETFROM:+0200
TZOFFSETTO:+0100
TZNAME:CET
DTSTART:20261025T010000
END:STANDARD
BEGIN:DAYLIGHT
TZOFFSETFROM:+0100
TZOFFSETTO:+0200
TZNAME:CEST
DTSTART:20270328T010000
END:DAYLIGHT
BEGIN:STANDARD
TZOFFSETFROM:+0200
TZOFFSETTO:+0100
TZNAME:CET
DTSTART:20271031T010000
END:STANDARD
END:VTIMEZONE
BEGIN:VEVENT
DTSTART;TZID=Europe/Berlin:20260701T150000
DTEND;TZID=Europe/Berlin:20260701T150000
DTSTAMP:20260419T221249
CREATED:20251210T065701Z
LAST-MODIFIED:20251210T065701Z
UID:10333-1782918000-1782918000@gemeinde-osburg.de
SUMMARY:Singkreis für Senioren
DESCRIPTION:Herzliche Einladung an die Osburger Senioren zum Singkreis\n\nAm 1. Mittwoch des Monats treffen sich um 15 Uhr die Osburger Senioren zum gemeinsamen Singen im Vereinshaus des MGV\, Unterstr. 9a. \nDas Angebot wird auf ehrenamtlicher Basis angeboten und ist kostenfrei. \nWer Spaß am Singen hat\, ist herzlich eingeladen mit zu singen. Wir freuen uns auf Dein Kommen!
URL:https://gemeinde-osburg.de/event/singkreis-fuer-senioren-42/
LOCATION:Vereinshaus des MGV\, Unterstr. 9a\, Osburg\, Rheinland-Pfalz\, 54317\, Deutschland
ATTACH;FMTTYPE=image/jpeg:https://gemeinde-osburg.de/wp-content/uploads/2022/11/Logo-Singkreis-Herbert.jpg
END:VEVENT
BEGIN:VEVENT
DTSTART;VALUE=DATE:20260706
DTEND;VALUE=DATE:20260711
DTSTAMP:20260419T221249
CREATED:20251205T184434Z
LAST-MODIFIED:20260228T104613Z
UID:10296-1783296000-1783727999@gemeinde-osburg.de
SUMMARY:Juki’s Ferienfreizeit 2026 – Wald der Zeiten für Grundschulkinder
DESCRIPTION:Ferienfreizeit 2026 – Wald der Zeiten vom 6. bis 10. Juli 2026 für GRUNDSCHUL-Kinder \nTäglich von 9:00 bis 16:00 Uhr\nFreizeitanlage Schornstein-Wald\, Osburg \nTauche mit den Jukis ein in eine magische Reise durch die Zeit!\nBei unserer diesjährigen Ferienfreizeit „Wald der Zeiten“ erwartet die Kinder eine spannende Woche voller Abenteuer\, Naturerlebnisse\, Spiel\, Kreativität und Gemeinschaft mitten im Wald.\nGemeinsam erkunden wir vergangene Zeiten\, lösen Rätsel\, entdecken Geheimnisse und erleben unvergessliche Tage in der Natur. \nBetreuungszeiten\nDie reguläre Freizeit findet von 9:00 bis 16:00 Uhr statt.\nEine Notbetreuung ab 8:00 Uhr ist bei Bedarf möglich. \nKosten\n80\,00 € pro Kind (inklusive Mittagsverpflegung und Getränke)\nFür Familien mit geringem Einkommen ist eine Ermäßigung auf Anfrage möglich. \nAnmeldung – Anmeldestart: 08.03.\, 10 Uhr\nDie Anmeldung ist online möglich unter: 👉 https://bit.ly/JUKIS26 \n Kooperation\nDie Ferienfreizeit findet in Kooperation mit der Jugendpflege VG Ruwer statt. \n 
URL:https://gemeinde-osburg.de/event/jukis-ferienfreizeit/
LOCATION:Freizeitanlage „Schornstein Wald“
ATTACH;FMTTYPE=image/jpeg:https://gemeinde-osburg.de/wp-content/uploads/2025/12/Ferienfreizeit-plakat.jpg
ORGANIZER;CN="JuKi Osburg e.V.":MAILTO:jukiosburg@gmx.de
END:VEVENT
BEGIN:VEVENT
DTSTART;TZID=Europe/Berlin:20260805T150000
DTEND;TZID=Europe/Berlin:20260805T150000
DTSTAMP:20260419T221249
CREATED:20251210T065747Z
LAST-MODIFIED:20251210T065747Z
UID:10335-1785942000-1785942000@gemeinde-osburg.de
SUMMARY:Singkreis für Senioren
DESCRIPTION:Herzliche Einladung an die Osburger Senioren zum Singkreis\n\nAm 1. Mittwoch des Monats treffen sich um 15 Uhr die Osburger Senioren zum gemeinsamen Singen im Vereinshaus des MGV\, Unterstr. 9a. \nDas Angebot wird auf ehrenamtlicher Basis angeboten und ist kostenfrei. \nWer Spaß am Singen hat\, ist herzlich eingeladen mit zu singen. Wir freuen uns auf Dein Kommen!
URL:https://gemeinde-osburg.de/event/singkreis-fuer-senioren-43/
LOCATION:Vereinshaus des MGV\, Unterstr. 9a\, Osburg\, Rheinland-Pfalz\, 54317\, Deutschland
ATTACH;FMTTYPE=image/jpeg:https://gemeinde-osburg.de/wp-content/uploads/2022/11/Logo-Singkreis-Herbert.jpg
END:VEVENT
BEGIN:VEVENT
DTSTART;TZID=Europe/Berlin:20260830T110000
DTEND;TZID=Europe/Berlin:20260830T110000
DTSTAMP:20260419T221249
CREATED:20251202T200648Z
LAST-MODIFIED:20251229T181007Z
UID:10283-1788087600-1788087600@gemeinde-osburg.de
SUMMARY:Wanderung
DESCRIPTION:Weitere Infos folgen…
URL:https://gemeinde-osburg.de/event/wanderung-3/
LOCATION:Freizeitanlage „Schornstein Wald“
END:VEVENT
BEGIN:VEVENT
DTSTART;TZID=Europe/Berlin:20260902T150000
DTEND;TZID=Europe/Berlin:20260902T150000
DTSTAMP:20260419T221249
CREATED:20251210T065824Z
LAST-MODIFIED:20251210T065824Z
UID:10337-1788361200-1788361200@gemeinde-osburg.de
SUMMARY:Singkreis für Senioren
DESCRIPTION:Herzliche Einladung an die Osburger Senioren zum Singkreis\n\nAm 1. Mittwoch des Monats treffen sich um 15 Uhr die Osburger Senioren zum gemeinsamen Singen im Vereinshaus des MGV\, Unterstr. 9a. \nDas Angebot wird auf ehrenamtlicher Basis angeboten und ist kostenfrei. \nWer Spaß am Singen hat\, ist herzlich eingeladen mit zu singen. Wir freuen uns auf Dein Kommen!
URL:https://gemeinde-osburg.de/event/singkreis-fuer-senioren-44/
LOCATION:Vereinshaus des MGV\, Unterstr. 9a\, Osburg\, Rheinland-Pfalz\, 54317\, Deutschland
ATTACH;FMTTYPE=image/jpeg:https://gemeinde-osburg.de/wp-content/uploads/2022/11/Logo-Singkreis-Herbert.jpg
END:VEVENT
BEGIN:VEVENT
DTSTART;VALUE=DATE:20260919
DTEND;VALUE=DATE:20260920
DTSTAMP:20260419T221249
CREATED:20251123T090112Z
LAST-MODIFIED:20260325T124620Z
UID:10259-1789776000-1789862399@gemeinde-osburg.de
SUMMARY:Wanderevent "Hochwaldgenuss"
DESCRIPTION:2. Wanderevent „Hochwaldgenuss“ in der Freizeitanlage Schornstein Wald (3 Strecken; 12\,5km / 25km / 50km) \nDie Ausschreibung mit Anmeldelink sind auf der Homepage des Veranstalters einzusehen: HochwaldTrailer.de
URL:https://gemeinde-osburg.de/event/wanderevent-hochwaldgenuss/
LOCATION:Freizeitanlage „Schornstein Wald“
ATTACH;FMTTYPE=image/jpeg:https://gemeinde-osburg.de/wp-content/uploads/2026/03/Hochwaldgenuss-09-2026.jpeg
ORGANIZER;CN="Hochwaldtrailer e.V.":MAILTO:info@hochwaldtrailer.de
END:VEVENT
BEGIN:VEVENT
DTSTART;VALUE=DATE:20260927
DTEND;VALUE=DATE:20260928
DTSTAMP:20260419T221249
CREATED:20260221T194727Z
LAST-MODIFIED:20260221T194727Z
UID:10443-1790467200-1790553599@gemeinde-osburg.de
SUMMARY:"So schmeckt der Herbst" - Kräuterwanderung im Osburger Wald
DESCRIPTION:„So schmeckt der Herbst“ – Kräuterwanderung im Osburger Wald mit kleinen Leckereien aus der “Wilden Küche” \nWeitere Infos auf der Homepage von Beate Stoff → silva mirabilis | Was\, wann\, wo
URL:https://gemeinde-osburg.de/event/so-schmeckt-der-herbst-kraeuterwanderung-im-osburger-wald-5/
ATTACH;FMTTYPE=image/jpeg:https://gemeinde-osburg.de/wp-content/uploads/2019/04/Fruehling2019-e1555303747371.jpg
ORGANIZER;CN="silva-mirabilis - Beate Stoff":MAILTO:info@silva-mirabilis.de
END:VEVENT
BEGIN:VEVENT
DTSTART;TZID=Europe/Berlin:20261007T150000
DTEND;TZID=Europe/Berlin:20261007T150000
DTSTAMP:20260419T221249
CREATED:20251210T065905Z
LAST-MODIFIED:20251210T065905Z
UID:10339-1791385200-1791385200@gemeinde-osburg.de
SUMMARY:Singkreis für Senioren
DESCRIPTION:Herzliche Einladung an die Osburger Senioren zum Singkreis\n\nAm 1. Mittwoch des Monats treffen sich um 15 Uhr die Osburger Senioren zum gemeinsamen Singen im Vereinshaus des MGV\, Unterstr. 9a. \nDas Angebot wird auf ehrenamtlicher Basis angeboten und ist kostenfrei. \nWer Spaß am Singen hat\, ist herzlich eingeladen mit zu singen. Wir freuen uns auf Dein Kommen!
URL:https://gemeinde-osburg.de/event/singkreis-fuer-senioren-45/
LOCATION:Vereinshaus des MGV\, Unterstr. 9a\, Osburg\, Rheinland-Pfalz\, 54317\, Deutschland
ATTACH;FMTTYPE=image/jpeg:https://gemeinde-osburg.de/wp-content/uploads/2022/11/Logo-Singkreis-Herbert.jpg
END:VEVENT
BEGIN:VEVENT
DTSTART;VALUE=DATE:20261013
DTEND;VALUE=DATE:20261015
DTSTAMP:20260419T221249
CREATED:20251205T184901Z
LAST-MODIFIED:20251205T184901Z
UID:10298-1791849600-1792022399@gemeinde-osburg.de
SUMMARY:Waldkindertage
DESCRIPTION:Weitere Infos folgen…
URL:https://gemeinde-osburg.de/event/waldkindertage-2/
LOCATION:Freizeitanlage „Schornstein Wald“
END:VEVENT
BEGIN:VEVENT
DTSTART;TZID=Europe/Berlin:20261104T150000
DTEND;TZID=Europe/Berlin:20261104T150000
DTSTAMP:20260419T221249
CREATED:20251210T070003Z
LAST-MODIFIED:20251210T070003Z
UID:10341-1793804400-1793804400@gemeinde-osburg.de
SUMMARY:Singkreis für Senioren
DESCRIPTION:Herzliche Einladung an die Osburger Senioren zum Singkreis\n\nAm 1. Mittwoch des Monats treffen sich um 15 Uhr die Osburger Senioren zum gemeinsamen Singen im Vereinshaus des MGV\, Unterstr. 9a. \nDas Angebot wird auf ehrenamtlicher Basis angeboten und ist kostenfrei. \nWer Spaß am Singen hat\, ist herzlich eingeladen mit zu singen. Wir freuen uns auf Dein Kommen!
URL:https://gemeinde-osburg.de/event/singkreis-fuer-senioren-46/
LOCATION:Vereinshaus des MGV\, Unterstr. 9a\, Osburg\, Rheinland-Pfalz\, 54317\, Deutschland
ATTACH;FMTTYPE=image/jpeg:https://gemeinde-osburg.de/wp-content/uploads/2022/11/Logo-Singkreis-Herbert.jpg
END:VEVENT
BEGIN:VEVENT
DTSTART;TZID=Europe/Berlin:20261107T180000
DTEND;TZID=Europe/Berlin:20261107T180000
DTSTAMP:20260419T221249
CREATED:20251205T185007Z
LAST-MODIFIED:20251205T185032Z
UID:10300-1794074400-1794074400@gemeinde-osburg.de
SUMMARY:St. Martin mit Umzug
DESCRIPTION:Weitere Infos folgen…
URL:https://gemeinde-osburg.de/event/st-martin/
ATTACH;FMTTYPE=image/jpeg:https://gemeinde-osburg.de/wp-content/uploads/2022/12/Plakat-St.-Martin-2022-11-ergaenzt-720x300-1.jpg
END:VEVENT
BEGIN:VEVENT
DTSTART;TZID=Europe/Berlin:20261122T140000
DTEND;TZID=Europe/Berlin:20261122T140000
DTSTAMP:20260419T221249
CREATED:20251205T185246Z
LAST-MODIFIED:20251205T185246Z
UID:10303-1795356000-1795356000@gemeinde-osburg.de
SUMMARY:Clemenskaffee – Ein Begegnungskaffee für Jung & Alt
DESCRIPTION:Weitere Infos folgen…
URL:https://gemeinde-osburg.de/event/clemenskaffee-ein-begegnungskaffee-fuer-jung-alt-4/
LOCATION:Vereinshaus des MGV\, Unterstr. 9a\, Osburg\, Rheinland-Pfalz\, 54317\, Deutschland
END:VEVENT
BEGIN:VEVENT
DTSTART;TZID=Europe/Berlin:20261128T150000
DTEND;TZID=Europe/Berlin:20261128T150000
DTSTAMP:20260419T221249
CREATED:20251205T185450Z
LAST-MODIFIED:20251205T185450Z
UID:10305-1795878000-1795878000@gemeinde-osburg.de
SUMMARY:Weihnachtsmarkt des Osburger TC
DESCRIPTION:Weitere Infos folgen…
URL:https://gemeinde-osburg.de/event/weihnachtsmarkt-des-osburger-tc-8/
LOCATION:Clubhaus Tennisclub\, Unter Wiesloch 3\, Osburg\, 54317
ATTACH;FMTTYPE=image/jpeg:https://gemeinde-osburg.de/wp-content/uploads/2019/12/Weihnachtsmarkt2019-2.jpg
ORGANIZER;CN="OTC - Osburger Tennisclub":MAILTO:info@tennisverein-osburg.de
END:VEVENT
BEGIN:VEVENT
DTSTART;TZID=Europe/Berlin:20261202T150000
DTEND;TZID=Europe/Berlin:20261202T150000
DTSTAMP:20260419T221249
CREATED:20251210T070048Z
LAST-MODIFIED:20251210T070048Z
UID:10343-1796223600-1796223600@gemeinde-osburg.de
SUMMARY:Singkreis für Senioren
DESCRIPTION:Herzliche Einladung an die Osburger Senioren zum Singkreis\n\nAm 1. Mittwoch des Monats treffen sich um 15 Uhr die Osburger Senioren zum gemeinsamen Singen im Vereinshaus des MGV\, Unterstr. 9a. \nDas Angebot wird auf ehrenamtlicher Basis angeboten und ist kostenfrei. \nWer Spaß am Singen hat\, ist herzlich eingeladen mit zu singen. Wir freuen uns auf Dein Kommen!
URL:https://gemeinde-osburg.de/event/singkreis-fuer-senioren-47/
LOCATION:Vereinshaus des MGV\, Unterstr. 9a\, Osburg\, Rheinland-Pfalz\, 54317\, Deutschland
ATTACH;FMTTYPE=image/jpeg:https://gemeinde-osburg.de/wp-content/uploads/2022/11/Logo-Singkreis-Herbert.jpg
END:VEVENT
BEGIN:VEVENT
DTSTART;VALUE=DATE:20261206
DTEND;VALUE=DATE:20261207
DTSTAMP:20260419T221249
CREATED:20260221T194841Z
LAST-MODIFIED:20260221T194841Z
UID:10445-1796515200-1796601599@gemeinde-osburg.de
SUMMARY:Winterwanderung rund um Osburg
DESCRIPTION:Weitere Infos auf der Homepage von Beate Stoff → silva mirabilis | Was\, wann\, wo
URL:https://gemeinde-osburg.de/event/winterwanderung-rund-um-osburg-6/
ATTACH;FMTTYPE=image/jpeg:https://gemeinde-osburg.de/wp-content/uploads/2024/03/Winterwanderung.jpg
ORGANIZER;CN="silva-mirabilis - Beate Stoff":MAILTO:info@silva-mirabilis.de
END:VEVENT
BEGIN:VEVENT
DTSTART;TZID=Europe/Berlin:20261213T080000
DTEND;TZID=Europe/Berlin:20261213T170000
DTSTAMP:20260419T221249
CREATED:20251205T185823Z
LAST-MODIFIED:20251205T185914Z
UID:10307-1797148800-1797181200@gemeinde-osburg.de
SUMMARY:Klingendes Adventsfenster
DESCRIPTION:Weitere Infos folgen…
URL:https://gemeinde-osburg.de/event/klingendes-adventsfenster-3/
LOCATION:Osburg Kirche\, Klemensstr. 35\, Osburg\, Rheinland-Pfalz\, 54317\, Deutschland
ATTACH;FMTTYPE=image/jpeg:https://gemeinde-osburg.de/wp-content/uploads/2023/10/2022-12-Plakat-Adventsfenster-Osburg-1086x1536-1.jpg
ORGANIZER;CN="Chor Blue Notes e. V.":MAILTO:BlueNotes-eV@gmx.de
END:VEVENT
END:VCALENDAR