BEGIN:VCALENDAR
VERSION:2.0
PRODID:-//Ortsgemeinde Osburg - ECPv6.15.20//NONSGML v1.0//EN
CALSCALE:GREGORIAN
METHOD:PUBLISH
X-WR-CALNAME:Ortsgemeinde Osburg
X-ORIGINAL-URL:https://gemeinde-osburg.de
X-WR-CALDESC:Veranstaltungen für Ortsgemeinde Osburg
REFRESH-INTERVAL;VALUE=DURATION:PT1H
X-Robots-Tag:noindex
X-PUBLISHED-TTL:PT1H
BEGIN:VTIMEZONE
TZID:Europe/Berlin
BEGIN:DAYLIGHT
TZOFFSETFROM:+0100
TZOFFSETTO:+0200
TZNAME:CEST
DTSTART:20180325T010000
END:DAYLIGHT
BEGIN:STANDARD
TZOFFSETFROM:+0200
TZOFFSETTO:+0100
TZNAME:CET
DTSTART:20181028T010000
END:STANDARD
BEGIN:DAYLIGHT
TZOFFSETFROM:+0100
TZOFFSETTO:+0200
TZNAME:CEST
DTSTART:20190331T010000
END:DAYLIGHT
BEGIN:STANDARD
TZOFFSETFROM:+0200
TZOFFSETTO:+0100
TZNAME:CET
DTSTART:20191027T010000
END:STANDARD
BEGIN:DAYLIGHT
TZOFFSETFROM:+0100
TZOFFSETTO:+0200
TZNAME:CEST
DTSTART:20200329T010000
END:DAYLIGHT
BEGIN:STANDARD
TZOFFSETFROM:+0200
TZOFFSETTO:+0100
TZNAME:CET
DTSTART:20201025T010000
END:STANDARD
END:VTIMEZONE
BEGIN:VEVENT
DTSTART;TZID=Europe/Berlin:20191009T093000
DTEND;TZID=Europe/Berlin:20191009T160000
DTSTAMP:20260421T161651
CREATED:20190711T185308Z
LAST-MODIFIED:20190916T184855Z
UID:1888-1570613400-1570636800@gemeinde-osburg.de
SUMMARY:Waldkindertage Osburg - Indianer\, mit allen Sinnen unterwegs
DESCRIPTION:Waldkindertage Osburg – Indianer\, mit allen Sinnen unterwegs\n\nIn den Herbstferien\, vom 09. bis 10. Oktober\, jeweils 09.30 – 16.00 Uhr\, wird von der Schulsozialarbeit der Verbandsgemeinde Ruwer in Zusammenarbeit mit Ehrenamtlichen die Veranstaltung „Waldkindertage Osburg“ angeboten. Hierbei wird um das Thema „Indianer\, mit allen Sinnen unterwegs“ gebastelt\, gespielt und vieles mehr.\nDie Veranstaltung ist für Kinder der 2. – 4. Klassen der Grundschulen Osburg und Farschweiler\, max. 25 Kinder können teilnehmen.\nTeilnehmerbeitrag: 20 Euro incl. Verpflegung und Getränke \nEs ist eine Anmeldung bei der Schulsozialarbeit der VG Ruwer\, Frau Sabine Oettinger\, ist erforderlich.
URL:https://gemeinde-osburg.de/event/waldkindertage-osburg-indianer-mit-allen-sinnen-unterwegs/
LOCATION:Freizeitanlage „Schornstein Wald“
ATTACH;FMTTYPE=image/jpeg:https://gemeinde-osburg.de/wp-content/uploads/2019/07/Waldkindertage-Osburg-e1562871037193.jpg
END:VEVENT
BEGIN:VEVENT
DTSTART;TZID=Europe/Berlin:20191010T093000
DTEND;TZID=Europe/Berlin:20191010T160000
DTSTAMP:20260421T161651
CREATED:20190711T185423Z
LAST-MODIFIED:20190916T184915Z
UID:1891-1570699800-1570723200@gemeinde-osburg.de
SUMMARY:Waldkindertage Osburg - Indianer\, mit allen Sinnen unterwegs
DESCRIPTION:Waldkindertage Osburg – Indianer\, mit allen Sinnen unterwegs\n\nIn den Herbstferien\, vom 09. bis 10. Oktober\, jeweils 09.30 – 16.00 Uhr\, wird von der Schulsozialarbeit der Verbandsgemeinde Ruwer in Zusammenarbeit mit Ehrenamtlichen die Veranstaltung „Waldkindertage Osburg“ angeboten. Hierbei wird um das Thema „Indianer\, mit allen Sinnen unterwegs“ gebastelt\, gespielt und vieles mehr.\nDie Veranstaltung ist für Kinder der 2. – 4. Klassen der Grundschulen Osburg und Farschweiler\, max. 25 Kinder können teilnehmen.\nTeilnehmerbeitrag: 20 Euro incl. Verpflegung und Getränke \nEs ist eine Anmeldung bei der Schulsozialarbeit der VG Ruwer\, Frau Sabine Oettinger\, ist erforderlich.
URL:https://gemeinde-osburg.de/event/waldkindertage-osburg-indianer-mit-allen-sinnen-unterwegs-2/
LOCATION:Freizeitanlage „Schornstein Wald“
ATTACH;FMTTYPE=image/jpeg:https://gemeinde-osburg.de/wp-content/uploads/2019/07/Waldkindertage-Osburg-e1562871037193.jpg
END:VEVENT
BEGIN:VEVENT
DTSTART;TZID=Europe/Berlin:20191013T140000
DTEND;TZID=Europe/Berlin:20191013T180000
DTSTAMP:20260421T161651
CREATED:20190926T043200Z
LAST-MODIFIED:20190926T043200Z
UID:2150-1570975200-1570989600@gemeinde-osburg.de
SUMMARY:Drachenfest des Kindergarten
DESCRIPTION:Liebe Drachenfreunde\,\nwir laden Euch herzlich zum traditionellen Drachenfest auf der Flachsheide in Osburg ein. Willkommen sind Alle mit und ohne Drachen. Für das leibliche Wohl wird bestens gesorgt. \nAuf Eure Teilnahme freut sich der Förderverein der Kita St. Clemens Osburg
URL:https://gemeinde-osburg.de/event/drachenfest-des-kindergarten/
LOCATION:Wiese hinter der Flachsheide
ATTACH;FMTTYPE=image/jpeg:https://gemeinde-osburg.de/wp-content/uploads/2019/09/Drachenfest2019-e1569472206812.jpg
END:VEVENT
BEGIN:VEVENT
DTSTART;VALUE=DATE:20191019
DTEND;VALUE=DATE:20191021
DTSTAMP:20260421T161651
CREATED:20181228T134324Z
LAST-MODIFIED:20191009T042206Z
UID:1494-1571443200-1571615999@gemeinde-osburg.de
SUMMARY:Oktoberfest des Musikverein "Harmonie" Osburg
DESCRIPTION:O´zapt is! im Osburger Vereinshaus \n19. Oktober\, ab 21 Uhr\nHüttengaudi\nLivemusik und Oktoberfestchallenge\nEintritt frei\, kein Einlass für Jugendliche unter 16 Jahren \n20. Oktober\, ab 12 Uhr\nFamiliennachmittag\nBlasmusik befreundeter Vereine aus Kenn\, Thomm\, Igel\, Holzerath und Zemmer\nMittagessen und Kaffee/Kuchen
URL:https://gemeinde-osburg.de/event/oktoberfest/
LOCATION:Vereinshaus des MGV\, Unterstr. 9a\, Osburg\, Rheinland-Pfalz\, 54317\, Deutschland
ATTACH;FMTTYPE=image/jpeg:https://gemeinde-osburg.de/wp-content/uploads/2018/12/Oktoberfest-2019-e1570594910491.jpg
END:VEVENT
BEGIN:VEVENT
DTSTART;VALUE=DATE:20191020
DTEND;VALUE=DATE:20191021
DTSTAMP:20260421T161651
CREATED:20190415T045212Z
LAST-MODIFIED:20190415T045212Z
UID:1731-1571529600-1571615999@gemeinde-osburg.de
SUMMARY:"So schmeckt der Herbst" - Kräuterwanderung im Osburger Wald
DESCRIPTION:Kräuterwanderung im Osburger Wald mit kleinen Leckereien aus der “Wilden Küche” (in Kooperation mit dem Naturpark Saar-Hunsrück)
URL:https://gemeinde-osburg.de/event/so-schmeckt-der-herbst-kraeuterwanderung-im-osburger-wald/
ATTACH;FMTTYPE=image/jpeg:https://gemeinde-osburg.de/wp-content/uploads/2019/04/Fruehling2019-e1555303747371.jpg
ORGANIZER;CN="silva-mirabilis - Beate Stoff":MAILTO:info@silva-mirabilis.de
END:VEVENT
BEGIN:VEVENT
DTSTART;TZID=Europe/Berlin:20191027T150000
DTEND;TZID=Europe/Berlin:20191027T180000
DTSTAMP:20260421T161651
CREATED:20190820T041514Z
LAST-MODIFIED:20190926T041207Z
UID:2041-1572188400-1572199200@gemeinde-osburg.de
SUMMARY:Osburger Sonntagscafé
DESCRIPTION:Die Ortsgemeinde Osburg lädt ihre Bürgerinnen und Bürger ab 65 Jahren zu Kaffee & Kuchen ein. Der Osburger Sonntagscafé findet am 27.10.2019 ab 15 Uhr im Clubhaus des FSV Osburg 1928 e. V. beim Sportplatz statt. \nWir freuen uns auf einen geselligen Nachmittag. Danke an den FSV Osburg für die Stellung der Räumlichkeiten sowie an die Helfer und Kuchenspender. \nAus organisatorischen Gründen und da die Teilnehmerzahl durch die Räumlichkeit begrenzt ist\, bitten wir um Anmeldung bei: Silvia Klemens\, Telefon 06500-7755 \nZum Vormerken: Der jährliche Clemenskaffee findet am 24.11. um 14 Uhr im Vereinshaus statt.
URL:https://gemeinde-osburg.de/event/osburger-sonntagscafe-5/
LOCATION:Clubhaus FSV Osburg\, Sportplatz
ATTACH;FMTTYPE=image/jpeg:https://gemeinde-osburg.de/wp-content/uploads/2019/09/Einladung-Sonntagscafe-2019-10-27-e1569471046862.jpg
END:VEVENT
END:VCALENDAR