BEGIN:VCALENDAR
VERSION:2.0
PRODID:-//Ortsgemeinde Osburg - ECPv6.15.20//NONSGML v1.0//EN
CALSCALE:GREGORIAN
METHOD:PUBLISH
X-ORIGINAL-URL:https://gemeinde-osburg.de
X-WR-CALDESC:Veranstaltungen für Ortsgemeinde Osburg
REFRESH-INTERVAL;VALUE=DURATION:PT1H
X-Robots-Tag:noindex
X-PUBLISHED-TTL:PT1H
BEGIN:VTIMEZONE
TZID:Europe/Berlin
BEGIN:DAYLIGHT
TZOFFSETFROM:+0100
TZOFFSETTO:+0200
TZNAME:CEST
DTSTART:20200329T010000
END:DAYLIGHT
BEGIN:STANDARD
TZOFFSETFROM:+0200
TZOFFSETTO:+0100
TZNAME:CET
DTSTART:20201025T010000
END:STANDARD
BEGIN:DAYLIGHT
TZOFFSETFROM:+0100
TZOFFSETTO:+0200
TZNAME:CEST
DTSTART:20210328T010000
END:DAYLIGHT
BEGIN:STANDARD
TZOFFSETFROM:+0200
TZOFFSETTO:+0100
TZNAME:CET
DTSTART:20211031T010000
END:STANDARD
BEGIN:DAYLIGHT
TZOFFSETFROM:+0100
TZOFFSETTO:+0200
TZNAME:CEST
DTSTART:20220327T010000
END:DAYLIGHT
BEGIN:STANDARD
TZOFFSETFROM:+0200
TZOFFSETTO:+0100
TZNAME:CET
DTSTART:20221030T010000
END:STANDARD
END:VTIMEZONE
BEGIN:VEVENT
DTSTART;TZID=Europe/Berlin:20210607T180000
DTEND;TZID=Europe/Berlin:20210607T190000
DTSTAMP:20260425T161629
CREATED:20210527T180220Z
LAST-MODIFIED:20210527T180220Z
UID:3765-1623088800-1623092400@gemeinde-osburg.de
SUMMARY:Einwohnerversammlung zur geplanten Grüngutsammelstelle
DESCRIPTION:Einwohnerversammlung am Montag\, 07.06.2021 um 18.00 Uhr; das Veranstaltungsende ist für 19 Uhr geplant. Versammlungsort: Mehrzweckhalle\, Schulstraße\, Osburg. \nIn Osburg ist die Errichtung einer Grüngutsammelstelle durch einen privaten Betreiber geplant. Der zuletzt geplante Termin mußte wegen der verschärften Corona-Maßnahmen abgesagt werden. In der Versammlung werden die Planungen nochmals erläutert und es können Fragen gestellt werden; das Ziel ist eine sachliche und transparente Klärung der Thematik. Eine Grüngutsammelstelle auf der Gemarkung Osburg soll ein wertvoller Service für alle Bürgerinnen und Bürger sein – dies war und ist die Intention der involvierten Personen. Die Einwohnerversammlung (GemO § 16) ist grundsätzlich öffentlich. Aus Gründen des Gesundheitsschutzes können jedoch aufgrund der aktuellen Corona-Pandemie-Situation nur begrenzte Kapazitäten der Öffentlichkeit zur Verfügung gestellt werden. Um die notwendigen Abstände zwischen den Personen gewährleisten zu können\, ist die Teilnehmerzahl begrenzt. \nDaher ist eine Teilnahme an der Versammlung mit Angabe der Personenzahl und Kontaktdaten (Adresse\, email u. Telefonnummer) zwingend vorher anzumelden. Die Anmeldung sollte möglichst per email an ortsbuergermeisterin@gemeinde-osburg.de oder alternativ schriftlich erfolgen. Es wird eine Anmeldebestätigung versandt. Gerne können Fragen bereits im Vorfeld\, z. B. direkt bei Anmeldung zur Teilnahme\, mitgeteilt  werden. Sollten wieder kurzfristige weiter einschränkende Corona-Maßnahmen z. B. ein Absagen der Versammlung o. ä. erfordern\, werden die angemeldeten Teilnehmer*innen per email oder ggfls. telefonisch informiert. Falls notwendig wird ggfls. eine Beschränkung z. B. 1 Teilnehmer  pro Haushalt erfolgen. \nHinweise: Auf Grund der Corona-Pandemie weisen wir auf die Einhaltung der Hygienevorschriften (aktuell Maskenpflicht\, Abstand 1\,5 m\, Niesetikette\, Hände desinfizieren etc.) hin. Seitens der Ortsgemeinde Osburg werden die Vorschriften eingehalten. Im Rahmen des Eigenschutzes empfehlen wir darüber hinaus eigene Vorkehrungen zu treffen. Personen mit Symptomen einer Atemwegsinfektion (insbesondere Husten\, Erkältungssymptomatik\, Fieber) sollen möglichst zu Hause bleiben; ihnen ist im Regelfall der Zutritt zur Versammlung zu verwehren. \nRegistrierung von Teilnehmern (erfolgt über die Voranmeldung):  \nDas Notieren von Namen und Kontaktdaten der Teilnehmer*innen zum Zwecke der Information im Falle einer später bekanntgewordenen Infektion ist nach Auffassung des Landesbeauftragten für Datenschutz und die Informationsfreiheit (LfDI) möglich. Rechtsgrundlage: Art. 6 Abs. 1 Satz 1 lit. c) und e) DSGVO. \nSilvia Klemens\, Ortsbürgermeisterin
URL:https://gemeinde-osburg.de/event/einwohnerversammlung-zur-geplanten-gruengutsammelstelle-2/
LOCATION:Osburg Mehrzweckhalle\, Schulstraße\, Osburg\, 54317\, Deutschland
ATTACH;FMTTYPE=image/jpeg:https://gemeinde-osburg.de/wp-content/uploads/2021/03/00000000000022206514-OL-722-2020-21-21-0-olinfo-0-502x300-1.jpg
END:VEVENT
BEGIN:VEVENT
DTSTART;TZID=Europe/Berlin:20210617T190000
DTEND;TZID=Europe/Berlin:20210617T190000
DTSTAMP:20260425T161629
CREATED:20210601T164057Z
LAST-MODIFIED:20210607T103219Z
UID:3787-1623956400-1623956400@gemeinde-osburg.de
SUMMARY:15. Sitzung des Gemeinderates Osburg
DESCRIPTION:Tagesordnung für die 15. Sitzung des Gemeinderates Osburg am 17.06.2021 um 19.00 Uhr in der Mehrzweckhalle\, Schulstraße\, Osburg \nTagesordnung: \nÖffentlicher Teil \n1. Ergebnis der Machbarkeitsstudie zur Erweiterung des Kindergarten; Beratung und Beschlussfassung über die weitere Vorgehensweise \n2. Beratung und Beschlussfassung über \n2.1 die Feststellung des Jahresergebnisses 2017 \n2.2 die Entlastung des betroffenen Personenkreises für das Jahr 2017 \n3. Aufgabenübernahme der Aufgabe „Breitbandausbau zu einem flächendeckenden Gigabitnetz“ durch die Verbandsgemeinde Ruwer gem. § 67 Abs. 4 GemO \n4. Vergaben \n4.1 Beratung und Beschlussfassung zur Auftragsvergabe einer geomagnetischen Erkundung (Bebauungsplan „Hinter Klopp“) \n5. Mitteilungen \n6. Anfragen/Anregungen \nNichtöffentlich \n7. Bau- und Grundstücksangelegenheiten \n8. Mitteilung über eine Eilentscheidung § 48 GemO \n9. Mitteilungen \n10. Anfragen/Anregungen \nHinweis: Auf Grund der Corona-Pandemie weisen wir auf die Einhaltung der Hygienevorschriften hin. Seitens der Ortsgemeinde Osburg werden die Vorschriften eingehalten. Im Rahmen des Eigenschutzes empfehlen wir darüber hinaus eigene Vorkehrungen zu treffen. \nRegistrierung von Zuschauern: Eine vorherige Anmeldung ist nicht erforderlich. Das Notieren von Namen und Anschriften der Teilnehmer*innen zum Zwecke der Information im Falle einer später bekanntgewordenen Infektion ist nach Auffassung des Landesbeauftragten für Datenschutz und die Informationsfreiheit (LfDI) möglich. Rechtsgrundlage: Art. 6 Abs. 1 Satz 1 lit. c) und e) DSGVO. \n  \nDie Niederschriften der Gemeinderatssitzungen finden Sie hier.
URL:https://gemeinde-osburg.de/event/15-sitzung-des-gemeinderates-osburg/
LOCATION:Osburg Mehrzweckhalle\, Schulstraße\, Osburg\, 54317\, Deutschland
ATTACH;FMTTYPE=image/png:https://gemeinde-osburg.de/wp-content/uploads/2019/07/Osburg-Wappen-e1621191852601.png
END:VEVENT
BEGIN:VEVENT
DTSTART;TZID=Europe/Berlin:20210627T110000
DTEND;TZID=Europe/Berlin:20210627T150000
DTSTAMP:20260425T161629
CREATED:20210612T094234Z
LAST-MODIFIED:20210612T094258Z
UID:3859-1624791600-1624806000@gemeinde-osburg.de
SUMMARY:"So schmeckt der Sommer" - Kräuterwanderung im Osburger Wald
DESCRIPTION:So schmeckt der Sommer! – Kräuterwanderung im Osburger Wald – Veranstaltung in Kooperation mit dem Naturpark Saar-Hunsrück \n\n\n\nRund um Osburg befinden sich ausgedehnte Waldgebiete\, idyllische Bachtäler und steile Felshänge\, in denen viele zum Teil auch seltene Tiere und Pflanzen ihre Heimat haben. \nBesonderes Augenmerk richten wir bei unserer 6-8 km langen Wanderung auf die verschiedenen essbaren Wildkräuter. Intensive Natur- und „Aha-Erlebnisse“ sind garantiert! \nDa aufgrund der Corona-Vorgaben derzeit kein Wildkräuterbuffet zum Abschluss erlaubt ist\, können die Teilnehmenden essbare Pflanzen an ausgewählten Stellen direkt probieren und/ oder in mitgebrachtem Sammelbehältnis für den Eigenbedarf sammeln. \n\n\n\n\n\n\n\nTermin\n27. Juni 2021\, 11.00 bis 15.00 Uhr\n\n\nFür wen\nAlle Interessierten (Mindestalter 8 Jahre\, Teilnehmende unter 18 Jahren nur in Begleitung)\n\n\nGruppengröße\nmax. 20 Teilnehmende\n\n\nMitzubringen sind\nWitterungsangepasste Kleidung\, festes Schuhwerk\, Getränke und Essen für unterwegs\n\n\nStartpunkt\nOsburg – genauer Treffpunkt wird bei Anmeldung mitgeteilt\n\n\nPreis\n10 Euro pro Person\n\n\n\n\n\n\n\nAnmeldung:\n\n\n\nBis 24. Juni beim Naturpark Saar-Hunsrück\, Telefon 06503/9214-0\, danach noch kurzfristig direkt bei Beate Stoff\, www.silva-mirabilis.de \n\n\nWeitere Informationen finden Sie hier.
URL:https://gemeinde-osburg.de/event/so-schmeckt-der-sommer-kraeuterwanderung-im-osburger-wald-2/
ATTACH;FMTTYPE=image/jpeg:https://gemeinde-osburg.de/wp-content/uploads/2019/04/Fruehling2019-e1555303747371.jpg
ORGANIZER;CN="silva-mirabilis - Beate Stoff":MAILTO:info@silva-mirabilis.de
END:VEVENT
END:VCALENDAR