BEGIN:VCALENDAR
VERSION:2.0
PRODID:-//Ortsgemeinde Osburg - ECPv6.15.20//NONSGML v1.0//EN
CALSCALE:GREGORIAN
METHOD:PUBLISH
X-ORIGINAL-URL:https://gemeinde-osburg.de
X-WR-CALDESC:Veranstaltungen für Ortsgemeinde Osburg
REFRESH-INTERVAL;VALUE=DURATION:PT1H
X-Robots-Tag:noindex
X-PUBLISHED-TTL:PT1H
BEGIN:VTIMEZONE
TZID:Europe/Berlin
BEGIN:DAYLIGHT
TZOFFSETFROM:+0100
TZOFFSETTO:+0200
TZNAME:CEST
DTSTART:20240331T010000
END:DAYLIGHT
BEGIN:STANDARD
TZOFFSETFROM:+0200
TZOFFSETTO:+0100
TZNAME:CET
DTSTART:20241027T010000
END:STANDARD
BEGIN:DAYLIGHT
TZOFFSETFROM:+0100
TZOFFSETTO:+0200
TZNAME:CEST
DTSTART:20250330T010000
END:DAYLIGHT
BEGIN:STANDARD
TZOFFSETFROM:+0200
TZOFFSETTO:+0100
TZNAME:CET
DTSTART:20251026T010000
END:STANDARD
BEGIN:DAYLIGHT
TZOFFSETFROM:+0100
TZOFFSETTO:+0200
TZNAME:CEST
DTSTART:20260329T010000
END:DAYLIGHT
BEGIN:STANDARD
TZOFFSETFROM:+0200
TZOFFSETTO:+0100
TZNAME:CET
DTSTART:20261025T010000
END:STANDARD
END:VTIMEZONE
BEGIN:VEVENT
DTSTART;TZID=Europe/Berlin:20250303T141100
DTEND;TZID=Europe/Berlin:20250303T141100
DTSTAMP:20260426T020135
CREATED:20241009T130736Z
LAST-MODIFIED:20250104T190129Z
UID:9265-1741011060-1741011060@gemeinde-osburg.de
SUMMARY:Rosenmontagsumzug mit After-Zug-Party
DESCRIPTION:Der Rosenmontagsumzug startet am 03. März 2025 um 14.11 Uhr. Aufstellung ist ab 13.00 Uhr in der Kapellenstraße. Von da aus gehen wir den gewohnten Weg (Kapellenstraße\, Unterstraße\, Marktplatz\, Klemensstraße\, Steilstraße\, Bergstraße\, Marktplatz). \nIm Anschluss an den Fastnachtsumzug freuen wir uns auf eine stimmungsvolle „After-Zug-Party“ im Vereinshaus des MGV\, Eintritt frei. \nWir freuen uns auf eine tolle Veranstaltung mit vielen Teilnehmern und Zuschauern und grüßen mit einem dreifachen „Ösbörsch Helau“! \nKV Osburger Besenbinder & Männergesangverein „Harmonie“ Osburg 
URL:https://gemeinde-osburg.de/event/rosenmontag/
ATTACH;FMTTYPE=image/jpeg:https://gemeinde-osburg.de/wp-content/uploads/2024/10/Rosenmontag-2025.jpeg
END:VEVENT
BEGIN:VEVENT
DTSTART;TZID=Europe/Berlin:20250328T064500
DTEND;TZID=Europe/Berlin:20250328T064500
DTSTAMP:20260426T020135
CREATED:20250317T142035Z
LAST-MODIFIED:20250317T142035Z
UID:9714-1743144300-1743144300@gemeinde-osburg.de
SUMMARY:Frühschichten für Grundschulkinder in der Fastenzeit
DESCRIPTION:Frühschichten in der Fastenzeit „Der rote Faden!“ – Und wieder heißt es: Frühes Aufstehen macht Spaß! \nFreitags\, am 28.03.\, am 04.04. und am 11.04. um 6.45 Uhr in der Kirche (Seitenkapelle) in Osburg. \nZusammen mit den Grundschulkindern wollen wir die Fastenzeit besonders gestalten und gemeinsam in den Frühschichten erleben. Wer an diesen Tagen früher aufsteht\, startet in Gemeinschaft mit Gott und Gleichaltrigen in den Tag\, kann singen\, Geschichten hören und gemeinsam frühstücken. So fängt der Tag gut an. Diesmal geht es um den roten Faden: lasst euch überraschen! \nDas Frühstück findet in der Grundschule statt und die Kinder gehen anschließend in Ihre Klassen.
URL:https://gemeinde-osburg.de/event/fruehschichten-fuer-grundschulkinder-in-der-fastenzeit-6/
LOCATION:Kirche (Kapelle) Osburg u. Grundschule Osburg
ATTACH;FMTTYPE=image/png:https://gemeinde-osburg.de/wp-content/uploads/2025/03/Flyer-Advent-Der-rote-Faden.png
END:VEVENT
BEGIN:VEVENT
DTSTART;TZID=Europe/Berlin:20250329T100000
DTEND;TZID=Europe/Berlin:20250329T130000
DTSTAMP:20260426T020135
CREATED:20250211T162216Z
LAST-MODIFIED:20250305T055626Z
UID:9611-1743242400-1743253200@gemeinde-osburg.de
SUMMARY:Dreck-Weg-Tag in Osburg
DESCRIPTION:Der Dreck-weg-Tag in Osburg findet am Samstag\, 29.03.2025\, 10.00 Uhr\, statt. \nTreffpunkt ist der große\, untere Spielplatz des Kindergarten\, Friedhofstr. 32. \nEs sind wieder alle Kinder\, Jugendliche und Erwachsene eingeladen\, sich aktiv an diesem Frühjahrsputz der besonderen Art zu beteiligen. Wir wollen gemeinsam anpacken und zur Verschönerung der eigenen Heimat beitragen – auch wenn wir vielleicht entsetzt sind\, dass wir so viel Müll finden. Und auch\, wenn es gar nicht unser Müll ist\, den wir wegräumen. \nGesammelt wird unter Begleitung erwachsener Teilnehmer im Ort\, am Ortsrand und evtl. in den nahegelegenen Waldstücken. Im Anschluss an die Sammelaktion wollen wir uns gegen 12.30/13 Uhr mit einem kleinen Imbiss und Getränken hinter dem Kindergarten stärken. \nFür eine bessere Planung wäre ich dankbar\, wenn Sie Ihre Teilnahme vorab per email an osburg-aktiv@gmx.de oder WhatsApp 0177-7504694 bis möglichst 24.03. mitteilen. Bitte dabei angeben\, wieviele Kinder und wieviele Erwachsene. \nDie Vorschulkinder des Kindergarten gehen in einer separaten Gruppe ab 9.30 Uhr – bitte den Elternbrief des Kindergarten beachten! \nEs ist ein Abschluss-Foto zur Veröffentlichung in den digitalen und Print-Medien geplant\, siehe Hinweis unten. \nWir hoffen auf gutes Wetter und freuen uns auf die gemeinsame Aktion! \nBitte mitbringen:\nArbeitshandschuhe\, Eimer\, angepasste Kleidung\, Selbstversorgung für die Zeit des Sammelns. \nDie Toureneinteilung erfolgt kurzfristig und wird vor dem Losgehen der einzelnen Gruppen besprochen. \nBesten Dank\, wir freuen uns auf eine rege Teilnahme. \n\nVielen Dank an die Imbiss-Sponsoren 🙂\n\n\n\nBäckerei Blau\n\n\nBäckerei Scherer – Dewald\nOrtsgemeinde Osburg\n\nSilvia Klemens\nOrganisation Dreck-Weg-Tag \nHinweis bzgl. Fotoaufnahmen: Auf dieser Veranstaltung werden Fotoaufnahmen (vorrangig Gruppenfoto zum Abschluß) erstellt. Diese werden zur Öffentlichkeitsarbeit (auch in den sozialen Medien) genutzt. Wer nicht auf das Foto möchte oder nicht drauf soll (insbesondere Kinder)\, diese Personen bitten wir\, sich nicht beim Foto mit aufzustellen bzw. Ihre Kinder hierauf hinzuweisen.
URL:https://gemeinde-osburg.de/event/dreck-weg-tag-in-osburg/
ATTACH;FMTTYPE=image/jpeg:https://gemeinde-osburg.de/wp-content/uploads/2025/02/Plakat-A4-Dreck-Weg-Tag-2025-03-29-mit-Text.jpg
END:VEVENT
END:VCALENDAR