BEGIN:VCALENDAR
VERSION:2.0
PRODID:-//Ortsgemeinde Osburg - ECPv6.15.20//NONSGML v1.0//EN
CALSCALE:GREGORIAN
METHOD:PUBLISH
X-ORIGINAL-URL:https://gemeinde-osburg.de
X-WR-CALDESC:Veranstaltungen für Ortsgemeinde Osburg
REFRESH-INTERVAL;VALUE=DURATION:PT1H
X-Robots-Tag:noindex
X-PUBLISHED-TTL:PT1H
BEGIN:VTIMEZONE
TZID:Europe/Berlin
BEGIN:DAYLIGHT
TZOFFSETFROM:+0100
TZOFFSETTO:+0200
TZNAME:CEST
DTSTART:20240331T010000
END:DAYLIGHT
BEGIN:STANDARD
TZOFFSETFROM:+0200
TZOFFSETTO:+0100
TZNAME:CET
DTSTART:20241027T010000
END:STANDARD
BEGIN:DAYLIGHT
TZOFFSETFROM:+0100
TZOFFSETTO:+0200
TZNAME:CEST
DTSTART:20250330T010000
END:DAYLIGHT
BEGIN:STANDARD
TZOFFSETFROM:+0200
TZOFFSETTO:+0100
TZNAME:CET
DTSTART:20251026T010000
END:STANDARD
BEGIN:DAYLIGHT
TZOFFSETFROM:+0100
TZOFFSETTO:+0200
TZNAME:CEST
DTSTART:20260329T010000
END:DAYLIGHT
BEGIN:STANDARD
TZOFFSETFROM:+0200
TZOFFSETTO:+0100
TZNAME:CET
DTSTART:20261025T010000
END:STANDARD
END:VTIMEZONE
BEGIN:VEVENT
DTSTART;TZID=Europe/Berlin:20250402T150000
DTEND;TZID=Europe/Berlin:20250402T163000
DTSTAMP:20260426T003523
CREATED:20241225T115245Z
LAST-MODIFIED:20250317T204803Z
UID:9464-1743606000-1743611400@gemeinde-osburg.de
SUMMARY:Singkreis für Senioren
DESCRIPTION:Herzliche Einladung an die Osburger Senioren zum Singkreis\n\nAm 1. Mittwoch des Monats treffen sich um 15 Uhr die Osburger Senioren zum gemeinsamen Singen im Vereinshaus des MGV\, Unterstr. 9a. \nDas Angebot wird auf ehrenamtlicher Basis angeboten und ist kostenfrei. \nWer Spaß am Singen hat\, ist herzlich eingeladen mit zu singen. Wir freuen uns auf Dein Kommen!
URL:https://gemeinde-osburg.de/event/singkreis-fuer-senioren-29/
LOCATION:Vereinshaus des MGV\, Unterstr. 9a\, Osburg\, Rheinland-Pfalz\, 54317\, Deutschland
ATTACH;FMTTYPE=image/jpeg:https://gemeinde-osburg.de/wp-content/uploads/2024/12/Singkreis-Senioren-2025-02.jpg
END:VEVENT
BEGIN:VEVENT
DTSTART;TZID=Europe/Berlin:20250403T190000
DTEND;TZID=Europe/Berlin:20250403T190000
DTSTAMP:20260426T003523
CREATED:20241225T123143Z
LAST-MODIFIED:20241231T163918Z
UID:9493-1743706800-1743706800@gemeinde-osburg.de
SUMMARY:Tourneekonzert - Deborah Woodson und der Pop-Rock-Gospelchor "Blue Notes"
DESCRIPTION:Stand 31.12.2024: Kartenvorverkauf hat begonnen \nAm Donnerstag \, den 03.04.2025 \, findet ein Konzert der Extraklasse statt\, für das jetzt der Kartenvorverkauf begonnen hat. „BLACK & WHITE Gospel“ ist das Thema einer Tournee der Gospel-Legende Deborah Woodson. Gemeinsam mit dem Pop-Rock-Gospelchor „Blue Notes“ und ihren „Gospelmates“ wird sie ein gewaltiges musikalisches Feuerwerk abbrennen\, das moderne Rhythmen und Songs genauso streift wie den traditionellen „Black Gospel“. Das Konzert beginnt um 19.00 Uhr in der Kirche St. Clemens Osburg. \nKarten gibt es im Vorverkauf bei Bäckerei Blau in Osburg\, Bäckerei Blau in Reinsfeld\, Eleganza  in Osburg oder online hier und bei Ticket Regional\, natürlich auch an der Abendkasse\, sofern dann noch Karten vorhanden sind. \nDeborah Woodson ist Sängerin und Komponistin. Sie lebt heute in Köln und ist bekannt in diversen Musicalrollen. Sie war Jurymitglied und Solistin bei den „Gospelawards“ 2004 bis 2006\, zudem Vocal-Coach bei DSDS / RTL sowie kürzlich als Jurorin in der Show „All together now“. Sie hat eigene Alben veröffentlicht und ist Buchautorin (z. B. „Wendepunkte“ Brunnen Verlag). Ihr Statement: „Gospel ist meine Herzensmusik!“ \n„Die Tournee ist so konzipiert\, dass engagierte lokale Sängerinnen und Sänger im Gospelchor mit den Profis aus der Musikbranche zusammenkommen“\, beschreibt Chorleiter Frank Weilerswist vom Chor „Blue Notes“ das Konzept. „Als unser Chor für das gemeinsame Konzert angefragt wurde\, fanden wir das sehr interessant. Deborah Woodson\, ihre Gospelmates und unser Chor Blue Notes das wird ein Highlight für die Region Hochwald & Trier. Die musikalische Bandbreite unseres Chores ist groß.“\, so Weilerswist.
URL:https://gemeinde-osburg.de/event/chor-blue-notes-mit-deborah-woodson/
LOCATION:Osburg Kirche\, Klemensstr. 35\, Osburg\, Rheinland-Pfalz\, 54317\, Deutschland
ATTACH;FMTTYPE=image/jpeg:https://gemeinde-osburg.de/wp-content/uploads/2024/12/Gospelkonzert-Black-White-1-seitig-Plakat-_-2-seitig-Flyer-0001.jpg
END:VEVENT
BEGIN:VEVENT
DTSTART;TZID=Europe/Berlin:20250404T064500
DTEND;TZID=Europe/Berlin:20250404T064500
DTSTAMP:20260426T003523
CREATED:20250317T142121Z
LAST-MODIFIED:20250317T142121Z
UID:9717-1743749100-1743749100@gemeinde-osburg.de
SUMMARY:Frühschichten für Grundschulkinder in der Fastenzeit
DESCRIPTION:Frühschichten in der Fastenzeit „Der rote Faden!“ – Und wieder heißt es: Frühes Aufstehen macht Spaß! \nFreitags\, am 28.03.\, am 04.04. und am 11.04. um 6.45 Uhr in der Kirche (Seitenkapelle) in Osburg. \nZusammen mit den Grundschulkindern wollen wir die Fastenzeit besonders gestalten und gemeinsam in den Frühschichten erleben. Wer an diesen Tagen früher aufsteht\, startet in Gemeinschaft mit Gott und Gleichaltrigen in den Tag\, kann singen\, Geschichten hören und gemeinsam frühstücken. So fängt der Tag gut an. Diesmal geht es um den roten Faden: lasst euch überraschen! \nDas Frühstück findet in der Grundschule statt und die Kinder gehen anschließend in Ihre Klassen.
URL:https://gemeinde-osburg.de/event/fruehschichten-fuer-grundschulkinder-in-der-fastenzeit-7/
LOCATION:Kirche (Kapelle) Osburg u. Grundschule Osburg
ATTACH;FMTTYPE=image/png:https://gemeinde-osburg.de/wp-content/uploads/2025/03/Flyer-Advent-Der-rote-Faden.png
END:VEVENT
BEGIN:VEVENT
DTSTART;TZID=Europe/Berlin:20250405T183000
DTEND;TZID=Europe/Berlin:20250405T183000
DTSTAMP:20260426T003523
CREATED:20241225T123434Z
LAST-MODIFIED:20250320T192417Z
UID:9495-1743877800-1743877800@gemeinde-osburg.de
SUMMARY:Rocknacht in Osburg
DESCRIPTION:In Osburg wird wieder gerockt! Freut euch erneut auf eine geballte Ladung Rockmusik\, wenn in Osburg am 5. April 2025\, ab 18:30 Uhr das Vereinshaus seine Tore öffnet! \n\nIn Osburg wird wieder gerockt! Freut euch erneut auf eine geballte Ladung Rockmusik\, wenn in Osburg am 5. April 2025\, ab 18:30 Uhr das Vereinshaus seine Tore öffnet!\n\nDie Rocknacht beginnen diesmal die Beiden Wild West Haudegen \n***** Old McBezen & Dungaree Dan ***** \nDer Schlachtruf von Old McBezen & Dungaree Dan hallt durch die Kneipen und Pubs.\nVerpackt in einer Mischung aus Country\, Bluegrass und Dark Folk erzählen die „Brothers on Farms“ ihre abstruse Lebensgeschichte\, rund um den harten Kampf um die verdiente Ruhe und Frieden im Schaukelstuhl auf der Veranda. Das kalte Dosenbier in der Hand darf natürlich nicht fehlen\, wenn es wieder heißt:\n„Pull down your pants and do the BezenDance!“ \nAls nächste Band sind wir stolz darauf Euch mit \n***** Ascending Wrath ***** \neinen regionalen TopAct präsentieren zu können. Die Band verbindet die rohe Energie des Thrash Metal mit eingängigen Melodien. Die Jung’s werden uns auf der kommenden Rocknacht einen explosiven Mix aus schnellen\, melodischen und kraftvollen Songs präsentieren. \nAls Headliner des Abends präsentieren wir anschließend den „KenoRockt!“ Bandcontest Gewinner von 2023: \n***** PROOF ***** \nBei Proof wird ohne Kompromisse gerockt\, hier kommen Hard Rock\, Heavy Metal und Classic Rock Fans gleichermaßen auf ihre Kosten. „PROOF – Trust in Rock’n‘ Roll“ so lautet das Motto der Band. \nVerpasst nicht die Rocknacht in Osburg! \nÜber EventFrog gibt es wieder die Online-Tickets im VVK ⇒ https://eventfrog.de/…/rocknacht-in-osburg… \nAb sofort gibt es auch wieder den Hardticket VVK bei der Bäckerei Scherer-Dewald in Osburg und bei allen Mitgliedern des HMC auf Anfrage. \nWann: 5. April 2024\nOrt: Vereinshaus MGV in Osburg\, Engweg 9\nVVK: 10\,-€ incl. Gebühren\nAKK: 15\,-€\nEinlass ab 18:30\nStart: 19:30
URL:https://gemeinde-osburg.de/event/rocknacht-in-osburg-3/
LOCATION:Vereinshaus des MGV\, Unterstr. 9a\, Osburg\, Rheinland-Pfalz\, 54317\, Deutschland
ATTACH;FMTTYPE=image/jpeg:https://gemeinde-osburg.de/wp-content/uploads/2024/12/FlyerA4-4te-Rocknacht-scaled.jpg
ORGANIZER;CN="HMC Heidenecken - Heavy Metal Club Heidenecken e.V.":MAILTO:info@hmc-heidenecken.de
END:VEVENT
BEGIN:VEVENT
DTSTART;TZID=Europe/Berlin:20250406T110000
DTEND;TZID=Europe/Berlin:20250406T180000
DTSTAMP:20260426T003523
CREATED:20241225T123707Z
LAST-MODIFIED:20250330T184653Z
UID:9498-1743937200-1743962400@gemeinde-osburg.de
SUMMARY:4. Osburger Frühlingsmarkt
DESCRIPTION:Der 4. Osburger Frühlingsmarkt präsentiert ein vielfältiges Sortiment mit 36 Ausstellern. Angeboten werden Kunst\, Geschenke\, Dekoration\, Leckereien\, Schmuck\, Holz-/Handarbeiten und Vieles mehr… lassen Sie sich überraschen. \nEs werden u. a. Dekorationen aus Gießmasse\, Kleinkinderbekleidung\, Taschen\, Filzschuhe\, Näharbeiten\, Osterdeko\, Bedruckte Textilien\, Personalisiertes\, Wein\, Sekt\, Liköre\, Brände\, ätherische therapeutische Öle\, handgemachte Seifen\, Edelsteinschmuck\, Imkerei- und Bienenprodukte\, Honig und Honigprodukte\, frisches Popcorn\, Ebbes-von-Hei-Produkte\, Holzdekorationen\, Deko- und Geschenkartikel\, Home-Deco\, Selbstgenähtes und Selbstgestricktes\, Bilder und Malerei\, Blumen\, Frühlingskörbchen\, Türkränze\, Kunst\, Tassen\, Häkeltiere\, Häkeleier\, Perlen/Achat/Schiefer/Kork\, Leckereien aus der Küche (Marmeladen\, Chutney\, Gewürze\, Essig etc.\, Bilder mit Kieselsteinen\, Grusskarten\, Stofftiere\, gravierte Dinge… \nUnter anderem könnt ihr probieren oder verkosten… Wein\, Likör und Brände\, Duftproben ätherischer Öle\, Honig- und Honig-Bonbons\, Personalisierungen bei verschiedenen Produkten\, Proben von Marmelade/Chutney/Sirup und Likören…\nFür die Kinder gibt es u. a. ein Bastelangebot der JuKi Osburg e.V. im oberen Eingangsbereich.\nZudem können die Kinder Kuscheltiere selber machen sowie werden zeitweise Luftballontiere angeboten. \nFür das leibliche Wohl ist Bestens gesorgt. Wir bieten Kaffee\, Kuchen und Getränke an. Für das Essen sorgt das Gasthaus Schornstein vor dem unteren Eingang. \nWir freuen uns über viele Besucher 🙂\nDanke für die Unterstützung Westenergie #Westenergie \nWir freuen uns auf Sie! \nFür das leibliche Wohl ist bestens gesorgt \nFragen etc. an Silvia Klemens (Organisation & Planung)\, email: osburg-aktiv@gmx.de
URL:https://gemeinde-osburg.de/event/4-osburger-fruehlingsmarkt/
LOCATION:Osburg Mehrzweckhalle\, Schulstraße\, Osburg\, 54317\, Deutschland
ATTACH;FMTTYPE=image/jpeg:https://gemeinde-osburg.de/wp-content/uploads/2024/12/Plakat-scaled.jpg
END:VEVENT
BEGIN:VEVENT
DTSTART;TZID=Europe/Berlin:20250411T064500
DTEND;TZID=Europe/Berlin:20250411T064500
DTSTAMP:20260426T003523
CREATED:20250317T142156Z
LAST-MODIFIED:20250317T142156Z
UID:9719-1744353900-1744353900@gemeinde-osburg.de
SUMMARY:Frühschichten für Grundschulkinder in der Fastenzeit
DESCRIPTION:Frühschichten in der Fastenzeit „Der rote Faden!“ – Und wieder heißt es: Frühes Aufstehen macht Spaß! \nFreitags\, am 28.03.\, am 04.04. und am 11.04. um 6.45 Uhr in der Kirche (Seitenkapelle) in Osburg. \nZusammen mit den Grundschulkindern wollen wir die Fastenzeit besonders gestalten und gemeinsam in den Frühschichten erleben. Wer an diesen Tagen früher aufsteht\, startet in Gemeinschaft mit Gott und Gleichaltrigen in den Tag\, kann singen\, Geschichten hören und gemeinsam frühstücken. So fängt der Tag gut an. Diesmal geht es um den roten Faden: lasst euch überraschen! \nDas Frühstück findet in der Grundschule statt und die Kinder gehen anschließend in Ihre Klassen.
URL:https://gemeinde-osburg.de/event/fruehschichten-fuer-grundschulkinder-in-der-fastenzeit-8/
LOCATION:Kirche (Kapelle) Osburg u. Grundschule Osburg
ATTACH;FMTTYPE=image/png:https://gemeinde-osburg.de/wp-content/uploads/2025/03/Flyer-Advent-Der-rote-Faden.png
END:VEVENT
BEGIN:VEVENT
DTSTART;TZID=Europe/Berlin:20250411T140000
DTEND;TZID=Europe/Berlin:20250411T180000
DTSTAMP:20260426T003523
CREATED:20250325T133622Z
LAST-MODIFIED:20250404T164719Z
UID:9760-1744380000-1744394400@gemeinde-osburg.de
SUMMARY:Tag der offenen Tür - Seniorenzentrum MENetatis Osburg
DESCRIPTION:Lernen Sie uns kennen! – TAG DER OFFENEN TÜR!\n11. APRIL 2025 von 14:00 bis 18:00 Uhr \nWeitere Infos siehe Plakat.
URL:https://gemeinde-osburg.de/event/tag-der-offenen-tuer-seniorenzentrum-menetatis-osburg/
ATTACH;FMTTYPE=image/jpeg:https://gemeinde-osburg.de/wp-content/uploads/2025/03/Einladung-Tag-offene-Tuer-Seniorenheim.jpg
END:VEVENT
BEGIN:VEVENT
DTSTART;TZID=Europe/Berlin:20250413T110000
DTEND;TZID=Europe/Berlin:20250413T160000
DTSTAMP:20260426T003523
CREATED:20250302T061226Z
LAST-MODIFIED:20250302T061347Z
UID:9642-1744542000-1744560000@gemeinde-osburg.de
SUMMARY:Kräuterwanderung "So schmeckt der Frühling!"
DESCRIPTION:Kräuterwanderung im Osburger Wald mit kleinen Leckereien aus der “Wilden Küche” – Wanderung in Kooperation mit dem Naturpark Saar-Hunsrück\n\n\n\n\n\nZu dieser Zeit hat der Frühling hoffentlich auch im Hochwald Einzug gehalten. Wir suchen seine Spuren in den Wäldern und Bachtälern rund um Osburg. Besonderes Augenmerk richten wir bei unserer 6-8 km langen Wanderung auf die verschiedenen essbaren Wildkräuter. Einige davon werden die Zutaten der kleinen Leckereien aus der „Wilden Küche“ sein\, die es zum Abschluß gibt. Intensive Natur- und „Aha-Erlebnisse“ sind garantiert! \n\n\n\n\n\n\n\nTermin\n13. April 2025\, 11.00 bis 16.00 Uhr\n\n\nFür wen\nAlle Interessierten (Mindestalter 8 Jahre\, Teilnehmende unter 18 Jahren nur in Begleitung)\n\n\nGruppengröße\nmax. 16 Teilnehmende\n\n\nMitzubringen sind\nWitterungsangepasste Kleidung\, festes Schuhwerk\, Getränke und Essen für unterwegs\n\n\nStartpunkt\nOsburg – genauer Treffpunkt wird bei Anmeldung mitgeteilt\n\n\nPreis\n15 Euro pro Person incl. kleinen Leckereien aus der „Wilden Küche“\n\n\nErmäßigung\n(Ermäßigung für Familien und Menschen mit geringem Einkommen)\n\n\n\n\n\n\n\nAnmeldung: Bis 10. April beim Naturpark Saar-Hunsrück\, Telefon 06503/9214-0\, danach noch kurzfristig direkt bei Beate Stoff\, weitere Infos hier.
URL:https://gemeinde-osburg.de/event/kraeuterwanderung-so-schmeckt-der-fruehling/
ATTACH;FMTTYPE=image/jpeg:https://gemeinde-osburg.de/wp-content/uploads/2019/04/Fruehling2019-e1555303747371.jpg
ORGANIZER;CN="silva-mirabilis - Beate Stoff":MAILTO:info@silva-mirabilis.de
END:VEVENT
BEGIN:VEVENT
DTSTART;TZID=Europe/Berlin:20250419T130000
DTEND;TZID=Europe/Berlin:20250419T160000
DTSTAMP:20260426T003523
CREATED:20250211T161635Z
LAST-MODIFIED:20250318T145200Z
UID:9609-1745067600-1745078400@gemeinde-osburg.de
SUMMARY:Saatgut- und Pflanzenbörse
DESCRIPTION:Am Samstag\, 19. April\, findet von 13 – 16 Uhr eine Saatgut- & Pflanzen-Börse in Osburg (beim Spielplatz Steilstrasse) statt. \nGrundsätzlich gilt:\nSie möchten überzählige Blumen-/Pflanzensamen\, Setzlinge\, Ableger\, Stauden oder Zimmerpflanzen sowie Gartenbücher in gute Hände übergeben anstatt sie wegzuwerfen? Sie suchen neue Pflanzen bzw. Saatgut als Abwechslung für Ihr Gartenbeet\, den Balkonkasten oder die Fensterbank? \nBei der Veranstaltung können Sie gerne Pflanzen\, Saatgut etc. einfach abgeben oder mitnehmen. Alles\, was das Hobby-Gärtner*innen-Herz erfreut. \nEs ist keine gewerbliche Veranstaltung. Spenden für einen guten Zweck werden gerne angenommen. \nWenn Sie Interesse haben etwas anzubieten oder weitere Informationen möchten\, melden Sie sich gerne: Handy 0177-7504694 oder per email: osburg-aktiv@gmx.de
URL:https://gemeinde-osburg.de/event/saatgut-und-pflanzenboerse-2/
LOCATION:Spielplatz Steilstrasse\, Steilstrasse\, Osburg\, Rheinland-Pfalz\, 54317\, Deutschland
ATTACH;FMTTYPE=image/jpeg:https://gemeinde-osburg.de/wp-content/uploads/2025/02/Plakat-Pflanzenboerse-2025-neu.jpg
END:VEVENT
BEGIN:VEVENT
DTSTART;TZID=Europe/Berlin:20250419T130000
DTEND;TZID=Europe/Berlin:20250419T163000
DTSTAMP:20260426T003523
CREATED:20241225T123847Z
LAST-MODIFIED:20250331T143722Z
UID:9500-1745067600-1745080200@gemeinde-osburg.de
SUMMARY:Osterrallye in Osburg
DESCRIPTION:Startzeit: 13 bis 15 Uhr\nDauer ca. 1 – 1\,5 Stunden\nStartort: Spielplatz Steilstrasse\, Osburg \nWir haben 3 verschiedene Varianten für das Alter: 4-6\, 7-9 und ab 10 Jahre. \nGerne können auch Familien mit kleinen Kindern die Rallye mitmachen. \nHinweis: Die einzelnen Stationen\, sowie der Weg dorthin\, werden von uns nicht betreut. Daher keine Haftung vom Veranstalter.
URL:https://gemeinde-osburg.de/event/osteraktion-der-jukis-2/
LOCATION:Spielplatz Steilstrasse\, Steilstrasse\, Osburg\, Rheinland-Pfalz\, 54317\, Deutschland
ATTACH;FMTTYPE=image/png:https://gemeinde-osburg.de/wp-content/uploads/2024/12/Osterrallye-2025-04.png
ORGANIZER;CN="JuKi Osburg e.V.":MAILTO:jukiosburg@gmx.de
END:VEVENT
END:VCALENDAR