BEGIN:VCALENDAR
VERSION:2.0
PRODID:-//Ortsgemeinde Osburg - ECPv6.15.20//NONSGML v1.0//EN
CALSCALE:GREGORIAN
METHOD:PUBLISH
X-ORIGINAL-URL:https://gemeinde-osburg.de
X-WR-CALDESC:Veranstaltungen für Ortsgemeinde Osburg
REFRESH-INTERVAL;VALUE=DURATION:PT1H
X-Robots-Tag:noindex
X-PUBLISHED-TTL:PT1H
BEGIN:VTIMEZONE
TZID:Europe/Berlin
BEGIN:DAYLIGHT
TZOFFSETFROM:+0100
TZOFFSETTO:+0200
TZNAME:CEST
DTSTART:20240331T010000
END:DAYLIGHT
BEGIN:STANDARD
TZOFFSETFROM:+0200
TZOFFSETTO:+0100
TZNAME:CET
DTSTART:20241027T010000
END:STANDARD
BEGIN:DAYLIGHT
TZOFFSETFROM:+0100
TZOFFSETTO:+0200
TZNAME:CEST
DTSTART:20250330T010000
END:DAYLIGHT
BEGIN:STANDARD
TZOFFSETFROM:+0200
TZOFFSETTO:+0100
TZNAME:CET
DTSTART:20251026T010000
END:STANDARD
BEGIN:DAYLIGHT
TZOFFSETFROM:+0100
TZOFFSETTO:+0200
TZNAME:CEST
DTSTART:20260329T010000
END:DAYLIGHT
BEGIN:STANDARD
TZOFFSETFROM:+0200
TZOFFSETTO:+0100
TZNAME:CET
DTSTART:20261025T010000
END:STANDARD
END:VTIMEZONE
BEGIN:VEVENT
DTSTART;TZID=Europe/Berlin:20250806T150000
DTEND;TZID=Europe/Berlin:20250806T163000
DTSTAMP:20260425T162935
CREATED:20241225T115452Z
LAST-MODIFIED:20250621T062010Z
UID:9472-1754492400-1754497800@gemeinde-osburg.de
SUMMARY:Singkreis für Senioren
DESCRIPTION:Herzliche Einladung an die Osburger Senioren zum Singkreis\n\nAm 1. Mittwoch des Monats treffen sich um 15 Uhr die Osburger Senioren zum gemeinsamen Singen im Vereinshaus des MGV\, Unterstr. 9a. \nDas Angebot wird auf ehrenamtlicher Basis angeboten und ist kostenfrei. \nWer Spaß am Singen hat\, ist herzlich eingeladen mit zu singen. Wir freuen uns auf Dein Kommen!
URL:https://gemeinde-osburg.de/event/singkreis-fuer-senioren-33/
LOCATION:Vereinshaus des MGV\, Unterstr. 9a\, Osburg\, Rheinland-Pfalz\, 54317\, Deutschland
ATTACH;FMTTYPE=image/jpeg:https://gemeinde-osburg.de/wp-content/uploads/2024/12/Singkreis-Senioren-2025-03.jpg
END:VEVENT
BEGIN:VEVENT
DTSTART;VALUE=DATE:20250816
DTEND;VALUE=DATE:20250817
DTSTAMP:20260425T162935
CREATED:20250725T180632Z
LAST-MODIFIED:20250726T184856Z
UID:10017-1755302400-1755388799@gemeinde-osburg.de
SUMMARY:Sommerfest FSV Osburg
DESCRIPTION:Weitere Infos siehe Plakat…
URL:https://gemeinde-osburg.de/event/sommerfest-fsv-osburg/
LOCATION:Osburg Sportplatz\, Misselbachstr. 24\, Osburg\, 54317\, Deutschland
ATTACH;FMTTYPE=image/jpeg:https://gemeinde-osburg.de/wp-content/uploads/2025/07/Sommerfest-FSV-2025-08.jpeg
ORGANIZER;CN="FSV Osburg 1928 e.V.":MAILTO:info@fsvosburg.de
END:VEVENT
BEGIN:VEVENT
DTSTART;VALUE=DATE:20250829
DTEND;VALUE=DATE:20250901
DTSTAMP:20260425T162935
CREATED:20241225T125238Z
LAST-MODIFIED:20250826T173921Z
UID:9512-1756425600-1756684799@gemeinde-osburg.de
SUMMARY:Waldfest des Musikverein "Harmonie" Osburg
DESCRIPTION:
URL:https://gemeinde-osburg.de/event/waldfest-des-musikverein-harmonie-osburg-2/
LOCATION:Freizeitanlage „Schornstein Wald“
ATTACH;FMTTYPE=image/jpeg:https://gemeinde-osburg.de/wp-content/uploads/2024/12/Waldfest-MV-ABSAGE-2025.jpg
END:VEVENT
BEGIN:VEVENT
DTSTART;TZID=Europe/Berlin:20250830T150000
DTEND;TZID=Europe/Berlin:20250830T190000
DTSTAMP:20260425T162935
CREATED:20250811T060918Z
LAST-MODIFIED:20250811T061510Z
UID:10039-1756566000-1756580400@gemeinde-osburg.de
SUMMARY:INFOTAG - Freiwillige Feuerwehr Osburg
DESCRIPTION:Zur Verstärkung unserer Freiwilligen Feuerwehr suchen wir Frauen und Männer ab 16 Jahren. \nWenn die Feuerwehr gerufen wird\, ist Jemand in Not – dann sind wir gefragt! Stell dir vor es brennt oder du brauchst Hilfe und Keiner kommt…! Auch bei uns Aktiven gibt es neben der Feuer-wehr auch noch andere Aufgaben und Interessen\, wie z. B. Beruf\, Familie\, Freizeitaktivitäten etc.. Damit wir möglichst eine gute Einheit bilden\, benötigen wir DEINE Hilfe! \nDu möchtest wissen\, was unsere Aufgaben sind und was wir tun? Dann komm am Samstag\, 30.08\, in unser Gerätehaus und wir erklären es dir. Es gibt viele verschiedene Aufgaben\, da ist auch was für dich dabei. JEDER kann helfen – bei uns lernst du wie. \nNeben aktiven Kameraden und Kameradinnen suchen wir auch Jugendliche. Komm gerne zu uns\, wir informieren dich. \nZudem gibt es Infos über unsere Bambini-Feuerwehr und unseren Förderverein. \n\nJugendfeuerwehr der Freiwilligen Feuerwehr Osburg \nDu bist 10 Jahre oder älter und interessierst dich für Technik und Fahrzeuge? Möchtest gerne Gemeinschaft erleben mit gleichaltrigen Jugendlichen sowie dich gemeinnützig und für andere Menschen engagieren? Hast Spaß körperlich aktiv zu sein und hälst dich gerne an der frischen Luft auf und bist bereit\, dich für andere einzusetzen? Dann bist du bei der Jugendfeuerwehr genau richtig! Wir treffen uns in jeder geraden Woche mittwochs um 18:30 Uhr (bis ca. 20 Uhr). \nZudem lernst du die Fahrzeuge der Feuerwehr\, den Umgang mit feuerwehrtechnischem Gerät und das Arbeiten im Team kennen. Komm am Samstag\, 30.08\, in unser Gerätehaus und wir erklären es dir\, gerne auch mit deinen Eltern. \n\nWeitere Informationen über uns findest du hier.
URL:https://gemeinde-osburg.de/event/infotag-freiwillige-feuerwehr-osburg/
LOCATION:Freiwillige Feuerwehr Osburg\, Gerätehaus\, Schulstr. 16a\, Osburg\, Rheinland-Pfalz\, 54317\, Deutschland
ATTACH;FMTTYPE=image/png:https://gemeinde-osburg.de/wp-content/uploads/2025/08/FW-Infotag-2025-08-30.png
END:VEVENT
END:VCALENDAR