BEGIN:VCALENDAR
VERSION:2.0
PRODID:-//Ortsgemeinde Osburg - ECPv6.15.20//NONSGML v1.0//EN
CALSCALE:GREGORIAN
METHOD:PUBLISH
X-WR-CALNAME:Ortsgemeinde Osburg
X-ORIGINAL-URL:https://gemeinde-osburg.de
X-WR-CALDESC:Veranstaltungen für Ortsgemeinde Osburg
REFRESH-INTERVAL;VALUE=DURATION:PT1H
X-Robots-Tag:noindex
X-PUBLISHED-TTL:PT1H
BEGIN:VTIMEZONE
TZID:Europe/Berlin
BEGIN:DAYLIGHT
TZOFFSETFROM:+0100
TZOFFSETTO:+0200
TZNAME:CEST
DTSTART:20240331T010000
END:DAYLIGHT
BEGIN:STANDARD
TZOFFSETFROM:+0200
TZOFFSETTO:+0100
TZNAME:CET
DTSTART:20241027T010000
END:STANDARD
BEGIN:DAYLIGHT
TZOFFSETFROM:+0100
TZOFFSETTO:+0200
TZNAME:CEST
DTSTART:20250330T010000
END:DAYLIGHT
BEGIN:STANDARD
TZOFFSETFROM:+0200
TZOFFSETTO:+0100
TZNAME:CET
DTSTART:20251026T010000
END:STANDARD
BEGIN:DAYLIGHT
TZOFFSETFROM:+0100
TZOFFSETTO:+0200
TZNAME:CEST
DTSTART:20260329T010000
END:DAYLIGHT
BEGIN:STANDARD
TZOFFSETFROM:+0200
TZOFFSETTO:+0100
TZNAME:CET
DTSTART:20261025T010000
END:STANDARD
END:VTIMEZONE
BEGIN:VEVENT
DTSTART;TZID=Europe/Berlin:20251105T150000
DTEND;TZID=Europe/Berlin:20251105T163000
DTSTAMP:20260423T203624
CREATED:20241225T115628Z
LAST-MODIFIED:20250921T104212Z
UID:9478-1762354800-1762360200@gemeinde-osburg.de
SUMMARY:Singkreis für Senioren
DESCRIPTION:Herzliche Einladung an die Osburger Senioren zum Singkreis\n\nAm 1. Mittwoch des Monats treffen sich um 15 Uhr die Osburger Senioren zum gemeinsamen Singen im Vereinshaus des MGV\, Unterstr. 9a. \nDas Angebot wird auf ehrenamtlicher Basis angeboten und ist kostenfrei. \nWer Spaß am Singen hat\, ist herzlich eingeladen mit zu singen. Wir freuen uns auf Dein Kommen! \n 
URL:https://gemeinde-osburg.de/event/singkreis-fuer-senioren-36/
LOCATION:Vereinshaus des MGV\, Unterstr. 9a\, Osburg\, Rheinland-Pfalz\, 54317\, Deutschland
ATTACH;FMTTYPE=image/jpeg:https://gemeinde-osburg.de/wp-content/uploads/2024/12/Singkreis-Senioren-2025-09.jpg
END:VEVENT
BEGIN:VEVENT
DTSTART;TZID=Europe/Berlin:20251108T180000
DTEND;TZID=Europe/Berlin:20251108T180000
DTSTAMP:20260423T203624
CREATED:20241225T130501Z
LAST-MODIFIED:20251024T062159Z
UID:9526-1762624800-1762624800@gemeinde-osburg.de
SUMMARY:St. Martin mit Umzug
DESCRIPTION:Mit dem vom Kindergarten Osburg mit Musikkreis gestalteten Wortgottesdienst beginnt am Samstag\, 08. November 2025\, um 18 Uhr in der Osburger Kirche die Einstimmung auf St. Martin. Anschließend führt St. Martin mit seinem Ross den Umzug bis zum prasselnden Martinsfeuer am Festplatz\, musikalisch begleitet vom Musikverein Harmonie Osburg. Dort warten bereits leckere Martinsbrezeln der Ortsgemeinde auf jedes Kind.\nGemütliches Beisammensein u. a. mit Glühwein\, Kinderpunsch und leckeren Würstchen beim Feuer. \nDanke an alle Mitwirkenden\, insbesondere ans Kindergartenteam\, Musikkreis\, Musikverein Harmonie Osburg\, Freiwillige Feuerwehr\, Förderverein Freiwillige Feuerwehr Osburg sowie der Ortsgemeinde.
URL:https://gemeinde-osburg.de/event/st-martin-mit-umzug-3/
LOCATION:Osburg Festplatz\, Unter Wiesloch 1\, Unter Wiesloch 1\, 54317 Osburg\, 54317\, Deutschland
ATTACH;FMTTYPE=image/jpeg:https://gemeinde-osburg.de/wp-content/uploads/2025/10/Plakat-St.-Martin-2025-11.jpg
END:VEVENT
BEGIN:VEVENT
DTSTART;TZID=Europe/Berlin:20251114T183000
DTEND;TZID=Europe/Berlin:20251114T183000
DTSTAMP:20260423T203624
CREATED:20241004T074839Z
LAST-MODIFIED:20250818T174847Z
UID:9232-1763145000-1763145000@gemeinde-osburg.de
SUMMARY:Theateraufführung
DESCRIPTION:
URL:https://gemeinde-osburg.de/event/theaterauffuehrung-7/
LOCATION:Vereinshaus des MGV\, Unterstr. 9a\, Osburg\, Rheinland-Pfalz\, 54317\, Deutschland
ATTACH;FMTTYPE=image/jpeg:https://gemeinde-osburg.de/wp-content/uploads/2024/10/Theater-2025-1.jpg
END:VEVENT
BEGIN:VEVENT
DTSTART;TZID=Europe/Berlin:20251115T100000
DTEND;TZID=Europe/Berlin:20251115T100000
DTSTAMP:20260423T203624
CREATED:20251103T171211Z
LAST-MODIFIED:20251109T174047Z
UID:10171-1763200800-1763200800@gemeinde-osburg.de
SUMMARY:Baumschnittkurs - für ALLE
DESCRIPTION:UPDATE 09.11.25: Baumschnittkurs für Jedermann – nicht nur für Jugendliche! \nIn einer kleinen Gruppe könnt ihr kostenlos mit einem Gärtner lernen\, wie man Obstbäume schneidet. \nAnmeldung schnellstens unter d.loewen@kv-trier-saarburg.drk.de oder schreibt uns auf Instagram \n(Frist wurde verlängert) \nTreffpunkt: Jugendraum Osburg\, Peter-Jäckel-Str. 3
URL:https://gemeinde-osburg.de/event/baumschnittkurs-fuer-jugendliche/
LOCATION:Jugendraum Osburg\, Peter-Jäckel-Str. 3\, Osburg\, 54317\, Deutschland
ATTACH;FMTTYPE=image/jpeg:https://gemeinde-osburg.de/wp-content/uploads/2025/11/Baumschnittkurs-fuer-Jugendliche-2025-11-15.jpg
END:VEVENT
BEGIN:VEVENT
DTSTART;TZID=Europe/Berlin:20251115T183000
DTEND;TZID=Europe/Berlin:20251115T183000
DTSTAMP:20260423T203624
CREATED:20241004T075003Z
LAST-MODIFIED:20250818T174925Z
UID:9235-1763231400-1763231400@gemeinde-osburg.de
SUMMARY:Theateraufführung
DESCRIPTION:
URL:https://gemeinde-osburg.de/event/theaterauffuehrung-8/
LOCATION:Vereinshaus des MGV\, Unterstr. 9a\, Osburg\, Rheinland-Pfalz\, 54317\, Deutschland
ATTACH;FMTTYPE=image/jpeg:https://gemeinde-osburg.de/wp-content/uploads/2024/10/Theater-2025-1.jpg
END:VEVENT
BEGIN:VEVENT
DTSTART;TZID=Europe/Berlin:20251121T183000
DTEND;TZID=Europe/Berlin:20251121T183000
DTSTAMP:20260423T203624
CREATED:20241004T075051Z
LAST-MODIFIED:20250818T174958Z
UID:9237-1763749800-1763749800@gemeinde-osburg.de
SUMMARY:Theateraufführung
DESCRIPTION:
URL:https://gemeinde-osburg.de/event/theaterauffuehrung-9/
LOCATION:Vereinshaus des MGV\, Unterstr. 9a\, Osburg\, Rheinland-Pfalz\, 54317\, Deutschland
ATTACH;FMTTYPE=image/jpeg:https://gemeinde-osburg.de/wp-content/uploads/2024/10/Theater-2025-1.jpg
END:VEVENT
BEGIN:VEVENT
DTSTART;TZID=Europe/Berlin:20251122T183000
DTEND;TZID=Europe/Berlin:20251122T183000
DTSTAMP:20260423T203624
CREATED:20241004T075135Z
LAST-MODIFIED:20250818T175035Z
UID:9239-1763836200-1763836200@gemeinde-osburg.de
SUMMARY:Theateraufführung
DESCRIPTION:
URL:https://gemeinde-osburg.de/event/theaterauffuehrung-10/
LOCATION:Vereinshaus des MGV\, Unterstr. 9a\, Osburg\, Rheinland-Pfalz\, 54317\, Deutschland
ATTACH;FMTTYPE=image/jpeg:https://gemeinde-osburg.de/wp-content/uploads/2024/10/Theater-2025-1.jpg
END:VEVENT
BEGIN:VEVENT
DTSTART;TZID=Europe/Berlin:20251123T140000
DTEND;TZID=Europe/Berlin:20251123T173000
DTSTAMP:20260423T203624
CREATED:20241225T131007Z
LAST-MODIFIED:20251107T194238Z
UID:9528-1763906400-1763919000@gemeinde-osburg.de
SUMMARY:Clemenskaffee – Ein Begegnungskaffee für Jung & Alt
DESCRIPTION:Herzliche Einladung zum diesjährigen Clemenskaffee am Sonntag\, 23. November um 14 Uhr im Vereinshaus des Männergesangvereins. \nBei Kaffee und Kuchen steht die Unterhaltung mit- und untereinander im Vordergrund. Ein kleines Programm mit einem Theaterstück und Musik zum Mitsingen umrahmt den Nachmittag. \nEs würde uns sehr freuen\, wenn wir an diesem Sonntagnachmittag viele unserer Osburger Bewohner – ob jung   oder alt – im Vereinshaus begrüßen könnten. \nEs laden hierzu herzlich die Pfarrei und die Ortsgemeinde ein. \nAus organisatorischen Gründen bitten wir um Anmeldung bei Monika Wasserfuhr (Tel. 1621)\, Elke Bertges (Tel. 910 1903) oder Leonie Quint (Tel. 8159).
URL:https://gemeinde-osburg.de/event/clemenskaffee-ein-begegnungskaffee-fuer-jung-alt-3/
LOCATION:Vereinshaus des MGV\, Unterstr. 9a\, Osburg\, Rheinland-Pfalz\, 54317\, Deutschland
ATTACH;FMTTYPE=image/jpeg:https://gemeinde-osburg.de/wp-content/uploads/2024/12/Plakat-Amtsblatt-Clemenskaffe-23.11.2025.jpg
END:VEVENT
BEGIN:VEVENT
DTSTART;TZID=Europe/Berlin:20251128T064500
DTEND;TZID=Europe/Berlin:20251128T064500
DTSTAMP:20260423T203624
CREATED:20251117T190217Z
LAST-MODIFIED:20251117T190217Z
UID:10236-1764312300-1764312300@gemeinde-osburg.de
SUMMARY:Frühschichten für Grundschulkinder im Advent: „Wir sehnen uns nach Licht!“
DESCRIPTION:Herzliche Einladung an alle zu den Frühschichten im Advent. \nFreitag\, 28.11.2025\nFreitag\, 5.12.2025  \nJeweils um 6.45 Uhr in der Kirche (Seitenkapelle) in Osburg. \nZusammen mit den Grundschulkindern wollen wir den Advent besonders gestalten und gemeinsam in den Frühschichten erleben. Wer an diesen Tagen früher aufsteht\, startet in Gemeinschaft mit Gott und Gleichaltrigen in den Tag\, kann singen\, Geschichten hören und gemeinsam frühstücken. \nSo fängt der Tag gut an. \nDas Frühstück findet in der Grundschule statt und die Kinder gehen anschließend in ihre Klassen. \n 
URL:https://gemeinde-osburg.de/event/fruehschichten-fuer-grundschulkinder-im-advent-wir-sehnen-uns-nach-licht/
LOCATION:Kirche (Kapelle) Osburg u. Grundschule Osburg
ATTACH;FMTTYPE=image/png:https://gemeinde-osburg.de/wp-content/uploads/2025/11/Wir-sehnen-uns-nach-Licht.png
END:VEVENT
BEGIN:VEVENT
DTSTART;TZID=Europe/Berlin:20251129T150000
DTEND;TZID=Europe/Berlin:20251129T150000
DTSTAMP:20260423T203624
CREATED:20241225T131134Z
LAST-MODIFIED:20251104T150247Z
UID:9530-1764428400-1764428400@gemeinde-osburg.de
SUMMARY:Weihnachtsmarkt des Osburger TC
DESCRIPTION:
URL:https://gemeinde-osburg.de/event/weihnachtsmarkt-des-osburger-tc-7/
LOCATION:Clubhaus Tennisclub\, Unter Wiesloch 3\, Osburg\, 54317
ATTACH;FMTTYPE=image/jpeg:https://gemeinde-osburg.de/wp-content/uploads/2024/12/Weihnachtsmarkt-OTC.jpg
ORGANIZER;CN="OTC - Osburger Tennisclub":MAILTO:info@tennisverein-osburg.de
END:VEVENT
END:VCALENDAR