BEGIN:VCALENDAR
VERSION:2.0
PRODID:-//Ortsgemeinde Osburg - ECPv6.15.20//NONSGML v1.0//EN
CALSCALE:GREGORIAN
METHOD:PUBLISH
X-ORIGINAL-URL:https://gemeinde-osburg.de
X-WR-CALDESC:Veranstaltungen für Ortsgemeinde Osburg
REFRESH-INTERVAL;VALUE=DURATION:PT1H
X-Robots-Tag:noindex
X-PUBLISHED-TTL:PT1H
BEGIN:VTIMEZONE
TZID:Europe/Berlin
BEGIN:DAYLIGHT
TZOFFSETFROM:+0100
TZOFFSETTO:+0200
TZNAME:CEST
DTSTART:20240331T010000
END:DAYLIGHT
BEGIN:STANDARD
TZOFFSETFROM:+0200
TZOFFSETTO:+0100
TZNAME:CET
DTSTART:20241027T010000
END:STANDARD
BEGIN:DAYLIGHT
TZOFFSETFROM:+0100
TZOFFSETTO:+0200
TZNAME:CEST
DTSTART:20250330T010000
END:DAYLIGHT
BEGIN:STANDARD
TZOFFSETFROM:+0200
TZOFFSETTO:+0100
TZNAME:CET
DTSTART:20251026T010000
END:STANDARD
BEGIN:DAYLIGHT
TZOFFSETFROM:+0100
TZOFFSETTO:+0200
TZNAME:CEST
DTSTART:20260329T010000
END:DAYLIGHT
BEGIN:STANDARD
TZOFFSETFROM:+0200
TZOFFSETTO:+0100
TZNAME:CET
DTSTART:20261025T010000
END:STANDARD
END:VTIMEZONE
BEGIN:VEVENT
DTSTART;TZID=Europe/Berlin:20251203T150000
DTEND;TZID=Europe/Berlin:20251203T163000
DTSTAMP:20260423T175246
CREATED:20241225T115701Z
LAST-MODIFIED:20250921T104242Z
UID:9480-1764774000-1764779400@gemeinde-osburg.de
SUMMARY:Singkreis für Senioren
DESCRIPTION:Herzliche Einladung an die Osburger Senioren zum Singkreis\n\nAm 1. Mittwoch des Monats treffen sich um 15 Uhr die Osburger Senioren zum gemeinsamen Singen im Vereinshaus des MGV\, Unterstr. 9a. \nDas Angebot wird auf ehrenamtlicher Basis angeboten und ist kostenfrei. \nWer Spaß am Singen hat\, ist herzlich eingeladen mit zu singen. Wir freuen uns auf Dein Kommen! \n 
URL:https://gemeinde-osburg.de/event/singkreis-fuer-senioren-37/
LOCATION:Vereinshaus des MGV\, Unterstr. 9a\, Osburg\, Rheinland-Pfalz\, 54317\, Deutschland
ATTACH;FMTTYPE=image/jpeg:https://gemeinde-osburg.de/wp-content/uploads/2024/12/Singkreis-Senioren-2025-09.jpg
END:VEVENT
BEGIN:VEVENT
DTSTART;TZID=Europe/Berlin:20251205T064500
DTEND;TZID=Europe/Berlin:20251205T064500
DTSTAMP:20260423T175246
CREATED:20251117T190347Z
LAST-MODIFIED:20251117T190347Z
UID:10239-1764917100-1764917100@gemeinde-osburg.de
SUMMARY:Frühschichten für Grundschulkinder im Advent: „Wir sehnen uns nach Licht!“
DESCRIPTION:Herzliche Einladung an alle zu den Frühschichten im Advent. \nFreitag\, 28.11.2025\nFreitag\, 5.12.2025  \nJeweils um 6.45 Uhr in der Kirche (Seitenkapelle) in Osburg. \nZusammen mit den Grundschulkindern wollen wir den Advent besonders gestalten und gemeinsam in den Frühschichten erleben. Wer an diesen Tagen früher aufsteht\, startet in Gemeinschaft mit Gott und Gleichaltrigen in den Tag\, kann singen\, Geschichten hören und gemeinsam frühstücken. \nSo fängt der Tag gut an. \nDas Frühstück findet in der Grundschule statt und die Kinder gehen anschließend in ihre Klassen
URL:https://gemeinde-osburg.de/event/fruehschichten-fuer-grundschulkinder-im-advent-wir-sehnen-uns-nach-licht-2/
LOCATION:Kirche (Kapelle) Osburg u. Grundschule Osburg
ATTACH;FMTTYPE=image/png:https://gemeinde-osburg.de/wp-content/uploads/2025/11/Wir-sehnen-uns-nach-Licht.png
END:VEVENT
BEGIN:VEVENT
DTSTART;TZID=Europe/Berlin:20251206T150000
DTEND;TZID=Europe/Berlin:20251206T150000
DTSTAMP:20260423T175246
CREATED:20250509T183058Z
LAST-MODIFIED:20251124T153756Z
UID:9888-1765033200-1765033200@gemeinde-osburg.de
SUMMARY:Adventsfenster Jugendraum
DESCRIPTION:
URL:https://gemeinde-osburg.de/event/adventsfenster-jugendtreff/
LOCATION:Jugendraum Osburg\, Peter-Jäckel-Str. 3\, Osburg\, 54317\, Deutschland
ATTACH;FMTTYPE=image/jpeg:https://gemeinde-osburg.de/wp-content/uploads/2025/05/Adventsfenster-JR-2025-12-06.jpeg
END:VEVENT
BEGIN:VEVENT
DTSTART;TZID=Europe/Berlin:20251207T110000
DTEND;TZID=Europe/Berlin:20251207T150000
DTSTAMP:20260423T175246
CREATED:20250302T061327Z
LAST-MODIFIED:20250302T061327Z
UID:9648-1765105200-1765119600@gemeinde-osburg.de
SUMMARY:Winterwanderung rund um Osburg
DESCRIPTION:Geführte Rundwanderung durch den winterlichen Hochwald – Wanderung in Kooperation mit dem Naturpark Saar-Hunsrück\n\n\n\n\n\nWanderungen im Osburger Hochwald haben zu jeder Jahreszeit ihren Reiz – und auch im Winter ist noch einiges los! Rehe\, Wildschweine\, Füchse und andere Tiere ziehen umher und hinterlassen ihre Spuren im Schnee oder auf feuchten Wegen. Im kahlen Geäst der Bäume lassen sich Vögel oder ihre Nester und Nisthöhlen nun sogar besser entdecken als im Sommer. Moose und Flechten sorgen bei genauem Hinsehen für kleine Farbtupfer. \nDie geführte Rundwanderung wird ca. 6 km lang sein\, sie führt über Waldwege und ist nicht für Kinderwägen oder Rollstühle geeignet. \n\n\n\n\n\n\n\nTermin\n7. Dezember 2025\, 11.00 bis ca. 15.00 Uhr\n\n\nFür wen\nAlle Interessierten (Mindestalter 8 Jahre\, Teilnehmende unter 18 Jahren nur in Begleitung)\n\n\nGruppengröße\nmax. 16 Teilnehmende\n\n\nMitzubringen sind\nWitterungsangepasste Kleidung\, festes Schuhwerk\, Getränke und Essen für unterwegs\n\n\nStartpunkt\nOsburg – genauer Treffpunkt wird bei Anmeldung mitgeteilt\n\n\nPreis\n10 Euro pro Person\n\n\nErmäßigung\nErmäßigung für Familien und Menschen mit geringem Einkommen\n\n\n\n\n\n\n\nAnmeldung: Bis 3. Dezember beim Naturpark Saar-Hunsrück\, Telefon 06503/9214-0\, danach noch kurzfristig direkt bei Beate Stoff\, weitere Infos hier.
URL:https://gemeinde-osburg.de/event/winterwanderung-rund-um-osburg-5/
ATTACH;FMTTYPE=image/jpeg:https://gemeinde-osburg.de/wp-content/uploads/2024/03/Winterwanderung.jpg
ORGANIZER;CN="silva-mirabilis - Beate Stoff":MAILTO:info@silva-mirabilis.de
END:VEVENT
BEGIN:VEVENT
DTSTART;TZID=Europe/Berlin:20251212T160000
DTEND;TZID=Europe/Berlin:20251212T160000
DTSTAMP:20260423T175246
CREATED:20251111T160642Z
LAST-MODIFIED:20251111T160654Z
UID:10213-1765555200-1765555200@gemeinde-osburg.de
SUMMARY:Advents-Konzert & -Basar Grundschule Osburg
DESCRIPTION:
URL:https://gemeinde-osburg.de/event/advents-konzert-basar-grundschule-osburg/
ATTACH;FMTTYPE=image/png:https://gemeinde-osburg.de/wp-content/uploads/2025/11/Adventsbasar-Schule-2025-12-12.png
END:VEVENT
BEGIN:VEVENT
DTSTART;TZID=Europe/Berlin:20251213T150000
DTEND;TZID=Europe/Berlin:20251213T150000
DTSTAMP:20260423T175246
CREATED:20251120T164801Z
LAST-MODIFIED:20251120T164801Z
UID:10249-1765638000-1765638000@gemeinde-osburg.de
SUMMARY:Adventscafé im MENetatis Seniorenzentrum Osburg
DESCRIPTION:
URL:https://gemeinde-osburg.de/event/adventscafe-im-menetatis-seniorenzentrum-osburg/
LOCATION:MENetatis Seniorenzentrum Osburg\, Peter-Jäckel-Str. 2a\, Osburg\, 54317\, Germany
ATTACH;FMTTYPE=image/jpeg:https://gemeinde-osburg.de/wp-content/uploads/2025/11/Adventscafe-Menetatis-2025-12-13-e1763656995873.jpg
END:VEVENT
BEGIN:VEVENT
DTSTART;TZID=Europe/Berlin:20251214T170000
DTEND;TZID=Europe/Berlin:20251214T170000
DTSTAMP:20260423T175246
CREATED:20250804T125850Z
LAST-MODIFIED:20251130T085931Z
UID:10028-1765731600-1765731600@gemeinde-osburg.de
SUMMARY:Klingendes Adventsfenster
DESCRIPTION:Am 3. Adventssonntag ist es wieder so weit. Wie in den vergangenen Jahren stimmen Euch die musikalischen Osburger Vereine auf die Weihnachtszeit ein ! \nFreut euch auf einen besinnlichen und fröhlichen Abend mit breit gefächerter Chor- und Orchestermusik. Im Anschluß trefft ihr die kleinen und großen Sänger/innen und Musiker zu netten Gesprächen bei kostenlosem Glühwein\, Kinderpunsch und Gebäck. Der Eintritt ist wie immer frei\, wir sind dankbar über jede Spende für die kulturelle Arbeit der teilnehmenden Vereine. \nUm 17:00 Uhr geht’s los ! Kommt vorbei\, bringt Familie und Freunde mit\, und lasst Euch von der Musik in vorweihnachtliche Stimmung versetzen. Auf einen wunderschönen\, gemeinsamen Abend freuen sich : \n\nKinderchor „Grundschule Osburg“ (Cäcilia Lauterbach)\nMännergesangverein „Harmonie“ (Konrad Degenhardt)\nKirchenchor „St. Clemens“ (Georg Böse)\nChor „Blue Notes“ (Frank Weilerswist)\nMusikverein „Harmonie“ (Frank Höllen)\n\n 
URL:https://gemeinde-osburg.de/event/klingendes-adventsfenster-2/
LOCATION:Osburg Kirche\, Klemensstr. 35\, Osburg\, Rheinland-Pfalz\, 54317\, Deutschland
ATTACH;FMTTYPE=image/jpeg:https://gemeinde-osburg.de/wp-content/uploads/2025/08/Adventsfenster-Choere-2025-12-14.jpg
END:VEVENT
BEGIN:VEVENT
DTSTART;TZID=Europe/Berlin:20251221T090000
DTEND;TZID=Europe/Berlin:20251221T090000
DTSTAMP:20260423T175246
CREATED:20251210T061532Z
LAST-MODIFIED:20251210T061532Z
UID:10318-1766307600-1766307600@gemeinde-osburg.de
SUMMARY:Adventsfenster HochwaldTrailer e.V. und HVV Osburg
DESCRIPTION:Am Sonntag\, 21.12.2025 findet in der Grillhütte des HVV Osburg (Freizeitanlage Schornstein Wald) ein kleines Adventsfenster in Form eines Jahresabschlussfrühschoppens statt. \nWir treffen uns um 09:00 Uhr im Dorf am Place de Velars (Marktplatz) und spazieren gemeinsam in den Schornstein Wald\, wo uns Kaltgetränke sowie Glühwein und Punsch zu kleinen Preisen erwarten. Personen\, die den Weg nicht zu Fuß gehen können\, können natürlich gerne um 10:00 Uhr eigenständig zur Veranstaltung zur Freizeitanlage kommen.\nJede(r) ist herzlich Willkommen. \nSonntag\, 21.12.2025\, 09:00 Uhr (Fußmarsch ab Marktplatz) / 10:00 Uhr Schornstein Wald\n54317 Osburg\, Freizeitanlage Schornstein Wald \nÜber eine rege Beteiligung auch an der Wanderung zum Frühschoppen würden wir uns sehr freuen. \nStefan Petry\, 1. Vorsitzender HochwaldTrailer e.V.\nAlfons Scheuring\, 1. Vorsitzender Heimat- und Verkehrsverein Osburger Hochwald e. V.
URL:https://gemeinde-osburg.de/event/adventsfenster-hochwaldtrailer-e-v-und-hvv-osburg/
ORGANIZER;CN="Hochwaldtrailer e.V.":MAILTO:info@hochwaldtrailer.de
END:VEVENT
END:VCALENDAR