BEGIN:VCALENDAR
VERSION:2.0
PRODID:-//Ortsgemeinde Osburg - ECPv6.15.20//NONSGML v1.0//EN
CALSCALE:GREGORIAN
METHOD:PUBLISH
X-ORIGINAL-URL:https://gemeinde-osburg.de
X-WR-CALDESC:Veranstaltungen für Ortsgemeinde Osburg
REFRESH-INTERVAL;VALUE=DURATION:PT1H
X-Robots-Tag:noindex
X-PUBLISHED-TTL:PT1H
BEGIN:VTIMEZONE
TZID:Europe/Berlin
BEGIN:DAYLIGHT
TZOFFSETFROM:+0100
TZOFFSETTO:+0200
TZNAME:CEST
DTSTART:20250330T010000
END:DAYLIGHT
BEGIN:STANDARD
TZOFFSETFROM:+0200
TZOFFSETTO:+0100
TZNAME:CET
DTSTART:20251026T010000
END:STANDARD
BEGIN:DAYLIGHT
TZOFFSETFROM:+0100
TZOFFSETTO:+0200
TZNAME:CEST
DTSTART:20260329T010000
END:DAYLIGHT
BEGIN:STANDARD
TZOFFSETFROM:+0200
TZOFFSETTO:+0100
TZNAME:CET
DTSTART:20261025T010000
END:STANDARD
BEGIN:DAYLIGHT
TZOFFSETFROM:+0100
TZOFFSETTO:+0200
TZNAME:CEST
DTSTART:20270328T010000
END:DAYLIGHT
BEGIN:STANDARD
TZOFFSETFROM:+0200
TZOFFSETTO:+0100
TZNAME:CET
DTSTART:20271031T010000
END:STANDARD
END:VTIMEZONE
BEGIN:VEVENT
DTSTART;VALUE=DATE:20260412
DTEND;VALUE=DATE:20260513
DTSTAMP:20260419T155629
CREATED:20260221T194453Z
LAST-MODIFIED:20260221T194453Z
UID:10439-1775952000-1778630399@gemeinde-osburg.de
SUMMARY:"So schmeckt der Frühling" - Kräuterwanderung im Osburger Wald
DESCRIPTION:„So schmeckt der Frühling“ – Kräuterwanderung im Osburger Wald mit kleinen Leckereien aus der “Wilden Küche” \nWeitere Infos auf der Homepage von Beate Stoff → silva mirabilis | Was\, wann\, wo
URL:https://gemeinde-osburg.de/event/so-schmeckt-der-fruehling-kraeuterwanderung-im-osburger-wald-3/
ATTACH;FMTTYPE=image/jpeg:https://gemeinde-osburg.de/wp-content/uploads/2019/04/Fruehling2019-e1555303747371.jpg
ORGANIZER;CN="silva-mirabilis - Beate Stoff":MAILTO:info@silva-mirabilis.de
END:VEVENT
BEGIN:VEVENT
DTSTART;TZID=Europe/Berlin:20260501T120000
DTEND;TZID=Europe/Berlin:20260501T220000
DTSTAMP:20260419T155629
CREATED:20251202T200434Z
LAST-MODIFIED:20260405T060103Z
UID:10281-1777636800-1777672800@gemeinde-osburg.de
SUMMARY:Maibaum-Aufstellung und Maifest
DESCRIPTION:Die Freiwillige Feuerwehr Osburg lädt ein zum Maibaum aufstellen am Freitag\, 01. Mai 2026\, um ca. 12 Uhr beim Marktplatz Osburg. \nUm circa 12.30 Uhr startet ein gemeinsamer Spaziergang mit dem HochwaldTrailer e.V.. Alle sind hierzu herzlich eingeladen\, der Weg ist Kinderwagentauglich. \nAb 14.30 Uhr bieten wir beim Gerätehaus Kaffee\, Kuchen\, Getränke und Grillgut an. \nWir freuen uns auf viele Besucher. \nIhre Freiwillige Feuerwehr Osburg & Förderverein Freiwillige Feuerwehr Osburg
URL:https://gemeinde-osburg.de/event/maibaum-aufstellung-4/
ATTACH;FMTTYPE=image/jpeg:https://gemeinde-osburg.de/wp-content/uploads/2025/12/Maibaum-Maifest-2026-05-01.jpeg
END:VEVENT
BEGIN:VEVENT
DTSTART;TZID=Europe/Berlin:20260506T150000
DTEND;TZID=Europe/Berlin:20260506T150000
DTSTAMP:20260419T155629
CREATED:20251210T065544Z
LAST-MODIFIED:20260319T060612Z
UID:10329-1778079600-1778079600@gemeinde-osburg.de
SUMMARY:Singkreis für Senioren
DESCRIPTION:Herzliche Einladung an die Osburger Senioren zum Singkreis\n\nAm 1. Mittwoch des Monats treffen sich um 15 Uhr die Osburger Senioren zum gemeinsamen Singen im Vereinshaus des MGV\, Unterstr. 9a. \nDas Angebot wird auf ehrenamtlicher Basis angeboten und ist kostenfrei. \nWer Spaß am Singen hat\, ist herzlich eingeladen mit zu singen. Wir freuen uns auf Dein Kommen!
URL:https://gemeinde-osburg.de/event/singkreis-fuer-senioren-40/
LOCATION:Vereinshaus des MGV\, Unterstr. 9a\, Osburg\, Rheinland-Pfalz\, 54317\, Deutschland
ATTACH;FMTTYPE=image/jpeg:https://gemeinde-osburg.de/wp-content/uploads/2025/12/Singkreis-Senioren-2026-02.jpg
END:VEVENT
BEGIN:VEVENT
DTSTART;VALUE=DATE:20260515
DTEND;VALUE=DATE:20260519
DTSTAMP:20260419T155629
CREATED:20251202T200902Z
LAST-MODIFIED:20260419T095329Z
UID:10285-1778803200-1779148799@gemeinde-osburg.de
SUMMARY:38. Dorf- und Heimatfest - Osburger Kirmes
DESCRIPTION:Freitag\, 15.05.2026 ab 19:00 Uhr\n19:30 Uhr Einlass\n20:30 Uhr Demon´s Eye\nEintritt: VVK 15 Euro\, Abendkasse 20 Euro \nVORVERKAUF:\n• Bäckerei Blau Osburg & Reinsfeld\n• Bäckerei Scherer-Dewald\, Osburg\, Thomm & Trier-Olewig\n• Boxengasse Schweich \nSamstag\, 16.05.2026\n18:30 Uhr Platzkonzert Musikverein Osburg\n20:30 Uhr Soul & More\nEintritt: FREI \nSonntag 17.05.2026 „Familientag“\nab 11 Uhr Frühschoppen\nab 12 Uhr Mittagstisch\nab 14 Uhr Tanzgruppen Kinder\nab 14 Uhr Kaffee & Kuchen\nab 15 Uhr Unterhaltungsprogramm mit Jörg\nab 18 Uhr 7-Meter-Schießen\nEintritt: FREI \nMontag\, 18.05.2026 „Seniorennachmittag und Ausklang“\nab 14 Uhr Kaffee & Kuchen\nab 16 Uhr Unterhaltungsprogramm mit Jörg\nab 19 Uhr Kirmesausklang mit Timeless\nEintritt: FREI \nAn allen Tagen herrscht reges Kirmestreiben mit Autoscooter\, Kinderkarussell und anderen Attraktionen. \nFür Ihr leibliches Wohl ist bestens gesorgt!
URL:https://gemeinde-osburg.de/event/38-dorf-und-heimatfest-osburger-kirmes/
LOCATION:Osburg Festplatz\, Unter Wiesloch 1\, Unter Wiesloch 1\, 54317 Osburg\, 54317\, Deutschland
ATTACH;FMTTYPE=image/jpeg:https://gemeinde-osburg.de/wp-content/uploads/2026/04/Plakat-Kirmes-Osburg-2026.jpg
END:VEVENT
BEGIN:VEVENT
DTSTART;VALUE=DATE:20260516
DTEND;VALUE=DATE:20260517
DTSTAMP:20260419T155629
CREATED:20251123T090302Z
LAST-MODIFIED:20251123T090302Z
UID:10263-1778889600-1778975999@gemeinde-osburg.de
SUMMARY:5. HoWUT-2026 (HochWaldTrail)
DESCRIPTION:5. HoWUT-2026 (HochWaldTrail) mit Start und Zieleinlauf auf der Osburger Kirmes (4 Strecken; 10km / 24km / 45km / 68km) \nDie Ausschreibung mit Anmeldelink sind auf der Homepage des Veranstalters einzusehen: HochwaldTrailer.de
URL:https://gemeinde-osburg.de/event/5-howut-2026-hochwaldtrail/
LOCATION:Osburg Festplatz\, Unter Wiesloch 1\, Unter Wiesloch 1\, 54317 Osburg\, 54317\, Deutschland
ATTACH;FMTTYPE=image/png:https://gemeinde-osburg.de/wp-content/uploads/2025/11/Howut6_Frei-gross.png
ORGANIZER;CN="Hochwaldtrailer e.V.":MAILTO:info@hochwaldtrailer.de
END:VEVENT
END:VCALENDAR