BEGIN:VCALENDAR
VERSION:2.0
PRODID:-//Ortsgemeinde Osburg - ECPv6.15.20//NONSGML v1.0//EN
CALSCALE:GREGORIAN
METHOD:PUBLISH
X-ORIGINAL-URL:https://gemeinde-osburg.de
X-WR-CALDESC:Veranstaltungen für Ortsgemeinde Osburg
REFRESH-INTERVAL;VALUE=DURATION:PT1H
X-Robots-Tag:noindex
X-PUBLISHED-TTL:PT1H
BEGIN:VTIMEZONE
TZID:Europe/Berlin
BEGIN:DAYLIGHT
TZOFFSETFROM:+0100
TZOFFSETTO:+0200
TZNAME:CEST
DTSTART:20250330T010000
END:DAYLIGHT
BEGIN:STANDARD
TZOFFSETFROM:+0200
TZOFFSETTO:+0100
TZNAME:CET
DTSTART:20251026T010000
END:STANDARD
BEGIN:DAYLIGHT
TZOFFSETFROM:+0100
TZOFFSETTO:+0200
TZNAME:CEST
DTSTART:20260329T010000
END:DAYLIGHT
BEGIN:STANDARD
TZOFFSETFROM:+0200
TZOFFSETTO:+0100
TZNAME:CET
DTSTART:20261025T010000
END:STANDARD
BEGIN:DAYLIGHT
TZOFFSETFROM:+0100
TZOFFSETTO:+0200
TZNAME:CEST
DTSTART:20270328T010000
END:DAYLIGHT
BEGIN:STANDARD
TZOFFSETFROM:+0200
TZOFFSETTO:+0100
TZNAME:CET
DTSTART:20271031T010000
END:STANDARD
END:VTIMEZONE
BEGIN:VEVENT
DTSTART;TZID=Europe/Berlin:20260610T150000
DTEND;TZID=Europe/Berlin:20260610T150000
DTSTAMP:20260423T122407
CREATED:20251210T065621Z
LAST-MODIFIED:20260319T060629Z
UID:10331-1781103600-1781103600@gemeinde-osburg.de
SUMMARY:Singkreis für Senioren
DESCRIPTION:Herzliche Einladung an die Osburger Senioren zum Singkreis\n\nAm 1. Mittwoch des Monats (im Juni am 2. Mittwoch) treffen sich um 15 Uhr die Osburger Senioren zum gemeinsamen Singen im Vereinshaus des MGV\, Unterstr. 9a. \nDas Angebot wird auf ehrenamtlicher Basis angeboten und ist kostenfrei. \nWer Spaß am Singen hat\, ist herzlich eingeladen mit zu singen. Wir freuen uns auf Dein Kommen!
URL:https://gemeinde-osburg.de/event/singkreis-fuer-senioren-41/
LOCATION:Vereinshaus des MGV\, Unterstr. 9a\, Osburg\, Rheinland-Pfalz\, 54317\, Deutschland
ATTACH;FMTTYPE=image/jpeg:https://gemeinde-osburg.de/wp-content/uploads/2025/12/Singkreis-Senioren-2026-02.jpg
END:VEVENT
BEGIN:VEVENT
DTSTART;VALUE=DATE:20260613
DTEND;VALUE=DATE:20260615
DTSTAMP:20260423T122407
CREATED:20251202T201413Z
LAST-MODIFIED:20251202T201413Z
UID:10289-1781308800-1781481599@gemeinde-osburg.de
SUMMARY:Ruwertal & Hochwald erklingt
DESCRIPTION:Weitere Infos folgen…
URL:https://gemeinde-osburg.de/event/ruwertal-hochwald-erklingt/
LOCATION:Freizeitanlage „Schornstein Wald“
END:VEVENT
BEGIN:VEVENT
DTSTART;TZID=Europe/Berlin:20260621T110000
DTEND;TZID=Europe/Berlin:20260621T170000
DTSTAMP:20260423T122407
CREATED:20251202T201615Z
LAST-MODIFIED:20251202T201615Z
UID:10291-1782039600-1782061200@gemeinde-osburg.de
SUMMARY:Waldmesse
DESCRIPTION:Weitere Infos folgen…
URL:https://gemeinde-osburg.de/event/waldmesse-6/
LOCATION:Freizeitanlage „Schornstein Wald“
END:VEVENT
BEGIN:VEVENT
DTSTART;VALUE=DATE:20260628
DTEND;VALUE=DATE:20260629
DTSTAMP:20260423T122407
CREATED:20260221T194630Z
LAST-MODIFIED:20260221T194630Z
UID:10441-1782604800-1782691199@gemeinde-osburg.de
SUMMARY:"So schmeckt der Sommer" - Kräuterwanderung im Osburger Wald
DESCRIPTION:„So schmeckt der Sommer“ – Kräuterwanderung im Osburger Wald mit kleinen Leckereien aus der “Wilden Küche” \nWeitere Infos auf der Homepage von Beate Stoff → silva mirabilis | Was\, wann\, wo
URL:https://gemeinde-osburg.de/event/so-schmeckt-der-sommer-kraeuterwanderung-im-osburger-wald-5/
ATTACH;FMTTYPE=image/jpeg:https://gemeinde-osburg.de/wp-content/uploads/2019/04/Fruehling2019-e1555303747371.jpg
ORGANIZER;CN="silva-mirabilis - Beate Stoff":MAILTO:info@silva-mirabilis.de
END:VEVENT
END:VCALENDAR