BEGIN:VCALENDAR
VERSION:2.0
PRODID:-//Ortsgemeinde Osburg - ECPv6.15.20//NONSGML v1.0//EN
CALSCALE:GREGORIAN
METHOD:PUBLISH
X-ORIGINAL-URL:https://gemeinde-osburg.de
X-WR-CALDESC:Veranstaltungen für Ortsgemeinde Osburg
REFRESH-INTERVAL;VALUE=DURATION:PT1H
X-Robots-Tag:noindex
X-PUBLISHED-TTL:PT1H
BEGIN:VTIMEZONE
TZID:Europe/Berlin
BEGIN:DAYLIGHT
TZOFFSETFROM:+0100
TZOFFSETTO:+0200
TZNAME:CEST
DTSTART:20250330T010000
END:DAYLIGHT
BEGIN:STANDARD
TZOFFSETFROM:+0200
TZOFFSETTO:+0100
TZNAME:CET
DTSTART:20251026T010000
END:STANDARD
BEGIN:DAYLIGHT
TZOFFSETFROM:+0100
TZOFFSETTO:+0200
TZNAME:CEST
DTSTART:20260329T010000
END:DAYLIGHT
BEGIN:STANDARD
TZOFFSETFROM:+0200
TZOFFSETTO:+0100
TZNAME:CET
DTSTART:20261025T010000
END:STANDARD
BEGIN:DAYLIGHT
TZOFFSETFROM:+0100
TZOFFSETTO:+0200
TZNAME:CEST
DTSTART:20270328T010000
END:DAYLIGHT
BEGIN:STANDARD
TZOFFSETFROM:+0200
TZOFFSETTO:+0100
TZNAME:CET
DTSTART:20271031T010000
END:STANDARD
END:VTIMEZONE
BEGIN:VEVENT
DTSTART;TZID=Europe/Berlin:20260701T150000
DTEND;TZID=Europe/Berlin:20260701T150000
DTSTAMP:20260423T135339
CREATED:20251210T065701Z
LAST-MODIFIED:20251210T065701Z
UID:10333-1782918000-1782918000@gemeinde-osburg.de
SUMMARY:Singkreis für Senioren
DESCRIPTION:Herzliche Einladung an die Osburger Senioren zum Singkreis\n\nAm 1. Mittwoch des Monats treffen sich um 15 Uhr die Osburger Senioren zum gemeinsamen Singen im Vereinshaus des MGV\, Unterstr. 9a. \nDas Angebot wird auf ehrenamtlicher Basis angeboten und ist kostenfrei. \nWer Spaß am Singen hat\, ist herzlich eingeladen mit zu singen. Wir freuen uns auf Dein Kommen!
URL:https://gemeinde-osburg.de/event/singkreis-fuer-senioren-42/
LOCATION:Vereinshaus des MGV\, Unterstr. 9a\, Osburg\, Rheinland-Pfalz\, 54317\, Deutschland
ATTACH;FMTTYPE=image/jpeg:https://gemeinde-osburg.de/wp-content/uploads/2022/11/Logo-Singkreis-Herbert.jpg
END:VEVENT
BEGIN:VEVENT
DTSTART;VALUE=DATE:20260706
DTEND;VALUE=DATE:20260711
DTSTAMP:20260423T135339
CREATED:20251205T184434Z
LAST-MODIFIED:20260228T104613Z
UID:10296-1783296000-1783727999@gemeinde-osburg.de
SUMMARY:Juki’s Ferienfreizeit 2026 – Wald der Zeiten für Grundschulkinder
DESCRIPTION:Ferienfreizeit 2026 – Wald der Zeiten vom 6. bis 10. Juli 2026 für GRUNDSCHUL-Kinder \nTäglich von 9:00 bis 16:00 Uhr\nFreizeitanlage Schornstein-Wald\, Osburg \nTauche mit den Jukis ein in eine magische Reise durch die Zeit!\nBei unserer diesjährigen Ferienfreizeit „Wald der Zeiten“ erwartet die Kinder eine spannende Woche voller Abenteuer\, Naturerlebnisse\, Spiel\, Kreativität und Gemeinschaft mitten im Wald.\nGemeinsam erkunden wir vergangene Zeiten\, lösen Rätsel\, entdecken Geheimnisse und erleben unvergessliche Tage in der Natur. \nBetreuungszeiten\nDie reguläre Freizeit findet von 9:00 bis 16:00 Uhr statt.\nEine Notbetreuung ab 8:00 Uhr ist bei Bedarf möglich. \nKosten\n80\,00 € pro Kind (inklusive Mittagsverpflegung und Getränke)\nFür Familien mit geringem Einkommen ist eine Ermäßigung auf Anfrage möglich. \nAnmeldung – Anmeldestart: 08.03.\, 10 Uhr\nDie Anmeldung ist online möglich unter: 👉 https://bit.ly/JUKIS26 \n Kooperation\nDie Ferienfreizeit findet in Kooperation mit der Jugendpflege VG Ruwer statt. \n 
URL:https://gemeinde-osburg.de/event/jukis-ferienfreizeit/
LOCATION:Freizeitanlage „Schornstein Wald“
ATTACH;FMTTYPE=image/jpeg:https://gemeinde-osburg.de/wp-content/uploads/2025/12/Ferienfreizeit-plakat.jpg
ORGANIZER;CN="JuKi Osburg e.V.":MAILTO:jukiosburg@gmx.de
END:VEVENT
END:VCALENDAR