BEGIN:VCALENDAR
VERSION:2.0
PRODID:-//Ortsgemeinde Osburg - ECPv6.15.20//NONSGML v1.0//EN
CALSCALE:GREGORIAN
METHOD:PUBLISH
X-WR-CALNAME:Ortsgemeinde Osburg
X-ORIGINAL-URL:https://gemeinde-osburg.de
X-WR-CALDESC:Veranstaltungen für Ortsgemeinde Osburg
REFRESH-INTERVAL;VALUE=DURATION:PT1H
X-Robots-Tag:noindex
X-PUBLISHED-TTL:PT1H
BEGIN:VTIMEZONE
TZID:Europe/Berlin
BEGIN:DAYLIGHT
TZOFFSETFROM:+0100
TZOFFSETTO:+0200
TZNAME:CEST
DTSTART:20250330T010000
END:DAYLIGHT
BEGIN:STANDARD
TZOFFSETFROM:+0200
TZOFFSETTO:+0100
TZNAME:CET
DTSTART:20251026T010000
END:STANDARD
BEGIN:DAYLIGHT
TZOFFSETFROM:+0100
TZOFFSETTO:+0200
TZNAME:CEST
DTSTART:20260329T010000
END:DAYLIGHT
BEGIN:STANDARD
TZOFFSETFROM:+0200
TZOFFSETTO:+0100
TZNAME:CET
DTSTART:20261025T010000
END:STANDARD
BEGIN:DAYLIGHT
TZOFFSETFROM:+0100
TZOFFSETTO:+0200
TZNAME:CEST
DTSTART:20270328T010000
END:DAYLIGHT
BEGIN:STANDARD
TZOFFSETFROM:+0200
TZOFFSETTO:+0100
TZNAME:CET
DTSTART:20271031T010000
END:STANDARD
END:VTIMEZONE
BEGIN:VEVENT
DTSTART;TZID=Europe/Berlin:20260902T150000
DTEND;TZID=Europe/Berlin:20260902T150000
DTSTAMP:20260423T181233
CREATED:20251210T065824Z
LAST-MODIFIED:20251210T065824Z
UID:10337-1788361200-1788361200@gemeinde-osburg.de
SUMMARY:Singkreis für Senioren
DESCRIPTION:Herzliche Einladung an die Osburger Senioren zum Singkreis\n\nAm 1. Mittwoch des Monats treffen sich um 15 Uhr die Osburger Senioren zum gemeinsamen Singen im Vereinshaus des MGV\, Unterstr. 9a. \nDas Angebot wird auf ehrenamtlicher Basis angeboten und ist kostenfrei. \nWer Spaß am Singen hat\, ist herzlich eingeladen mit zu singen. Wir freuen uns auf Dein Kommen!
URL:https://gemeinde-osburg.de/event/singkreis-fuer-senioren-44/
LOCATION:Vereinshaus des MGV\, Unterstr. 9a\, Osburg\, Rheinland-Pfalz\, 54317\, Deutschland
ATTACH;FMTTYPE=image/jpeg:https://gemeinde-osburg.de/wp-content/uploads/2022/11/Logo-Singkreis-Herbert.jpg
END:VEVENT
BEGIN:VEVENT
DTSTART;VALUE=DATE:20260919
DTEND;VALUE=DATE:20260920
DTSTAMP:20260423T181233
CREATED:20251123T090112Z
LAST-MODIFIED:20260325T124620Z
UID:10259-1789776000-1789862399@gemeinde-osburg.de
SUMMARY:Wanderevent "Hochwaldgenuss"
DESCRIPTION:2. Wanderevent „Hochwaldgenuss“ in der Freizeitanlage Schornstein Wald (3 Strecken; 12\,5km / 25km / 50km) \nDie Ausschreibung mit Anmeldelink sind auf der Homepage des Veranstalters einzusehen: HochwaldTrailer.de
URL:https://gemeinde-osburg.de/event/wanderevent-hochwaldgenuss/
LOCATION:Freizeitanlage „Schornstein Wald“
ATTACH;FMTTYPE=image/jpeg:https://gemeinde-osburg.de/wp-content/uploads/2026/03/Hochwaldgenuss-09-2026.jpeg
ORGANIZER;CN="Hochwaldtrailer e.V.":MAILTO:info@hochwaldtrailer.de
END:VEVENT
BEGIN:VEVENT
DTSTART;VALUE=DATE:20260927
DTEND;VALUE=DATE:20260928
DTSTAMP:20260423T181233
CREATED:20260221T194727Z
LAST-MODIFIED:20260221T194727Z
UID:10443-1790467200-1790553599@gemeinde-osburg.de
SUMMARY:"So schmeckt der Herbst" - Kräuterwanderung im Osburger Wald
DESCRIPTION:„So schmeckt der Herbst“ – Kräuterwanderung im Osburger Wald mit kleinen Leckereien aus der “Wilden Küche” \nWeitere Infos auf der Homepage von Beate Stoff → silva mirabilis | Was\, wann\, wo
URL:https://gemeinde-osburg.de/event/so-schmeckt-der-herbst-kraeuterwanderung-im-osburger-wald-5/
ATTACH;FMTTYPE=image/jpeg:https://gemeinde-osburg.de/wp-content/uploads/2019/04/Fruehling2019-e1555303747371.jpg
ORGANIZER;CN="silva-mirabilis - Beate Stoff":MAILTO:info@silva-mirabilis.de
END:VEVENT
END:VCALENDAR